BEGIN:VCALENDAR
VERSION:2.0
PRODID:-//Hortaleza Periódico Vecinal - ECPv6.15.20//NONSGML v1.0//EN
CALSCALE:GREGORIAN
METHOD:PUBLISH
X-WR-CALNAME:Hortaleza Periódico Vecinal
X-ORIGINAL-URL:https://www.periodicohortaleza.org
X-WR-CALDESC:Eventos para Hortaleza Periódico Vecinal
REFRESH-INTERVAL;VALUE=DURATION:PT1H
X-Robots-Tag:noindex
X-PUBLISHED-TTL:PT1H
BEGIN:VTIMEZONE
TZID:Europe/Madrid
BEGIN:DAYLIGHT
TZOFFSETFROM:+0100
TZOFFSETTO:+0200
TZNAME:CEST
DTSTART:20210328T010000
END:DAYLIGHT
BEGIN:STANDARD
TZOFFSETFROM:+0200
TZOFFSETTO:+0100
TZNAME:CET
DTSTART:20211031T010000
END:STANDARD
BEGIN:DAYLIGHT
TZOFFSETFROM:+0100
TZOFFSETTO:+0200
TZNAME:CEST
DTSTART:20220327T010000
END:DAYLIGHT
BEGIN:STANDARD
TZOFFSETFROM:+0200
TZOFFSETTO:+0100
TZNAME:CET
DTSTART:20221030T010000
END:STANDARD
BEGIN:DAYLIGHT
TZOFFSETFROM:+0100
TZOFFSETTO:+0200
TZNAME:CEST
DTSTART:20230326T010000
END:DAYLIGHT
BEGIN:STANDARD
TZOFFSETFROM:+0200
TZOFFSETTO:+0100
TZNAME:CET
DTSTART:20231029T010000
END:STANDARD
BEGIN:DAYLIGHT
TZOFFSETFROM:+0100
TZOFFSETTO:+0200
TZNAME:CEST
DTSTART:20240331T010000
END:DAYLIGHT
BEGIN:STANDARD
TZOFFSETFROM:+0200
TZOFFSETTO:+0100
TZNAME:CET
DTSTART:20241027T010000
END:STANDARD
BEGIN:DAYLIGHT
TZOFFSETFROM:+0100
TZOFFSETTO:+0200
TZNAME:CEST
DTSTART:20250330T010000
END:DAYLIGHT
BEGIN:STANDARD
TZOFFSETFROM:+0200
TZOFFSETTO:+0100
TZNAME:CET
DTSTART:20251026T010000
END:STANDARD
END:VTIMEZONE
BEGIN:VEVENT
DTSTART;TZID=Europe/Madrid:20240421T130000
DTEND;TZID=Europe/Madrid:20240421T130000
DTSTAMP:20260419T164449
CREATED:20240401T123019Z
LAST-MODIFIED:20240401T123019Z
UID:10004012-1713704400-1713704400@www.periodicohortaleza.org
SUMMARY:Feria de Abril 2024 en la UVA de Hortaleza
DESCRIPTION:El domingo 21 de abril a partir de las 13.00 horas\, la Feria de Abril llega a Hortaleza gracias a la Hermandad de Nuestra Señora del Rocío del distrito\, que se reúne desde hace más de 30 años en su local situado en la plaza de la Parroquia San Martín de Porres (calle Abegondo\, 28)\, en el barrio de la UVA de Hortaleza. \nLa Hermandad invita este domingo al vecindario a celebrar la Feria de Abril en la plaza frente a la parroquia (en caso de lluvia\, las actividades se trasladarán a su local). \nHabrá música flamenca y baile\, además de un concurso: acude a la feria con tu traje flamenco y llévate una sorpresa. \nTodo ello regado con un buen rebujito\, acompañado de salmorejo\, cazón en adobo\, paella\, bocadillos o pescaíto frito a precios populares.
URL:https://www.periodicohortaleza.org/evento/feria-de-abril-2024-en-la-uva-de-hortaleza/
LOCATION:Plaza de la Parroquia San Martín de Porres\, Calle Abegondo\, 28\, Madrid\, Madrid\, 28033\, España
ATTACH;FMTTYPE=image/jpeg:https://www.periodicohortaleza.org/wp-content/uploads/2023/04/HPV66-Hermandad-Rociera-1280x640-1.jpg
END:VEVENT
BEGIN:VEVENT
DTSTART;TZID=Europe/Madrid:20230514T113000
DTEND;TZID=Europe/Madrid:20230514T113000
DTSTAMP:20260419T164449
CREATED:20230510T093409Z
LAST-MODIFIED:20230510T094649Z
UID:10003758-1684063800-1684063800@www.periodicohortaleza.org
SUMMARY:Procesión del Simpecado de la Hermandad de Nuestra Señora del Rocío
DESCRIPTION:El domingo 14 de mayo el Simpecado de la Hermandad de Nuestra Señora del Rocío recorre las calles de Hortaleza. \nA las 11.30 horas\, dará comiendo la misa rociera en la Parroquia San Martín de Porres (calle Abegondo\, 28)\, en el barrio de la UVA de Hortaleza\, acompañada del coro de la hermandad rociera\, donde tendrá lugar la bendición a todos aquellos peregrinos que viajarán a la aldea el próximo Pentecostés. \nPosteriormente\, entre las 12.30 y las 13.00 horas\, como cada año\, dará comienzo la procesión del Simpecado\, que recorrerá las calles Abegondo\, Abarzuza\, Miranda de Arga\, Virgen del Carmen\, Santa Susana\, Santa Adela\, Mar de las Antillas y Abertura para terminar de nuevo en Abegondo. \nRecorrido de la procesión del Simpecado. \nComo siempre\, la procesión estará acompañada de cantos\, sevillanas y vivas. Por lo que la hermandad invita al vecindario a salir a la calle a cantarle y a tocar las palmas. Si tu casa pertenece al recorrido\, no dudes en adornar tu balcón con mantones\, abanicos\, flores… \nFinalizará el recorrido en la casa Hermandad\, en la plaza de la parroquia\, para despedir a la Blanca Paloma con una Salve. \nA continuación\, habrá paella\, cante\, baile\, rifas y mucha alegría.
URL:https://www.periodicohortaleza.org/evento/procesion-del-simpecado-de-la-hermandad-de-nuestra-senora-del-rocio-2/
LOCATION:Plaza de la Parroquia San Martín de Porres\, Calle Abegondo\, 28\, Madrid\, Madrid\, 28033\, España
ATTACH;FMTTYPE=image/jpeg:https://www.periodicohortaleza.org/wp-content/uploads/2023/05/345895531_1381997882585343_6622264628224116065_n.jpg
END:VEVENT
BEGIN:VEVENT
DTSTART;TZID=Europe/Madrid:20230423T130000
DTEND;TZID=Europe/Madrid:20230423T130000
DTSTAMP:20260419T164449
CREATED:20230419T111759Z
LAST-MODIFIED:20230419T111759Z
UID:10003737-1682254800-1682254800@www.periodicohortaleza.org
SUMMARY:Feria de Abril en la UVA de Hortaleza
DESCRIPTION:El domingo 23 de abril a partir de las 13.00 horas\, la Feria de Abril llega a Hortaleza gracias a la Hermandad de Nuestra Señora del Rocío del distrito\, que se reúne desde hace más de 30 años en su local situado en la plaza de la Parroquia San Martín de Porres (calle Abegondo\, 28)\, en el barrio de la UVA de Hortaleza. \nLa Hermandad invita este domingo al vecindario a celebrar la Feria de Abril en la plaza frente a la parroquia (en caso de lluvia\, las actividades se trasladarán a su local). \nHabrá música flamenca y baile\, además de un concurso: acude a la feria con tu traje flamenco y llévate una sorpresa. \nTodo ello regado con un buen rebujito\, acompañado de salmorejo\, cazón en adobo\, paella\, bocadillos o pescaíto frito a precios populares.
URL:https://www.periodicohortaleza.org/evento/feria-de-abril-en-la-uva-de-hortaleza/
LOCATION:Plaza de la Parroquia San Martín de Porres\, Calle Abegondo\, 28\, Madrid\, Madrid\, 28033\, España
ATTACH;FMTTYPE=image/jpeg:https://www.periodicohortaleza.org/wp-content/uploads/2023/04/HPV66-Hermandad-Rociera-1280x640-1.jpg
END:VEVENT
BEGIN:VEVENT
DTSTART;TZID=Europe/Madrid:20220508T120000
DTEND;TZID=Europe/Madrid:20220508T120000
DTSTAMP:20260419T164449
CREATED:20220506T115111Z
LAST-MODIFIED:20220506T120420Z
UID:10003422-1652011200-1652011200@www.periodicohortaleza.org
SUMMARY:Procesión del Simpecado de la Hermandad de Nuestra Señora del Rocío
DESCRIPTION:El domingo 8 de mayo el Simpecado de la Hermandad de Nuestra Señora del Rocío recorre las calles de Hortaleza. \nA las 12.00 horas\, dará comiendo la misa rociera en la Parroquia San Martín de Porres (calle Abegondo\, 28)\, en el barrio de la UVA de Hortaleza\, acompañada del coro de la hermandad rociera\, donde tendrá lugar la bendición a todos aquellos peregrinos que viajarán a la aldea el próximo Pentecostés. \nPosteriormente\, sobre las 12.45 horas\, como cada año\, dará comienzo la procesión del Simpecado\, que recorrerá las calles Abegondo\, Abarzuza\, Miranda de Arga\, Virgen del Carmen\, Santa Susana\, Santa Adela\, Mar de las Antillas y Abertura para terminar de nuevo en Abegondo. \n  \nRecorrido de la procesión del Simpecado. \n  \nComo siempre\, la procesión estará acompañada de cantos\, sevillanas y vivas. Por lo que la hermandad invita al vecindario a salir a la calle a cantarle y a tocar las palmas. Si tu casa pertenece al recorrido\, no dudes en adornar tu balcón con mantones\, abanicos\, flores… \nFinalizará el recorrido en la casa Hermandad\, en la plaza de la parroquia\, para despedir a la Blanca Paloma con una Salve. \nA continuación\, habrá paella\, cante\, baile\, concursos y mucha alegría.
URL:https://www.periodicohortaleza.org/evento/procesion-del-simpecado-de-la-hermandad-de-nuestra-senora-del-rocio/
LOCATION:Plaza de la Parroquia San Martín de Porres\, Calle Abegondo\, 28\, Madrid\, Madrid\, 28033\, España
ATTACH;FMTTYPE=image/jpeg:https://www.periodicohortaleza.org/wp-content/uploads/2022/05/IMG-20220506-WA0016-1.jpg
END:VEVENT
BEGIN:VEVENT
DTSTART;TZID=Europe/Madrid:20220430T130000
DTEND;TZID=Europe/Madrid:20220430T130000
DTSTAMP:20260419T164449
CREATED:20220427T110122Z
LAST-MODIFIED:20220428T193819Z
UID:10003414-1651323600-1651323600@www.periodicohortaleza.org
SUMMARY:Feria de Abril en Hortaleza
DESCRIPTION:El sábado 30 de abril a partir de las 13.00 horas\, la Feria de Abril llega a Hortaleza gracias a la Hermandad de Nuestra Señora del Rocío del distrito\, que se reúne desde hace más de 30 años en su local situado en la plaza de la Parroquia San Martín de Porres (calle Abegondo\, 28)\, en el barrio de la UVA de Hortaleza. \nLa Hermandad invita este sábado al vecindario a celebrar la Feria de Abril en la plaza frente a la parroquia (en caso de lluvia\, las actividades se trasladarán a su local). \nHabrá música flamenca y baile\, además de un concurso: acude a la feria con tu traje flamenco y llévate una sorpresa. \nTodo ello regado con un buen rebujito\, acompañado de salmorejo\, cazón en adobo\, paella\, bocadillos o pescaíto frito a precios populares.
URL:https://www.periodicohortaleza.org/evento/feria-de-abril-en-hortaleza/
LOCATION:Plaza de la Parroquia San Martín de Porres\, Calle Abegondo\, 28\, Madrid\, Madrid\, 28033\, España
ATTACH;FMTTYPE=image/jpeg:https://www.periodicohortaleza.org/wp-content/uploads/2022/04/Hermandad-Rocio-Hortaleza.jpg
END:VEVENT
END:VCALENDAR