BEGIN:VCALENDAR
VERSION:2.0
PRODID:-//Hortaleza Periódico Vecinal - ECPv6.15.20//NONSGML v1.0//EN
CALSCALE:GREGORIAN
METHOD:PUBLISH
X-WR-CALNAME:Hortaleza Periódico Vecinal
X-ORIGINAL-URL:https://www.periodicohortaleza.org
X-WR-CALDESC:Eventos para Hortaleza Periódico Vecinal
REFRESH-INTERVAL;VALUE=DURATION:PT1H
X-Robots-Tag:noindex
X-PUBLISHED-TTL:PT1H
BEGIN:VTIMEZONE
TZID:Europe/Madrid
BEGIN:DAYLIGHT
TZOFFSETFROM:+0100
TZOFFSETTO:+0200
TZNAME:CEST
DTSTART:20170326T010000
END:DAYLIGHT
BEGIN:STANDARD
TZOFFSETFROM:+0200
TZOFFSETTO:+0100
TZNAME:CET
DTSTART:20171029T010000
END:STANDARD
BEGIN:DAYLIGHT
TZOFFSETFROM:+0100
TZOFFSETTO:+0200
TZNAME:CEST
DTSTART:20180325T010000
END:DAYLIGHT
BEGIN:STANDARD
TZOFFSETFROM:+0200
TZOFFSETTO:+0100
TZNAME:CET
DTSTART:20181028T010000
END:STANDARD
BEGIN:DAYLIGHT
TZOFFSETFROM:+0100
TZOFFSETTO:+0200
TZNAME:CEST
DTSTART:20190331T010000
END:DAYLIGHT
BEGIN:STANDARD
TZOFFSETFROM:+0200
TZOFFSETTO:+0100
TZNAME:CET
DTSTART:20191027T010000
END:STANDARD
END:VTIMEZONE
BEGIN:VEVENT
DTSTART;TZID=Europe/Madrid:20180623T120000
DTEND;TZID=Europe/Madrid:20180623T140000
DTSTAMP:20260420T003717
CREATED:20180612T115602Z
LAST-MODIFIED:20180612T115602Z
UID:10002635-1529755200-1529762400@www.periodicohortaleza.org
SUMMARY:Presentación del documental 'Fusiles o Pintadas. La lucha no violenta del pueblo saharaui' en La Moradita
DESCRIPTION:El sábado 23 de junio\, La Moradita de Hortaleza (Calle Pegaso\, 20) acoge la proyección del documental Fusiles o Pintadas. La lucha no violenta del pueblo saharaui\, que relata la lucha del pueblo saharaui para liberar su país de la ocupación marroquí. \nEl acto comenzará a las 12 horas\, la entrada es gratuita\, y participará el director del documental\, Jordi Oriola Folch\, con el que los asistentes podrán debatir tras la proyección.
URL:https://www.periodicohortaleza.org/evento/presentacion-del-documental-fusiles-o-pintadas-la-lucha-no-violenta-del-pueblo-saharaui-en-la-moradita/
LOCATION:Espacio Pegaso
ATTACH;FMTTYPE=image/jpeg:https://www.periodicohortaleza.org/wp-content/uploads/2018/06/Documental-Sahara.jpg
END:VEVENT
BEGIN:VEVENT
DTSTART;TZID=Europe/Madrid:20180622T203000
DTEND;TZID=Europe/Madrid:20180622T203000
DTSTAMP:20260420T003717
CREATED:20180621T092116Z
LAST-MODIFIED:20180622T100029Z
UID:10002337-1529699400-1529699400@www.periodicohortaleza.org
SUMMARY:CANCELADO: Debate y Fiesta del Orgullo en la Moradita de Hortaleza
DESCRIPTION:Este viernes 22 de junio\, a partir de las 20.30 horas\, se celebra en la Moradita de Hortaleza (Pegaso\, 20) una Fiesta del Orgullo\, a la que precederá un debate. \nPROGRAMA \n20.30 horas: bienvenida y presentación Observatorio LGTBI.\n20.40 horas: intervención de la secretaria de Feminismo y LGTBI\, Mariana Arce.\n20.50 horas: mesa redonda sobre diversos aspectos del activismo LGTBI. Intervienen los activistas LGTBI Ana Sanz y David Molina.\n21.50 horas: actuación de La Berraca.\n22.10 horas: fiesta.
URL:https://www.periodicohortaleza.org/evento/debate-y-fiesta-del-orgullo-en-la-moradita-de-hortaleza/
LOCATION:Espacio Pegaso
ATTACH;FMTTYPE=image/jpeg:https://www.periodicohortaleza.org/wp-content/uploads/2018/06/Orgullo.jpg
END:VEVENT
BEGIN:VEVENT
DTSTART;TZID=Europe/Madrid:20180512T210000
DTEND;TZID=Europe/Madrid:20180512T210000
DTSTAMP:20260420T003717
CREATED:20180508T071942Z
LAST-MODIFIED:20180508T071942Z
UID:10002616-1526158800-1526158800@www.periodicohortaleza.org
SUMMARY:Concierto de Rastakeltia en La Moradita
DESCRIPTION:El 12 de mayo\, a las 21.00 horas\, concierto gratuito de música celta con Rastakeltia en La Moradita (Pegaso\, 20)\, organizado por Hortaleza en Vivo.
URL:https://www.periodicohortaleza.org/evento/concierto-de-rastakeltia-en-la-moradita/
LOCATION:Espacio Pegaso
END:VEVENT
BEGIN:VEVENT
DTSTART;TZID=Europe/Madrid:20180512T100000
DTEND;TZID=Europe/Madrid:20180512T150000
DTSTAMP:20260420T003717
CREATED:20180508T072700Z
LAST-MODIFIED:20180508T072700Z
UID:10002617-1526119200-1526137200@www.periodicohortaleza.org
SUMMARY:Mercadillo y Muestra Artesanal en La Moradita
DESCRIPTION:El sábado 12 de mayo de 10.00 a 15.00 horas\, Culturas Unidas organiza un mercadillo y muestra artesanal en La Moradita (Pegaso\, 20). Habrá diversos talleres\, de ojos de dios y pintacaras\, así como un rico chocolate con churros al mediodía.
URL:https://www.periodicohortaleza.org/evento/mercadillo-y-muestra-artesanal-en-la-moradita/
LOCATION:Espacio Pegaso
END:VEVENT
BEGIN:VEVENT
DTSTART;TZID=Europe/Madrid:20180511T220000
DTEND;TZID=Europe/Madrid:20180511T220000
DTSTAMP:20260420T003717
CREATED:20180502T132141Z
LAST-MODIFIED:20180502T132247Z
UID:10002307-1526076000-1526076000@www.periodicohortaleza.org
SUMMARY:Concierto-Jam Horace Silver en La Moradita
DESCRIPTION:El viernes 11 de mayo a las 22.00 horas\, se celebra en la Moradita de Hortaleza uno de los dos únicos conciertos-jam HC tributo a Horace Silver\, el gran compositor y pianista neoyorkino y pionero del hard bop\, donde sonarán temas como «Gregory is here»\, «Sister Sadie»\, «The preacher»\, «Nicas dream» y otros. \nAdemás\, es un concierto-jam abierto a los músicos que quieran participar.
URL:https://www.periodicohortaleza.org/evento/concierto-jam-horace-silver-en-la-moradita/
LOCATION:Espacio Pegaso
END:VEVENT
BEGIN:VEVENT
DTSTART;TZID=Europe/Madrid:20180509T163000
DTEND;TZID=Europe/Madrid:20180509T173000
DTSTAMP:20260420T003717
CREATED:20180508T070751Z
LAST-MODIFIED:20180508T070751Z
UID:10002614-1525883400-1525887000@www.periodicohortaleza.org
SUMMARY:Asesoría Jurídico-Laboral en La Moradita
DESCRIPTION:Todos los miércoles de 16.30 a 17.30 horas\, asesoría jurídico-laboral gratuita para emprendedores\, autónomos y trabajadores por cuenta ajena en La Moradita (Pegaso\, 20).
URL:https://www.periodicohortaleza.org/evento/asesoria-juridico-laboral-en-la-moradita/
LOCATION:Espacio Pegaso
END:VEVENT
BEGIN:VEVENT
DTSTART;TZID=Europe/Madrid:20180508T190000
DTEND;TZID=Europe/Madrid:20180508T210000
DTSTAMP:20260420T003717
CREATED:20180502T154754Z
LAST-MODIFIED:20180502T154754Z
UID:10002603-1525806000-1525813200@www.periodicohortaleza.org
SUMMARY:Taller de Autodefensa Feminista en La Moradita
DESCRIPTION:El martes 8 de mayo de 19.00 a 21.00 horas\, nueva clase del Taller de Autodefensa Feminista en La Moradita (Pegaso\, 20). \nPrecio: 20 euros por persona al mes (duración del taller 3 meses).
URL:https://www.periodicohortaleza.org/evento/taller-de-autodefensa-feminista-en-la-moradita-2/
LOCATION:Espacio Pegaso
END:VEVENT
BEGIN:VEVENT
DTSTART;TZID=Europe/Madrid:20180421T110000
DTEND;TZID=Europe/Madrid:20180421T143000
DTSTAMP:20260420T003717
CREATED:20180418T072736Z
LAST-MODIFIED:20180418T072736Z
UID:10002300-1524308400-1524321000@www.periodicohortaleza.org
SUMMARY:Mercadillo Sostenible en La Moradita
DESCRIPTION:
URL:https://www.periodicohortaleza.org/evento/mercadillo-sostenible-en-la-moradita-2/
LOCATION:Espacio Pegaso
END:VEVENT
BEGIN:VEVENT
DTSTART;TZID=Europe/Madrid:20180420T200000
DTEND;TZID=Europe/Madrid:20180420T220000
DTSTAMP:20260420T003717
CREATED:20180418T072502Z
LAST-MODIFIED:20180418T072502Z
UID:10002298-1524254400-1524261600@www.periodicohortaleza.org
SUMMARY:Concierto: Jazzinto\, en La Moradita
DESCRIPTION:
URL:https://www.periodicohortaleza.org/evento/concierto-jazzinto-en-la-moradita/
LOCATION:Espacio Pegaso
END:VEVENT
BEGIN:VEVENT
DTSTART;TZID=Europe/Madrid:20180419T193000
DTEND;TZID=Europe/Madrid:20180419T213000
DTSTAMP:20260420T003717
CREATED:20180418T072149Z
LAST-MODIFIED:20180418T072149Z
UID:10002296-1524166200-1524173400@www.periodicohortaleza.org
SUMMARY:Coloquio sobre Sistema Mediático y Cambio Político en La Moradita
DESCRIPTION:
URL:https://www.periodicohortaleza.org/evento/coloquio-sobre-sistema-mediatico-y-cambio-politico-en-la-moradita/
LOCATION:Espacio Pegaso
END:VEVENT
BEGIN:VEVENT
DTSTART;TZID=Europe/Madrid:20180417T190000
DTEND;TZID=Europe/Madrid:20180417T210000
DTSTAMP:20260420T003717
CREATED:20180405T165155Z
LAST-MODIFIED:20180405T165155Z
UID:10002580-1523991600-1523998800@www.periodicohortaleza.org
SUMMARY:Taller de Autodefensa Feminista en La Moradita
DESCRIPTION:
URL:https://www.periodicohortaleza.org/evento/taller-de-autodefensa-feminista-en-la-moradita/
LOCATION:Espacio Pegaso
END:VEVENT
BEGIN:VEVENT
DTSTART;TZID=Europe/Madrid:20180414T200000
DTEND;TZID=Europe/Madrid:20180414T200000
DTSTAMP:20260420T003717
CREATED:20180409T173015Z
LAST-MODIFIED:20180414T145111Z
UID:10002588-1523736000-1523736000@www.periodicohortaleza.org
SUMMARY:Fiesta primer aniversario de La Moradita
DESCRIPTION:
URL:https://www.periodicohortaleza.org/evento/concierto-de-catodica-paradise-en-la-moradita/
LOCATION:Espacio Pegaso
ATTACH;FMTTYPE=image/jpeg:https://www.periodicohortaleza.org/wp-content/uploads/2018/04/IMG-20180410-WA0002.jpg
END:VEVENT
BEGIN:VEVENT
DTSTART;TZID=Europe/Madrid:20180414T113000
DTEND;TZID=Europe/Madrid:20180414T140000
DTSTAMP:20260420T003717
CREATED:20180413T141719Z
LAST-MODIFIED:20180414T152810Z
UID:10002598-1523705400-1523714400@www.periodicohortaleza.org
SUMMARY:Mesa redonda sobre la República y la Memoria y Histórica en La Moradita
DESCRIPTION:
URL:https://www.periodicohortaleza.org/evento/mesa-redonda-sobre-la-republica-y-la-memoria-y-historica-en-la-moradita/
LOCATION:Espacio Pegaso
ATTACH;FMTTYPE=image/jpeg:https://www.periodicohortaleza.org/wp-content/uploads/2018/04/Acto-Republica.jpg
END:VEVENT
BEGIN:VEVENT
DTSTART;TZID=Europe/Madrid:20180413T210000
DTEND;TZID=Europe/Madrid:20180413T210000
DTSTAMP:20260420T003717
CREATED:20180410T135116Z
LAST-MODIFIED:20180410T135116Z
UID:10002591-1523653200-1523653200@www.periodicohortaleza.org
SUMMARY:Musical: 'La última función'\, en La Moradita
DESCRIPTION:
URL:https://www.periodicohortaleza.org/evento/musical-la-ultima-funcion-en-la-moradita/
LOCATION:Espacio Pegaso
END:VEVENT
BEGIN:VEVENT
DTSTART;TZID=Europe/Madrid:20180411T170000
DTEND;TZID=Europe/Madrid:20180411T190000
DTSTAMP:20260420T003717
CREATED:20180405T170728Z
LAST-MODIFIED:20180405T170728Z
UID:10002583-1523466000-1523473200@www.periodicohortaleza.org
SUMMARY:Observatorio LGTBI en La Moradita
DESCRIPTION:
URL:https://www.periodicohortaleza.org/evento/observatorio-lgtbi-en-la-moradita-5/
LOCATION:Espacio Pegaso
END:VEVENT
BEGIN:VEVENT
DTSTART;TZID=Europe/Madrid:20180411T163000
DTEND;TZID=Europe/Madrid:20180411T173000
DTSTAMP:20260420T003717
CREATED:20180405T170547Z
LAST-MODIFIED:20180405T170547Z
UID:10002582-1523464200-1523467800@www.periodicohortaleza.org
SUMMARY:Asesoría jurídico-laboral para emprendedores\, autónomos y trabajadores por cuenta ajena en La Moradita
DESCRIPTION:
URL:https://www.periodicohortaleza.org/evento/asesoria-juridico-laboral-para-emprendedores-autonomos-y-trabajadores-por-cuenta-ajena-en-la-moradita-2/
LOCATION:Espacio Pegaso
END:VEVENT
BEGIN:VEVENT
DTSTART;TZID=Europe/Madrid:20180407T110000
DTEND;TZID=Europe/Madrid:20180407T150000
DTSTAMP:20260420T003717
CREATED:20180403T195512Z
LAST-MODIFIED:20180403T195512Z
UID:10002276-1523098800-1523113200@www.periodicohortaleza.org
SUMMARY:Muestra de Artesanía en La Moradita
DESCRIPTION:
URL:https://www.periodicohortaleza.org/evento/muestra-de-artesania-en-la-moradita-2/
LOCATION:Espacio Pegaso
END:VEVENT
BEGIN:VEVENT
DTSTART;TZID=Europe/Madrid:20180404T170000
DTEND;TZID=Europe/Madrid:20180404T190000
DTSTAMP:20260420T003717
CREATED:20180403T194742Z
LAST-MODIFIED:20180403T194742Z
UID:10002274-1522861200-1522868400@www.periodicohortaleza.org
SUMMARY:Observatorio LGTBI en La Moradita
DESCRIPTION:
URL:https://www.periodicohortaleza.org/evento/observatorio-lgtbi-en-la-moradita-4/
LOCATION:Espacio Pegaso
END:VEVENT
BEGIN:VEVENT
DTSTART;TZID=Europe/Madrid:20180404T163000
DTEND;TZID=Europe/Madrid:20180404T173000
DTSTAMP:20260420T003717
CREATED:20180403T194553Z
LAST-MODIFIED:20180403T194553Z
UID:10002272-1522859400-1522863000@www.periodicohortaleza.org
SUMMARY:Asesoría jurídico-laboral para emprendedores\, autónomos y trabajadores por cuenta ajena en La Moradita
DESCRIPTION:
URL:https://www.periodicohortaleza.org/evento/asesoria-juridico-laboral-para-emprendedores-autonomos-y-trabajadores-por-cuenta-ajena-en-la-moradita/
LOCATION:Espacio Pegaso
END:VEVENT
BEGIN:VEVENT
DTSTART;TZID=Europe/Madrid:20180323T200000
DTEND;TZID=Europe/Madrid:20180323T210000
DTSTAMP:20260420T003717
CREATED:20180320T172043Z
LAST-MODIFIED:20180320T172043Z
UID:10002568-1521835200-1521838800@www.periodicohortaleza.org
SUMMARY:Intercambio de Francés-Español en La Moradita
DESCRIPTION:
URL:https://www.periodicohortaleza.org/evento/intercambio-de-frances-espanol-en-la-moradita/
LOCATION:Espacio Pegaso
END:VEVENT
BEGIN:VEVENT
DTSTART;TZID=Europe/Madrid:20180322T193000
DTEND;TZID=Europe/Madrid:20180322T213000
DTSTAMP:20260420T003717
CREATED:20180320T171712Z
LAST-MODIFIED:20180320T171712Z
UID:10002567-1521747000-1521754200@www.periodicohortaleza.org
SUMMARY:Presentación de 'El libro negro del Ejército español' en La Moradita
DESCRIPTION:
URL:https://www.periodicohortaleza.org/evento/presentacion-de-el-libro-negro-del-ejercito-espanol-en-la-moradita/
LOCATION:Espacio Pegaso
END:VEVENT
BEGIN:VEVENT
DTSTART;TZID=Europe/Madrid:20180321T170000
DTEND;TZID=Europe/Madrid:20180321T190000
DTSTAMP:20260420T003717
CREATED:20180320T172844Z
LAST-MODIFIED:20180320T172844Z
UID:10002569-1521651600-1521658800@www.periodicohortaleza.org
SUMMARY:Observatorio LGTBI en La Moradita
DESCRIPTION:
URL:https://www.periodicohortaleza.org/evento/observatorio-lgtbi-en-la-moradita-3/
LOCATION:Espacio Pegaso
END:VEVENT
BEGIN:VEVENT
DTSTART;TZID=Europe/Madrid:20180317T190000
DTEND;TZID=Europe/Madrid:20180317T203000
DTSTAMP:20260420T003717
CREATED:20180315T091220Z
LAST-MODIFIED:20180315T091220Z
UID:10002564-1521313200-1521318600@www.periodicohortaleza.org
SUMMARY:Presentación del libro 'El pacto' en La Moradita
DESCRIPTION:
URL:https://www.periodicohortaleza.org/evento/presentacion-del-libro-el-pacto-en-la-moradita/
LOCATION:Espacio Pegaso
END:VEVENT
BEGIN:VEVENT
DTSTART;TZID=Europe/Madrid:20180314T193000
DTEND;TZID=Europe/Madrid:20180314T213000
DTSTAMP:20260420T003717
CREATED:20180313T182621Z
LAST-MODIFIED:20180313T182621Z
UID:10002562-1521055800-1521063000@www.periodicohortaleza.org
SUMMARY:¿Qué pasa con nuestras pensiones? en La Moradita
DESCRIPTION:
URL:https://www.periodicohortaleza.org/evento/que-pasa-con-nuestras-pensiones-en-la-moradita/
LOCATION:Espacio Pegaso
END:VEVENT
BEGIN:VEVENT
DTSTART;TZID=Europe/Madrid:20180314T163000
DTEND;TZID=Europe/Madrid:20180314T173000
DTSTAMP:20260420T003717
CREATED:20171102T202021Z
LAST-MODIFIED:20180219T184817Z
UID:10002477-1521045000-1521048600@www.periodicohortaleza.org
SUMMARY:Asesoria Jurídico-laboral para emprendedores\, autónomos y trabajadores por cuenta ajena
DESCRIPTION:Trámites de constitución y puesta en marcha de una empresa\nContratos\nNóminas\nFiniquitos\nModificaciones del contrato laboral\nDespidos e indemnizaciones\nPrestaciones de la Seguridad Social \n¡Gratuita!
URL:https://www.periodicohortaleza.org/evento/asesoria-juridico-laboral-para-emprendedores-autonomos-y-trabajadores-por-cuenta-ajena-3/
LOCATION:Espacio Pegaso
END:VEVENT
BEGIN:VEVENT
DTSTART;TZID=Europe/Madrid:20180310T100000
DTEND;TZID=Europe/Madrid:20180310T150000
DTSTAMP:20260420T003717
CREATED:20180306T191059Z
LAST-MODIFIED:20180306T191059Z
UID:10002260-1520676000-1520694000@www.periodicohortaleza.org
SUMMARY:Muestra de Artesanía en La Moradita
DESCRIPTION:
URL:https://www.periodicohortaleza.org/evento/muestra-de-artesania-en-la-moradita/
LOCATION:Espacio Pegaso
END:VEVENT
BEGIN:VEVENT
DTSTART;TZID=Europe/Madrid:20180309T193000
DTEND;TZID=Europe/Madrid:20180309T210000
DTSTAMP:20260420T003717
CREATED:20180306T183123Z
LAST-MODIFIED:20180309T165122Z
UID:10002252-1520623800-1520629200@www.periodicohortaleza.org
SUMMARY:Acto sobre renta básica universal en La Moradita
DESCRIPTION:
URL:https://www.periodicohortaleza.org/evento/que-pasa-con-el-trabajo-en-la-moradita/
LOCATION:Espacio Pegaso
END:VEVENT
BEGIN:VEVENT
DTSTART;TZID=Europe/Madrid:20180307T190000
DTEND;TZID=Europe/Madrid:20180307T203000
DTSTAMP:20260420T003717
CREATED:20180219T190747Z
LAST-MODIFIED:20180219T190747Z
UID:10002551-1520449200-1520454600@www.periodicohortaleza.org
SUMMARY:Asesoría legal Huelga feminista 8M
DESCRIPTION:
URL:https://www.periodicohortaleza.org/evento/asesoria-legal-huelga-feminista-8m-2/
LOCATION:Espacio Pegaso
END:VEVENT
BEGIN:VEVENT
DTSTART;TZID=Europe/Madrid:20180307T170000
DTEND;TZID=Europe/Madrid:20180307T190000
DTSTAMP:20260420T003717
CREATED:20180213T125439Z
LAST-MODIFIED:20180301T225346Z
UID:10002240-1520442000-1520449200@www.periodicohortaleza.org
SUMMARY:Observatorio LGTBI en La Moradita
DESCRIPTION:
URL:https://www.periodicohortaleza.org/evento/observatorio-lgtbi-en-la-moradita/
LOCATION:Espacio Pegaso
END:VEVENT
BEGIN:VEVENT
DTSTART;TZID=Europe/Madrid:20180307T163000
DTEND;TZID=Europe/Madrid:20180307T173000
DTSTAMP:20260420T003717
CREATED:20171102T201751Z
LAST-MODIFIED:20180219T184636Z
UID:10002475-1520440200-1520443800@www.periodicohortaleza.org
SUMMARY:Asesoria Jurídico-laboral para emprendedores\, autónomos y trabajadores por cuenta ajena
DESCRIPTION:Trámites de constitución y puesta en marcha de una empresa\nContratos\nNóminas\nFiniquitos\nModificaciones del contrato laboral\nDespidos e indemnizaciones\nPrestaciones de la Seguridad Social \n¡Gratuita!
URL:https://www.periodicohortaleza.org/evento/asesoria-juridico-laboral-para-emprendedores-autonomos-y-trabajadores-por-cuenta-ajena/
LOCATION:Espacio Pegaso
END:VEVENT
END:VCALENDAR