BEGIN:VCALENDAR
VERSION:2.0
PRODID:-//Hortaleza Periódico Vecinal - ECPv6.15.20//NONSGML v1.0//EN
CALSCALE:GREGORIAN
METHOD:PUBLISH
X-ORIGINAL-URL:https://www.periodicohortaleza.org
X-WR-CALDESC:Eventos para Hortaleza Periódico Vecinal
REFRESH-INTERVAL;VALUE=DURATION:PT1H
X-Robots-Tag:noindex
X-PUBLISHED-TTL:PT1H
BEGIN:VTIMEZONE
TZID:Europe/Madrid
BEGIN:DAYLIGHT
TZOFFSETFROM:+0100
TZOFFSETTO:+0200
TZNAME:CEST
DTSTART:20170326T010000
END:DAYLIGHT
BEGIN:STANDARD
TZOFFSETFROM:+0200
TZOFFSETTO:+0100
TZNAME:CET
DTSTART:20171029T010000
END:STANDARD
BEGIN:DAYLIGHT
TZOFFSETFROM:+0100
TZOFFSETTO:+0200
TZNAME:CEST
DTSTART:20180325T010000
END:DAYLIGHT
BEGIN:STANDARD
TZOFFSETFROM:+0200
TZOFFSETTO:+0100
TZNAME:CET
DTSTART:20181028T010000
END:STANDARD
BEGIN:DAYLIGHT
TZOFFSETFROM:+0100
TZOFFSETTO:+0200
TZNAME:CEST
DTSTART:20190331T010000
END:DAYLIGHT
BEGIN:STANDARD
TZOFFSETFROM:+0200
TZOFFSETTO:+0100
TZNAME:CET
DTSTART:20191027T010000
END:STANDARD
BEGIN:DAYLIGHT
TZOFFSETFROM:+0100
TZOFFSETTO:+0200
TZNAME:CEST
DTSTART:20200329T010000
END:DAYLIGHT
BEGIN:STANDARD
TZOFFSETFROM:+0200
TZOFFSETTO:+0100
TZNAME:CET
DTSTART:20201025T010000
END:STANDARD
END:VTIMEZONE
BEGIN:VEVENT
DTSTART;TZID=Europe/Madrid:20191122T190000
DTEND;TZID=Europe/Madrid:20191122T190000
DTSTAMP:20260419T210721
CREATED:20191104T130036Z
LAST-MODIFIED:20191113T110212Z
UID:10002902-1574449200-1574449200@www.periodicohortaleza.org
SUMMARY:Proyección del documental 'Food Coop' en el Espacio Pegaso
DESCRIPTION:El viernes 22 de noviembre\, a las 19.00 horas\, la Cooperativa La Osa proyecta el documental Food Coop (90 minutos) sobre el supermercado cooperativo Park Slope Food Coop (Brooklyn\, Nueva York) en el Espacio Pegaso (Pegaso\, 20). \nDesde 1973\, en el popular barrio de Brooklyn\, existe un supermercado cooperativo donde sus 16.000 socios trabajan 3 horas al mes para ganarse el derecho de comprar la mejor comida en Nueva York a precios increíblemente bajos. El éxito de esta cooperativa dibuja otros modelos para cambiar los sistemas de producción y distribución de alimentos. \nDespués habrá un pequeño debate para compartir ideas y responder a las preguntas que surjan.La entrada es libre y apta para todos los públicos.
URL:https://www.periodicohortaleza.org/evento/proyeccion-del-documental-food-coop-en-el-espacio-pegaso/
LOCATION:Espacio Pegaso
ATTACH;FMTTYPE=image/jpeg:https://www.periodicohortaleza.org/wp-content/uploads/2019/11/Proyección-Pegaso.jpg
END:VEVENT
BEGIN:VEVENT
DTSTART;TZID=Europe/Madrid:20190430T193000
DTEND;TZID=Europe/Madrid:20190430T193000
DTSTAMP:20260419T210721
CREATED:20190426T095008Z
LAST-MODIFIED:20190429T150922Z
UID:10002798-1556652600-1556652600@www.periodicohortaleza.org
SUMMARY:Acto de Madrid En Pie Municipalista en Hortaleza
DESCRIPTION:Madrid En Pie Municipalista celebra este martes 30 de abril un acto en La Moradita de Hortaleza\, en la calle Pegaso 20\, para presentar esta candidatura que concurrirá a las elecciones municipales del Ayuntamiento de Madrid. \nEl acto se celebra a las 19.30 horas y contará con los tres cabezas de la lista municipalista: Carlos Sánchez Mato\, Rommy Arce y Pablo Carmona.
URL:https://www.periodicohortaleza.org/evento/acto-de-madrid-en-pie-municipalista-en-hortaleza/
LOCATION:Espacio Pegaso
ATTACH;FMTTYPE=image/jpeg:https://www.periodicohortaleza.org/wp-content/uploads/2019/04/40758225603_3f80330d9f_k.jpg
END:VEVENT
BEGIN:VEVENT
DTSTART;TZID=Europe/Madrid:20190427T110000
DTEND;TZID=Europe/Madrid:20190427T140000
DTSTAMP:20260419T210721
CREATED:20190425T143133Z
LAST-MODIFIED:20190425T143133Z
UID:10002797-1556362800-1556373600@www.periodicohortaleza.org
SUMMARY:Mercadillo Agroartesano en la Moradita
DESCRIPTION:El sábado 27 de abril\, de 11.00 a 14.o0 horas\, vuelve el clásico mercadillo agroartesano a La Moradita de Hortaleza (Pegaso\, 20). Lugar de encuentro y de charla con los productores (que\, con gusto\, nos explican los tiempos de hortalizas y verduras) y también donde tomarte un refresco o una cerveza y una tapitas.
URL:https://www.periodicohortaleza.org/evento/mercadillo-agroartesano-en-la-moradita/
LOCATION:Espacio Pegaso
ATTACH;FMTTYPE=image/jpeg:https://www.periodicohortaleza.org/wp-content/uploads/2019/04/58373164_1824481564319706_2178723466289610752_n.jpg
END:VEVENT
BEGIN:VEVENT
DTSTART;TZID=Europe/Madrid:20190309T203000
DTEND;TZID=Europe/Madrid:20190309T233000
DTSTAMP:20260419T210721
CREATED:20190225T175907Z
LAST-MODIFIED:20190304T202016Z
UID:10002760-1552163400-1552174200@www.periodicohortaleza.org
SUMMARY:Fiesta de San Patricio en la Moradita
DESCRIPTION:El sábado 9 de marzo desde las 20.30 hasta las 23.30 horas\, podrá disfrutarse de la celebración previa al día de san Patricio en la Moradita de Hortaleza (Pegaso\, 20)\, en la que se contará con las actuaciones del dueto segoviano Baisleac\, con sus sonoridades celtas\, y de Third Class Band\, grupo con temas de folk irlandés\, escocés\, americano y también de la península ibérica. \nDonativo: 5 euros
URL:https://www.periodicohortaleza.org/evento/fiesta-de-san-patricio-en-la-moradita/
LOCATION:Espacio Pegaso
ATTACH;FMTTYPE=image/jpeg:https://www.periodicohortaleza.org/wp-content/uploads/2019/02/Musica-Celta-090319.jpg
END:VEVENT
BEGIN:VEVENT
DTSTART;TZID=Europe/Madrid:20190227T200000
DTEND;TZID=Europe/Madrid:20190227T210000
DTSTAMP:20260419T210721
CREATED:20190225T171855Z
LAST-MODIFIED:20190225T171855Z
UID:10002756-1551297600-1551301200@www.periodicohortaleza.org
SUMMARY:Asesoria jurídico-laboral en la Moradita
DESCRIPTION:Todos los miércoles de 20.00 a 21.00 horas\, asesoría jurídico-laboral gratuita para emprendedores\, autónomos y trabajadores por cuenta ajena en la Moradita de Hortaleza (Pegaso\, 20). Trámites de constitución y puesta en marcha de una empresa.
URL:https://www.periodicohortaleza.org/evento/asesoria-juridico-laboral-en-la-moradita-4/
LOCATION:Espacio Pegaso
ATTACH;FMTTYPE=image/jpeg:https://www.periodicohortaleza.org/wp-content/uploads/2017/11/photo_2019-01-21_20-51-26.jpg
END:VEVENT
BEGIN:VEVENT
DTSTART;TZID=Europe/Madrid:20190125T170000
DTEND;TZID=Europe/Madrid:20190125T190000
DTSTAMP:20260419T210721
CREATED:20190121T200007Z
LAST-MODIFIED:20190123T114543Z
UID:10002733-1548435600-1548442800@www.periodicohortaleza.org
SUMMARY:Ajedrez en los Barrios en la Moradita
DESCRIPTION:El viernes 25 de enero de 17.00 a 19.00 horas\, nuevo taller de ajedrez para todas las edades en la Moradita de Hortaleza (Pegaso\, 20).
URL:https://www.periodicohortaleza.org/evento/ajedrez-en-los-barrios/
LOCATION:Espacio Pegaso
ATTACH;FMTTYPE=image/jpeg:https://www.periodicohortaleza.org/wp-content/uploads/2019/01/photo_2019-01-21_20-51-20.jpg
END:VEVENT
BEGIN:VEVENT
DTSTART;TZID=Europe/Madrid:20190123T200000
DTEND;TZID=Europe/Madrid:20190123T210000
DTSTAMP:20260419T210721
CREATED:20171102T202140Z
LAST-MODIFIED:20190123T114507Z
UID:10002478-1548273600-1548277200@www.periodicohortaleza.org
SUMMARY:Asesoria jurídico-laboral en la Moradita
DESCRIPTION:Todos los miércoles de 20.00 a 21.00 horas\, asesoría jurídico-laboral gratuita para emprendedores\, autónomos y trabajadores por cuenta ajena en la Moradita de Hortaleza (Pegaso\, 20). Trámites de constitución y puesta en marcha de una empresa.
URL:https://www.periodicohortaleza.org/evento/asesoria-juridico-laboral-para-emprendedores-autonomos-y-trabajadores-por-cuenta-ajena-4/
LOCATION:Espacio Pegaso
ATTACH;FMTTYPE=image/jpeg:https://www.periodicohortaleza.org/wp-content/uploads/2017/11/photo_2019-01-21_20-51-26.jpg
END:VEVENT
BEGIN:VEVENT
DTSTART;TZID=Europe/Madrid:20181117T110000
DTEND;TZID=Europe/Madrid:20181117T140000
DTSTAMP:20260419T210721
CREATED:20181115T184912Z
LAST-MODIFIED:20181116T202708Z
UID:10002706-1542452400-1542463200@www.periodicohortaleza.org
SUMMARY:Mercadillo Sostenible en La Moradita
DESCRIPTION:El sábado 17 de noviembre\, de 11.00 a 14.o0 horas\, vuelve el mercadillo de productos agroecológicos a La Moradita de Hortaleza (Pegaso\, 20). Lugar de encuentro y de charla con los productores (que\, con gusto\, nos explican los tiempos de hortalizas y verduras\,) y también donde tomarte un refresco o una cerveza y una tapitas o disfrutar con la migas de Luis.
URL:https://www.periodicohortaleza.org/evento/mercadillo-sostenible-en-la-moradita-5/
LOCATION:Espacio Pegaso
ATTACH;FMTTYPE=image/jpeg:https://www.periodicohortaleza.org/wp-content/uploads/2018/11/IMG-20181113-WA0008.jpg
END:VEVENT
BEGIN:VEVENT
DTSTART;TZID=Europe/Madrid:20181116T210000
DTEND;TZID=Europe/Madrid:20181116T210000
DTSTAMP:20260419T210721
CREATED:20181115T184350Z
LAST-MODIFIED:20181115T184350Z
UID:10002705-1542402000-1542402000@www.periodicohortaleza.org
SUMMARY:Teatro\, sesión doble en la Moradita
DESCRIPTION:Dirigida por Cristina Sánchez Aguilar\, el viernes 16 de noviembre\, a las 21.00 horas\, se celebra una sesión doble de teatro en la Moradita de Hortaleza (Pegaso\, 20) con dos obras de Tomás Gaviro Ponce: El perdón\, con Carlos del Estal\, y La causa\, interpretada por Clairet Hernández. \nAportación económica voluntaria: 5 euros.
URL:https://www.periodicohortaleza.org/evento/teatro-sesion-doble-en-la-moradita/
LOCATION:Espacio Pegaso
ATTACH;FMTTYPE=image/jpeg:https://www.periodicohortaleza.org/wp-content/uploads/2018/11/IMG-20181113-WA0009.jpg
END:VEVENT
BEGIN:VEVENT
DTSTART;TZID=Europe/Madrid:20181026T210000
DTEND;TZID=Europe/Madrid:20181026T210000
DTSTAMP:20260419T210721
CREATED:20181017T124253Z
LAST-MODIFIED:20181017T124253Z
UID:10002691-1540587600-1540587600@www.periodicohortaleza.org
SUMMARY:Monólogo 'La incorruptible' en la Moradita
DESCRIPTION:El viernes 26 de octubre\, a las 21.00 horas\, disfruta en la Moradita de Hortaleza (Pegaso\, 20) con el monólogo cómico La incorruptible\, con Ana Plaza bajo la dirección de Antonio Moreno. Aportación económica voluntaria de 5 euros.
URL:https://www.periodicohortaleza.org/evento/monologo-la-incorruptible-en-la-moradita/
LOCATION:Espacio Pegaso
ATTACH;FMTTYPE=image/jpeg:https://www.periodicohortaleza.org/wp-content/uploads/2018/10/IMG-20181016-WA0012.jpg
END:VEVENT
BEGIN:VEVENT
DTSTART;TZID=Europe/Madrid:20181020T110000
DTEND;TZID=Europe/Madrid:20181020T143000
DTSTAMP:20260419T210721
CREATED:20181017T122702Z
LAST-MODIFIED:20181017T122702Z
UID:10002397-1540033200-1540045800@www.periodicohortaleza.org
SUMMARY:Mercadillo Sostenible en la Moradita
DESCRIPTION:El sábado 20 de octubre\, de 11.00 a 14.30 horas\, vuelve el mercadillo de productos agroecológicos a la Moradita de Hortaleza (Pegaso\, 20). Lugar de encuentro y de charla con los productores (que\, con gusto\, nos explican los tiempos de hortalizas y verduras\, etc.) y también donde tomarte un refresco o una cerveza y una tapitas o disfrutar con la migas de Luis.\n\nNo olvides que octubre es uno de los mejores meses para disfrutar de los productos de la huerta.
URL:https://www.periodicohortaleza.org/evento/mercadillo-sostenible-en-la-moradita-4/
LOCATION:Espacio Pegaso
ATTACH;FMTTYPE=image/jpeg:https://www.periodicohortaleza.org/wp-content/uploads/2018/10/IMG-20181016-WA0010.jpg
END:VEVENT
BEGIN:VEVENT
DTSTART;TZID=Europe/Madrid:20181017T200000
DTEND;TZID=Europe/Madrid:20181017T210000
DTSTAMP:20260419T210721
CREATED:20181017T113023Z
LAST-MODIFIED:20181017T113023Z
UID:10002391-1539806400-1539810000@www.periodicohortaleza.org
SUMMARY:Asesoría Jurídico-Laboral en la Moradita
DESCRIPTION:Todos los miércoles de 20.00 a 21.00 horas\, asesoría jurídico-laboral gratuita para emprendedores\, autónomos y trabajadores por cuenta ajena en la Moradita de Hortaleza (Pegaso\, 20).
URL:https://www.periodicohortaleza.org/evento/asesoria-juridico-laboral-en-la-moradita-3/
LOCATION:Espacio Pegaso
ATTACH;FMTTYPE=image/jpeg:https://www.periodicohortaleza.org/wp-content/uploads/2018/10/Asesoria1.jpg
END:VEVENT
BEGIN:VEVENT
DTSTART;TZID=Europe/Madrid:20181005T193000
DTEND;TZID=Europe/Madrid:20181005T193000
DTSTAMP:20260419T210721
CREATED:20181002T094915Z
LAST-MODIFIED:20181002T094915Z
UID:10002684-1538767800-1538767800@www.periodicohortaleza.org
SUMMARY:Acto sobre el Valle de los Caídos en la Moradita
DESCRIPTION:El viernes 5 de octubre\, a las 19.30 horas\, se celebra en la Moradita de Hortaleza (Pegaso\, 20) un acto sobre el Valle de los Caídos\, con la intervención de Paco Ferrándiz\, antropólogo social e investigador principal del proyecto “Las políticas de la memoria en la España contemporánea”; Silvia Navarro\, presidenta de la Asociación de Familiares Pro Exhumación de los Republicanos enterrados en el Valle de los Caídos; Manuela Bergerot\, responsable de Memoria Democrática de Podemos de Madrid\, y Gustavo Vallecas\, director y guionista\, cuyo corto La noche de Todos los Santos se presentará en el acto.
URL:https://www.periodicohortaleza.org/evento/acto-sobre-el-valle-de-los-caidos-en-la-moradita/
LOCATION:Espacio Pegaso
ATTACH;FMTTYPE=image/jpeg:https://www.periodicohortaleza.org/wp-content/uploads/2018/10/Valle-delosCaidos.jpg
END:VEVENT
BEGIN:VEVENT
DTSTART;TZID=Europe/Madrid:20181004T190000
DTEND;TZID=Europe/Madrid:20181004T210000
DTSTAMP:20260419T210721
CREATED:20181002T093959Z
LAST-MODIFIED:20181002T093959Z
UID:10002683-1538679600-1538686800@www.periodicohortaleza.org
SUMMARY:Taller de Economía Ecológica en la Moradita
DESCRIPTION:El jueves 4 de octubre\, de 19.00 a 21.00 horas\, de desarrollará un Taller de Economía Ecológica en la Moradita de Hortaleza (Pegaso\, 20)\, que correrá a cargo de Álvaro Gaertner Aranda\, ingeniero físico por la Universidad de Oldenburgo\, Alemania. \nEl cupo es reducido. Para inscribirse\, hay que mandar un correo electrónico a: info@lamoraditahortaleza.com
URL:https://www.periodicohortaleza.org/evento/taller-de-economia-ecologica-en-la-moradita/
LOCATION:Espacio Pegaso
ATTACH;FMTTYPE=image/jpeg:https://www.periodicohortaleza.org/wp-content/uploads/2018/10/TallerEcologia.jpg
END:VEVENT
BEGIN:VEVENT
DTSTART;TZID=Europe/Madrid:20181003T200000
DTEND;TZID=Europe/Madrid:20181003T210000
DTSTAMP:20260419T210721
CREATED:20181002T093326Z
LAST-MODIFIED:20181002T093611Z
UID:10002682-1538596800-1538600400@www.periodicohortaleza.org
SUMMARY:Asesoría Jurídico-Laboral en la Moradita
DESCRIPTION:Todos los miércoles de 20.00 a 21.00 horas\, asesoría jurídico-laboral gratuita para emprendedores\, autónomos y trabajadores por cuenta ajena en la Moradita de Hortaleza (Pegaso\, 20).
URL:https://www.periodicohortaleza.org/evento/asesoria-juridico-laboral-en-la-moradita-2/
LOCATION:Espacio Pegaso
ATTACH;FMTTYPE=image/jpeg:https://www.periodicohortaleza.org/wp-content/uploads/2018/10/Asesoria1.jpg
END:VEVENT
BEGIN:VEVENT
DTSTART;TZID=Europe/Madrid:20180915T110000
DTEND;TZID=Europe/Madrid:20180915T143000
DTSTAMP:20260419T210721
CREATED:20180912T094346Z
LAST-MODIFIED:20180912T094346Z
UID:10002671-1537009200-1537021800@www.periodicohortaleza.org
SUMMARY:Mercadillo Sostenible en la Moradita
DESCRIPTION:El sábado 15 se septiembre\, de 11.00 a 14.30 horas\, vuelve el mercadillo de productos agroecológicos a la Moradita de Hortaleza (Pegaso\, 20). Lugar de encuentro y de charla con los productores (que con gusto nos explican los tiempos de hortalizas y verduras\, etc.) y también donde tomarte un refresco o una cerveza y una tapitas o disfrutar con la migas de Luis. \n \nSeptiembre es un mes estupendo para la huerta y los puestos estarán llenos de verduras y hortalizas. ¡Te esperamos!
URL:https://www.periodicohortaleza.org/evento/mercadillo-sostenible-en-la-moradita-3/
LOCATION:Espacio Pegaso
ATTACH;FMTTYPE=image/jpeg:https://www.periodicohortaleza.org/wp-content/uploads/2018/09/mERCADILLO-150918.jpg
END:VEVENT
BEGIN:VEVENT
DTSTART;TZID=Europe/Madrid:20180721T110000
DTEND;TZID=Europe/Madrid:20180721T143000
DTSTAMP:20260419T210721
CREATED:20180718T132047Z
LAST-MODIFIED:20180718T132047Z
UID:10002653-1532170800-1532183400@www.periodicohortaleza.org
SUMMARY:Mercado Agroecológico en la Moradita de Hortaleza
DESCRIPTION:El sábado 21 de julio\, visita el mercado sostenible que se realiza en la Moradita de Hortaleza (Pegaso\, 20). De 11.00 a 14.00 horas\, podrás adquirir productos ecológicos tales como hortalizas\, aceite\, pan\, queso\, legumbres y vermú\, entre otros.
URL:https://www.periodicohortaleza.org/evento/mercado-agroecologico-en-la-moradita-de-hortaleza/
LOCATION:Espacio Pegaso
ATTACH;FMTTYPE=image/jpeg:https://www.periodicohortaleza.org/wp-content/uploads/2018/07/Mercado210718.jpg
END:VEVENT
BEGIN:VEVENT
DTSTART;TZID=Europe/Madrid:20180720T220000
DTEND;TZID=Europe/Madrid:20180720T233000
DTSTAMP:20260419T210721
CREATED:20180718T131328Z
LAST-MODIFIED:20180718T131328Z
UID:10002652-1532124000-1532129400@www.periodicohortaleza.org
SUMMARY:Noche del Mojito Cubano en la Moradita de Hortaleza
DESCRIPTION:El viernes 20 de julio\, de 22.00 a 23.30 horas\, se celebra la Noche del Mojito Cubano en la Moradita de Hortaleza (Pegaso\, 20).
URL:https://www.periodicohortaleza.org/evento/noche-del-mojito-cubano-en-la-moradita-de-hortaleza/
LOCATION:Espacio Pegaso
ATTACH;FMTTYPE=image/jpeg:https://www.periodicohortaleza.org/wp-content/uploads/2018/07/Soiree.jpg
END:VEVENT
BEGIN:VEVENT
DTSTART;TZID=Europe/Madrid:20180720T203000
DTEND;TZID=Europe/Madrid:20180720T203000
DTSTAMP:20260419T210721
CREATED:20180718T130745Z
LAST-MODIFIED:20180718T130745Z
UID:10002651-1532118600-1532118600@www.periodicohortaleza.org
SUMMARY:BARBU2 vuelve a la Moradita de Hortaleza
DESCRIPTION:El viernes 20 de julio\, a las 20.30 horas\, BARBU2 vuelve a la Moradita de Hortaleza (Pegaso\, 20) con el espectáculo Armengolas y Cuchiflenos. Canciones\, monólogos y risas aseguradas en este show gamberro de improvisación. \nAportación voluntaria de 5 euros.
URL:https://www.periodicohortaleza.org/evento/barbu2-vuelve-a-la-moradita-de-hortaleza/
LOCATION:Espacio Pegaso
ATTACH;FMTTYPE=image/jpeg:https://www.periodicohortaleza.org/wp-content/uploads/2018/07/BarbudosII.jpg
END:VEVENT
BEGIN:VEVENT
DTSTART;TZID=Europe/Madrid:20180623T210000
DTEND;TZID=Europe/Madrid:20180623T210000
DTSTAMP:20260419T210721
CREATED:20180621T093004Z
LAST-MODIFIED:20180621T093223Z
UID:10002339-1529787600-1529787600@www.periodicohortaleza.org
SUMMARY:Concierto de Paul Stocker & Jazz Friends en la Moradita de Hortaleza
DESCRIPTION:El sábado 23 de junio a las 21.00 horas\, la Moradita de Hortaleza (Pegaso\, 20) nos trae en concierto a Paul Stocker & Jazz Friends\, una orquesta de música creativa. Paul Stocker es un reputado músico y compositor de jazz estadounidense\, virtuoso del saxo que ha compartido escenarios en todo el mundo con reputados músicos como Poni Poindexter o Tete Momtoliu\, que reside actualmente en España. La orquesta Jazz Friends se basa en un concepto que explora las posibilidades creativas del jazz y otras músicas. \nAportación voluntaria: 5 €
URL:https://www.periodicohortaleza.org/evento/concierto-de-paul-stocker-jazz-friends-en-la-moradita-de-hortaleza/
LOCATION:Espacio Pegaso
ATTACH;FMTTYPE=image/jpeg:https://www.periodicohortaleza.org/wp-content/uploads/2018/06/Jazz2306.jpg
END:VEVENT
BEGIN:VEVENT
DTSTART;TZID=Europe/Madrid:20180623T120000
DTEND;TZID=Europe/Madrid:20180623T140000
DTSTAMP:20260419T210721
CREATED:20180612T115602Z
LAST-MODIFIED:20180612T115602Z
UID:10002635-1529755200-1529762400@www.periodicohortaleza.org
SUMMARY:Presentación del documental 'Fusiles o Pintadas. La lucha no violenta del pueblo saharaui' en La Moradita
DESCRIPTION:El sábado 23 de junio\, La Moradita de Hortaleza (Calle Pegaso\, 20) acoge la proyección del documental Fusiles o Pintadas. La lucha no violenta del pueblo saharaui\, que relata la lucha del pueblo saharaui para liberar su país de la ocupación marroquí. \nEl acto comenzará a las 12 horas\, la entrada es gratuita\, y participará el director del documental\, Jordi Oriola Folch\, con el que los asistentes podrán debatir tras la proyección.
URL:https://www.periodicohortaleza.org/evento/presentacion-del-documental-fusiles-o-pintadas-la-lucha-no-violenta-del-pueblo-saharaui-en-la-moradita/
LOCATION:Espacio Pegaso
ATTACH;FMTTYPE=image/jpeg:https://www.periodicohortaleza.org/wp-content/uploads/2018/06/Documental-Sahara.jpg
END:VEVENT
BEGIN:VEVENT
DTSTART;TZID=Europe/Madrid:20180622T203000
DTEND;TZID=Europe/Madrid:20180622T203000
DTSTAMP:20260419T210721
CREATED:20180621T092116Z
LAST-MODIFIED:20180622T100029Z
UID:10002337-1529699400-1529699400@www.periodicohortaleza.org
SUMMARY:CANCELADO: Debate y Fiesta del Orgullo en la Moradita de Hortaleza
DESCRIPTION:Este viernes 22 de junio\, a partir de las 20.30 horas\, se celebra en la Moradita de Hortaleza (Pegaso\, 20) una Fiesta del Orgullo\, a la que precederá un debate. \nPROGRAMA \n20.30 horas: bienvenida y presentación Observatorio LGTBI.\n20.40 horas: intervención de la secretaria de Feminismo y LGTBI\, Mariana Arce.\n20.50 horas: mesa redonda sobre diversos aspectos del activismo LGTBI. Intervienen los activistas LGTBI Ana Sanz y David Molina.\n21.50 horas: actuación de La Berraca.\n22.10 horas: fiesta.
URL:https://www.periodicohortaleza.org/evento/debate-y-fiesta-del-orgullo-en-la-moradita-de-hortaleza/
LOCATION:Espacio Pegaso
ATTACH;FMTTYPE=image/jpeg:https://www.periodicohortaleza.org/wp-content/uploads/2018/06/Orgullo.jpg
END:VEVENT
BEGIN:VEVENT
DTSTART;TZID=Europe/Madrid:20180512T210000
DTEND;TZID=Europe/Madrid:20180512T210000
DTSTAMP:20260419T210721
CREATED:20180508T071942Z
LAST-MODIFIED:20180508T071942Z
UID:10002616-1526158800-1526158800@www.periodicohortaleza.org
SUMMARY:Concierto de Rastakeltia en La Moradita
DESCRIPTION:El 12 de mayo\, a las 21.00 horas\, concierto gratuito de música celta con Rastakeltia en La Moradita (Pegaso\, 20)\, organizado por Hortaleza en Vivo.
URL:https://www.periodicohortaleza.org/evento/concierto-de-rastakeltia-en-la-moradita/
LOCATION:Espacio Pegaso
END:VEVENT
BEGIN:VEVENT
DTSTART;TZID=Europe/Madrid:20180512T100000
DTEND;TZID=Europe/Madrid:20180512T150000
DTSTAMP:20260419T210721
CREATED:20180508T072700Z
LAST-MODIFIED:20180508T072700Z
UID:10002617-1526119200-1526137200@www.periodicohortaleza.org
SUMMARY:Mercadillo y Muestra Artesanal en La Moradita
DESCRIPTION:El sábado 12 de mayo de 10.00 a 15.00 horas\, Culturas Unidas organiza un mercadillo y muestra artesanal en La Moradita (Pegaso\, 20). Habrá diversos talleres\, de ojos de dios y pintacaras\, así como un rico chocolate con churros al mediodía.
URL:https://www.periodicohortaleza.org/evento/mercadillo-y-muestra-artesanal-en-la-moradita/
LOCATION:Espacio Pegaso
END:VEVENT
BEGIN:VEVENT
DTSTART;TZID=Europe/Madrid:20180511T220000
DTEND;TZID=Europe/Madrid:20180511T220000
DTSTAMP:20260419T210721
CREATED:20180502T132141Z
LAST-MODIFIED:20180502T132247Z
UID:10002307-1526076000-1526076000@www.periodicohortaleza.org
SUMMARY:Concierto-Jam Horace Silver en La Moradita
DESCRIPTION:El viernes 11 de mayo a las 22.00 horas\, se celebra en la Moradita de Hortaleza uno de los dos únicos conciertos-jam HC tributo a Horace Silver\, el gran compositor y pianista neoyorkino y pionero del hard bop\, donde sonarán temas como «Gregory is here»\, «Sister Sadie»\, «The preacher»\, «Nicas dream» y otros. \nAdemás\, es un concierto-jam abierto a los músicos que quieran participar.
URL:https://www.periodicohortaleza.org/evento/concierto-jam-horace-silver-en-la-moradita/
LOCATION:Espacio Pegaso
END:VEVENT
BEGIN:VEVENT
DTSTART;TZID=Europe/Madrid:20180509T163000
DTEND;TZID=Europe/Madrid:20180509T173000
DTSTAMP:20260419T210721
CREATED:20180508T070751Z
LAST-MODIFIED:20180508T070751Z
UID:10002614-1525883400-1525887000@www.periodicohortaleza.org
SUMMARY:Asesoría Jurídico-Laboral en La Moradita
DESCRIPTION:Todos los miércoles de 16.30 a 17.30 horas\, asesoría jurídico-laboral gratuita para emprendedores\, autónomos y trabajadores por cuenta ajena en La Moradita (Pegaso\, 20).
URL:https://www.periodicohortaleza.org/evento/asesoria-juridico-laboral-en-la-moradita/
LOCATION:Espacio Pegaso
END:VEVENT
BEGIN:VEVENT
DTSTART;TZID=Europe/Madrid:20180508T190000
DTEND;TZID=Europe/Madrid:20180508T210000
DTSTAMP:20260419T210721
CREATED:20180502T154754Z
LAST-MODIFIED:20180502T154754Z
UID:10002603-1525806000-1525813200@www.periodicohortaleza.org
SUMMARY:Taller de Autodefensa Feminista en La Moradita
DESCRIPTION:El martes 8 de mayo de 19.00 a 21.00 horas\, nueva clase del Taller de Autodefensa Feminista en La Moradita (Pegaso\, 20). \nPrecio: 20 euros por persona al mes (duración del taller 3 meses).
URL:https://www.periodicohortaleza.org/evento/taller-de-autodefensa-feminista-en-la-moradita-2/
LOCATION:Espacio Pegaso
END:VEVENT
BEGIN:VEVENT
DTSTART;TZID=Europe/Madrid:20180421T110000
DTEND;TZID=Europe/Madrid:20180421T143000
DTSTAMP:20260419T210721
CREATED:20180418T072736Z
LAST-MODIFIED:20180418T072736Z
UID:10002300-1524308400-1524321000@www.periodicohortaleza.org
SUMMARY:Mercadillo Sostenible en La Moradita
DESCRIPTION:
URL:https://www.periodicohortaleza.org/evento/mercadillo-sostenible-en-la-moradita-2/
LOCATION:Espacio Pegaso
END:VEVENT
BEGIN:VEVENT
DTSTART;TZID=Europe/Madrid:20180420T200000
DTEND;TZID=Europe/Madrid:20180420T220000
DTSTAMP:20260419T210721
CREATED:20180418T072502Z
LAST-MODIFIED:20180418T072502Z
UID:10002298-1524254400-1524261600@www.periodicohortaleza.org
SUMMARY:Concierto: Jazzinto\, en La Moradita
DESCRIPTION:
URL:https://www.periodicohortaleza.org/evento/concierto-jazzinto-en-la-moradita/
LOCATION:Espacio Pegaso
END:VEVENT
BEGIN:VEVENT
DTSTART;TZID=Europe/Madrid:20180419T193000
DTEND;TZID=Europe/Madrid:20180419T213000
DTSTAMP:20260419T210721
CREATED:20180418T072149Z
LAST-MODIFIED:20180418T072149Z
UID:10002296-1524166200-1524173400@www.periodicohortaleza.org
SUMMARY:Coloquio sobre Sistema Mediático y Cambio Político en La Moradita
DESCRIPTION:
URL:https://www.periodicohortaleza.org/evento/coloquio-sobre-sistema-mediatico-y-cambio-politico-en-la-moradita/
LOCATION:Espacio Pegaso
END:VEVENT
END:VCALENDAR