BEGIN:VCALENDAR
VERSION:2.0
PRODID:-//Hortaleza Periódico Vecinal - ECPv6.15.20//NONSGML v1.0//EN
CALSCALE:GREGORIAN
METHOD:PUBLISH
X-ORIGINAL-URL:https://www.periodicohortaleza.org
X-WR-CALDESC:Eventos para Hortaleza Periódico Vecinal
REFRESH-INTERVAL;VALUE=DURATION:PT1H
X-Robots-Tag:noindex
X-PUBLISHED-TTL:PT1H
BEGIN:VTIMEZONE
TZID:Europe/Madrid
BEGIN:DAYLIGHT
TZOFFSETFROM:+0100
TZOFFSETTO:+0200
TZNAME:CEST
DTSTART:20160327T010000
END:DAYLIGHT
BEGIN:STANDARD
TZOFFSETFROM:+0200
TZOFFSETTO:+0100
TZNAME:CET
DTSTART:20161030T010000
END:STANDARD
BEGIN:DAYLIGHT
TZOFFSETFROM:+0100
TZOFFSETTO:+0200
TZNAME:CEST
DTSTART:20170326T010000
END:DAYLIGHT
BEGIN:STANDARD
TZOFFSETFROM:+0200
TZOFFSETTO:+0100
TZNAME:CET
DTSTART:20171029T010000
END:STANDARD
BEGIN:DAYLIGHT
TZOFFSETFROM:+0100
TZOFFSETTO:+0200
TZNAME:CEST
DTSTART:20180325T010000
END:DAYLIGHT
BEGIN:STANDARD
TZOFFSETFROM:+0200
TZOFFSETTO:+0100
TZNAME:CET
DTSTART:20181028T010000
END:STANDARD
BEGIN:DAYLIGHT
TZOFFSETFROM:+0100
TZOFFSETTO:+0200
TZNAME:CEST
DTSTART:20190331T010000
END:DAYLIGHT
BEGIN:STANDARD
TZOFFSETFROM:+0200
TZOFFSETTO:+0100
TZNAME:CET
DTSTART:20191027T010000
END:STANDARD
END:VTIMEZONE
BEGIN:VEVENT
DTSTART;TZID=Europe/Madrid:20180322T193000
DTEND;TZID=Europe/Madrid:20180322T213000
DTSTAMP:20260420T035548
CREATED:20180320T171712Z
LAST-MODIFIED:20180320T171712Z
UID:10002567-1521747000-1521754200@www.periodicohortaleza.org
SUMMARY:Presentación de 'El libro negro del Ejército español' en La Moradita
DESCRIPTION:
URL:https://www.periodicohortaleza.org/evento/presentacion-de-el-libro-negro-del-ejercito-espanol-en-la-moradita/
LOCATION:Espacio Pegaso
END:VEVENT
BEGIN:VEVENT
DTSTART;TZID=Europe/Madrid:20180321T170000
DTEND;TZID=Europe/Madrid:20180321T190000
DTSTAMP:20260420T035548
CREATED:20180320T172844Z
LAST-MODIFIED:20180320T172844Z
UID:10002569-1521651600-1521658800@www.periodicohortaleza.org
SUMMARY:Observatorio LGTBI en La Moradita
DESCRIPTION:
URL:https://www.periodicohortaleza.org/evento/observatorio-lgtbi-en-la-moradita-3/
LOCATION:Espacio Pegaso
END:VEVENT
BEGIN:VEVENT
DTSTART;TZID=Europe/Madrid:20180317T190000
DTEND;TZID=Europe/Madrid:20180317T203000
DTSTAMP:20260420T035548
CREATED:20180315T091220Z
LAST-MODIFIED:20180315T091220Z
UID:10002564-1521313200-1521318600@www.periodicohortaleza.org
SUMMARY:Presentación del libro 'El pacto' en La Moradita
DESCRIPTION:
URL:https://www.periodicohortaleza.org/evento/presentacion-del-libro-el-pacto-en-la-moradita/
LOCATION:Espacio Pegaso
END:VEVENT
BEGIN:VEVENT
DTSTART;TZID=Europe/Madrid:20180314T193000
DTEND;TZID=Europe/Madrid:20180314T213000
DTSTAMP:20260420T035548
CREATED:20180313T182621Z
LAST-MODIFIED:20180313T182621Z
UID:10002562-1521055800-1521063000@www.periodicohortaleza.org
SUMMARY:¿Qué pasa con nuestras pensiones? en La Moradita
DESCRIPTION:
URL:https://www.periodicohortaleza.org/evento/que-pasa-con-nuestras-pensiones-en-la-moradita/
LOCATION:Espacio Pegaso
END:VEVENT
BEGIN:VEVENT
DTSTART;TZID=Europe/Madrid:20180314T163000
DTEND;TZID=Europe/Madrid:20180314T173000
DTSTAMP:20260420T035548
CREATED:20171102T202021Z
LAST-MODIFIED:20180219T184817Z
UID:10002477-1521045000-1521048600@www.periodicohortaleza.org
SUMMARY:Asesoria Jurídico-laboral para emprendedores\, autónomos y trabajadores por cuenta ajena
DESCRIPTION:Trámites de constitución y puesta en marcha de una empresa\nContratos\nNóminas\nFiniquitos\nModificaciones del contrato laboral\nDespidos e indemnizaciones\nPrestaciones de la Seguridad Social \n¡Gratuita!
URL:https://www.periodicohortaleza.org/evento/asesoria-juridico-laboral-para-emprendedores-autonomos-y-trabajadores-por-cuenta-ajena-3/
LOCATION:Espacio Pegaso
END:VEVENT
BEGIN:VEVENT
DTSTART;TZID=Europe/Madrid:20180310T100000
DTEND;TZID=Europe/Madrid:20180310T150000
DTSTAMP:20260420T035548
CREATED:20180306T191059Z
LAST-MODIFIED:20180306T191059Z
UID:10002260-1520676000-1520694000@www.periodicohortaleza.org
SUMMARY:Muestra de Artesanía en La Moradita
DESCRIPTION:
URL:https://www.periodicohortaleza.org/evento/muestra-de-artesania-en-la-moradita/
LOCATION:Espacio Pegaso
END:VEVENT
BEGIN:VEVENT
DTSTART;TZID=Europe/Madrid:20180309T193000
DTEND;TZID=Europe/Madrid:20180309T210000
DTSTAMP:20260420T035548
CREATED:20180306T183123Z
LAST-MODIFIED:20180309T165122Z
UID:10002252-1520623800-1520629200@www.periodicohortaleza.org
SUMMARY:Acto sobre renta básica universal en La Moradita
DESCRIPTION:
URL:https://www.periodicohortaleza.org/evento/que-pasa-con-el-trabajo-en-la-moradita/
LOCATION:Espacio Pegaso
END:VEVENT
BEGIN:VEVENT
DTSTART;TZID=Europe/Madrid:20180307T190000
DTEND;TZID=Europe/Madrid:20180307T203000
DTSTAMP:20260420T035548
CREATED:20180219T190747Z
LAST-MODIFIED:20180219T190747Z
UID:10002551-1520449200-1520454600@www.periodicohortaleza.org
SUMMARY:Asesoría legal Huelga feminista 8M
DESCRIPTION:
URL:https://www.periodicohortaleza.org/evento/asesoria-legal-huelga-feminista-8m-2/
LOCATION:Espacio Pegaso
END:VEVENT
BEGIN:VEVENT
DTSTART;TZID=Europe/Madrid:20180307T170000
DTEND;TZID=Europe/Madrid:20180307T190000
DTSTAMP:20260420T035548
CREATED:20180213T125439Z
LAST-MODIFIED:20180301T225346Z
UID:10002240-1520442000-1520449200@www.periodicohortaleza.org
SUMMARY:Observatorio LGTBI en La Moradita
DESCRIPTION:
URL:https://www.periodicohortaleza.org/evento/observatorio-lgtbi-en-la-moradita/
LOCATION:Espacio Pegaso
END:VEVENT
BEGIN:VEVENT
DTSTART;TZID=Europe/Madrid:20180307T163000
DTEND;TZID=Europe/Madrid:20180307T173000
DTSTAMP:20260420T035548
CREATED:20171102T201751Z
LAST-MODIFIED:20180219T184636Z
UID:10002475-1520440200-1520443800@www.periodicohortaleza.org
SUMMARY:Asesoria Jurídico-laboral para emprendedores\, autónomos y trabajadores por cuenta ajena
DESCRIPTION:Trámites de constitución y puesta en marcha de una empresa\nContratos\nNóminas\nFiniquitos\nModificaciones del contrato laboral\nDespidos e indemnizaciones\nPrestaciones de la Seguridad Social \n¡Gratuita!
URL:https://www.periodicohortaleza.org/evento/asesoria-juridico-laboral-para-emprendedores-autonomos-y-trabajadores-por-cuenta-ajena/
LOCATION:Espacio Pegaso
END:VEVENT
BEGIN:VEVENT
DTSTART;TZID=Europe/Madrid:20180302T213000
DTEND;TZID=Europe/Madrid:20180302T233000
DTSTAMP:20260420T035548
CREATED:20180219T192404Z
LAST-MODIFIED:20180302T141929Z
UID:10002554-1520026200-1520033400@www.periodicohortaleza.org
SUMMARY:Jazz en La Moradita: concierto de Paul Stocker & Jazz Friends
DESCRIPTION:Paul Stocker es un reputado músico y compositor de Jazz estadounidense\, virtuoso del saxo que ha compartido escenarios en todo el mundo con reputados músicos como Poni Poindexter o Tete Momtoliu\, que reside actualmente en España. \nLa orquesta Jazz Friends se basa en un concepto que explora las posibilidades creativas del jazz y otras músicas\, y podrás disfrutarles en directo este viernes 2 de marzo en La Moradita de Hortaleza (Calle Pegaso\, 20) desde las 21.30 horas por cinco euros.
URL:https://www.periodicohortaleza.org/evento/concierto-jazz-a-cargo-de-paul-stocker-jazz-friends-orquesta-de-musica-creativa/
LOCATION:Espacio Pegaso
ATTACH;FMTTYPE=image/jpeg:https://www.periodicohortaleza.org/wp-content/uploads/2018/02/Concierto-jazz-La-Moradita.jpg
END:VEVENT
BEGIN:VEVENT
DTSTART;TZID=Europe/Madrid:20180228T200000
DTEND;TZID=Europe/Madrid:20180228T210000
DTSTAMP:20260420T035548
CREATED:20180121T174017Z
LAST-MODIFIED:20180219T184458Z
UID:10002522-1519848000-1519851600@www.periodicohortaleza.org
SUMMARY:Clases de baile
DESCRIPTION:
URL:https://www.periodicohortaleza.org/evento/clases-de-baile-2/
LOCATION:Espacio Pegaso
END:VEVENT
BEGIN:VEVENT
DTSTART;TZID=Europe/Madrid:20180228T190000
DTEND;TZID=Europe/Madrid:20180228T203000
DTSTAMP:20260420T035548
CREATED:20180219T190641Z
LAST-MODIFIED:20180219T190641Z
UID:10002550-1519844400-1519849800@www.periodicohortaleza.org
SUMMARY:Asesoría legal Huelga feminista 8M
DESCRIPTION:
URL:https://www.periodicohortaleza.org/evento/asesoria-legal-huelga-feminista-8m/
LOCATION:Espacio Pegaso
END:VEVENT
BEGIN:VEVENT
DTSTART;TZID=Europe/Madrid:20180228T163000
DTEND;TZID=Europe/Madrid:20180228T173000
DTSTAMP:20260420T035548
CREATED:20180213T125109Z
LAST-MODIFIED:20180219T184208Z
UID:10002238-1519835400-1519839000@www.periodicohortaleza.org
SUMMARY:Asesoría jurídico-laboral para emprendedores\, autónomos y trabajadores por cuenta ajena
DESCRIPTION: 
URL:https://www.periodicohortaleza.org/evento/asesoria-juridico-laboral-para-emprendedores-autonomos-y-trabajadores-por-cuenta-ajena-5/
LOCATION:Espacio Pegaso
END:VEVENT
BEGIN:VEVENT
DTSTART;TZID=Europe/Madrid:20180223T193000
DTEND;TZID=Europe/Madrid:20180223T213000
DTSTAMP:20260420T035548
CREATED:20180219T190452Z
LAST-MODIFIED:20180222T221700Z
UID:10002549-1519414200-1519421400@www.periodicohortaleza.org
SUMMARY:Debate en La Moradita: ¡Quieto todo el mundo! Políticas de Memoria
DESCRIPTION:Este viernes 23 de febrero\, La Moradita de Hortaleza (Calle Pegaso\, 20) celebra a las 19.30 horas un acto sobre políticas de Memoria en el que participarán Emilio Silva\, presidente de la Asociación por la Recuperación de la Memoria Histórica\, Carmen Pérez-Carballo\, presa política en el tardofranquismo y Txema Urkijo\, responsable de Memoria del Ayuntamiento de Madrid\, todo presentado y moderado por Manuela Bergerot\, responsable de Memoria en Podemos Madrid. \nAdemás participará Por Favor\, artista que realiza arte urbano por la Memoria y pintará en directo su última creación: Ascensión Mendieta\, la lucha es siempre dignidad.
URL:https://www.periodicohortaleza.org/evento/quieto-todo-el-mundo-politicas-de-memoria/
LOCATION:Espacio Pegaso
ATTACH;FMTTYPE=image/jpeg:https://www.periodicohortaleza.org/wp-content/uploads/2018/02/photo_2018-02-19_18-43-04.jpg
END:VEVENT
BEGIN:VEVENT
DTSTART;TZID=Europe/Madrid:20180221T170000
DTEND;TZID=Europe/Madrid:20180221T190000
DTSTAMP:20260420T035548
CREATED:20180219T160028Z
LAST-MODIFIED:20180219T160028Z
UID:10002544-1519232400-1519239600@www.periodicohortaleza.org
SUMMARY:Observatorio LGTBI en La Moradita
DESCRIPTION:
URL:https://www.periodicohortaleza.org/evento/observatorio-lgtbi-en-la-moradita-2/
LOCATION:Espacio Pegaso
END:VEVENT
BEGIN:VEVENT
DTSTART;TZID=Europe/Madrid:20180221T163000
DTEND;TZID=Europe/Madrid:20180221T173000
DTSTAMP:20260420T035548
CREATED:20180219T155819Z
LAST-MODIFIED:20180219T155819Z
UID:10002543-1519230600-1519234200@www.periodicohortaleza.org
SUMMARY:Asesoría jurídico-laboral para emprendedores y autónomos en La Moradita
DESCRIPTION:
URL:https://www.periodicohortaleza.org/evento/asesoria-juridico-laboral-para-emprendedores-y-autonomos-en-la-moradita/
LOCATION:Espacio Pegaso
END:VEVENT
BEGIN:VEVENT
DTSTART;TZID=Europe/Madrid:20180217T200000
DTEND;TZID=Europe/Madrid:20180217T233000
DTSTAMP:20260420T035548
CREATED:20180213T124334Z
LAST-MODIFIED:20180215T103251Z
UID:10002236-1518897600-1518910200@www.periodicohortaleza.org
SUMMARY:Fiesta de Carnaval en la Moradita
DESCRIPTION:El sábado 17 de febrero de las 20.00 a las 23.30 horas\, se celebra una fiesta de carnaval en la Moradita de Hortaleza (Pegaso\, 20). Habrá baile\, concursos y premios. Si eres tímido\, no importa porque tenemos kits con lo básico para la fiesta.
URL:https://www.periodicohortaleza.org/evento/fiesta-de-carnaval-en-la-moradita/
LOCATION:Espacio Pegaso
END:VEVENT
BEGIN:VEVENT
DTSTART;TZID=Europe/Madrid:20180217T110000
DTEND;TZID=Europe/Madrid:20180217T140000
DTSTAMP:20260420T035548
CREATED:20171102T203439Z
LAST-MODIFIED:20180121T173931Z
UID:10002484-1518865200-1518876000@www.periodicohortaleza.org
SUMMARY:Mercadillo ecológico en La Moradita
DESCRIPTION:
URL:https://www.periodicohortaleza.org/evento/mercadillo-ecologico-en-la-moradita-2/
LOCATION:Espacio Pegaso
END:VEVENT
BEGIN:VEVENT
DTSTART;TZID=Europe/Madrid:20180216T193000
DTEND;TZID=Europe/Madrid:20180216T213000
DTSTAMP:20260420T035548
CREATED:20180213T124003Z
LAST-MODIFIED:20180213T193513Z
UID:10002234-1518809400-1518816600@www.periodicohortaleza.org
SUMMARY:Debate sobre las reformas constitucionales con Carolina Bescansa en La Moradita
DESCRIPTION:El viernes 16 de febrero a las 19.30 horas\, La Moradita de Hortaleza (Calle Pegaso\, 20) acoge un debate sobre las reformas constitucionales con Carolina Bescansa\, diputada de Unidos Podemos y doctora en Ciencias Políticas y Sociología por la Universidad Complutense de Madrid. \n 
URL:https://www.periodicohortaleza.org/evento/debate-las-reformas-constitucionales/
LOCATION:Espacio Pegaso
ATTACH;FMTTYPE=image/jpeg:https://www.periodicohortaleza.org/wp-content/uploads/2018/02/Acto-Bescansa.jpg
END:VEVENT
BEGIN:VEVENT
DTSTART;TZID=Europe/Madrid:20180209T200000
DTEND;TZID=Europe/Madrid:20180209T220000
DTSTAMP:20260420T035548
CREATED:20180209T082639Z
LAST-MODIFIED:20180209T082639Z
UID:10002533-1518206400-1518213600@www.periodicohortaleza.org
SUMMARY:Concierto de Carlos Enrique Arce en La Moradita
DESCRIPTION:Este viernes 9 de febrero\, La Moradita de Hortaleza (Calle Pegaso\, 20) acoge\, a las 20 horas\, un concierto del cantautor cubano Carlos Enrique Arce. La entrada es libre y gratuita.
URL:https://www.periodicohortaleza.org/evento/concierto-de-carlos-enrique-arce-en-la-moradita/
LOCATION:Espacio Pegaso
ATTACH;FMTTYPE=image/jpeg:https://www.periodicohortaleza.org/wp-content/uploads/2018/02/Concierto-Carlos-Enrique-Arce.jpeg
END:VEVENT
BEGIN:VEVENT
DTSTART;TZID=Europe/Madrid:20180203T100000
DTEND;TZID=Europe/Madrid:20180203T150000
DTSTAMP:20260420T035548
CREATED:20180121T173048Z
LAST-MODIFIED:20180201T212853Z
UID:10002521-1517652000-1517670000@www.periodicohortaleza.org
SUMMARY:Mercadillo “Conociendo y uniendo culturas” – Muestra de artesanía en La Moradita
DESCRIPTION:En colaboración del Grupo de ARTESANAS UNIDAS POR EL ARTE\, integrado en la asociación y que forman parte del proyecto RESPONDIENDO de Culturas Unidas\, dirigido a 50 mujeres en riesgo de exclusión social del Distrito Centro de Madrid. \nQueremos promover y difundir un sistema de consumo alternativo que está basado en tres líneas: \nPromover y difundir el uso de productos de segunda mano. La actividad está dirigida a personas que quieran presentar aquellos objetos que ya no usan y quieran venderlos (libros\, ropa\, adornos\, etc.). \nPromover y difundir el trueque. Dirigido a cualquier persona que quiera hacer intercambio de objetos con otras personas. Se instalarán 2 mesas de 1\,20x 70 cm. aproximadamente. \nPromover y difundir la diversidad cultural a través de la artesanía. Actividad organizada por mujeres de diferentes Culturas que participan en el Programa de Igualdad de Culturas Unidas. El principal objetivo es impulsar y fomentar la artesanía intentando que la obra de estas artesanas sea mostrada y considerada en relación a su valor socio-cultural. Se instalarán  mesas  con artesanía de diferentes países\, todo hecho a mano: Jabones y Cremas Naturales\, Crochet: Amigurumis\, Bolsos y collares\, tapetes\, tops\, gorros\, cestas\, tabaqueras\, monederos\, cuadros\, etc\, en las que se mostrará la capacidad artística y la creatividad de estas mujeres.
URL:https://www.periodicohortaleza.org/evento/mercadillo-conociendo-y-uniendo-culturas-muestra-de-artesania/
LOCATION:Espacio Pegaso
END:VEVENT
BEGIN:VEVENT
DTSTART;TZID=Europe/Madrid:20180127T210000
DTEND;TZID=Europe/Madrid:20180127T223000
DTSTAMP:20260420T035548
CREATED:20180121T171602Z
LAST-MODIFIED:20180121T171602Z
UID:10002519-1517086800-1517092200@www.periodicohortaleza.org
SUMMARY:Teatro de Improvisación por el grupo Barbu2
DESCRIPTION:Prepárate a pasar hora y media de impro y risas\, música y risas\, risas y risas en La Moradita de Hortaleza.
URL:https://www.periodicohortaleza.org/evento/teatro-de-improvisacion-por-el-grupo-barbu2/
LOCATION:Espacio Pegaso
END:VEVENT
BEGIN:VEVENT
DTSTART;TZID=Europe/Madrid:20180124T200000
DTEND;TZID=Europe/Madrid:20180124T210000
DTSTAMP:20260420T035548
CREATED:20180121T172809Z
LAST-MODIFIED:20180124T120736Z
UID:10002520-1516824000-1516827600@www.periodicohortaleza.org
SUMMARY:Clases de baile en La Moradita
DESCRIPTION:
URL:https://www.periodicohortaleza.org/evento/clases-de-baile/
LOCATION:Espacio Pegaso
END:VEVENT
BEGIN:VEVENT
DTSTART;TZID=Europe/Madrid:20180119T193000
DTEND;TZID=Europe/Madrid:20180119T213000
DTSTAMP:20260420T035548
CREATED:20180119T123058Z
LAST-MODIFIED:20180119T145533Z
UID:10002516-1516390200-1516397400@www.periodicohortaleza.org
SUMMARY:Charla: 'En solidaridad con el pueblo palestino'
DESCRIPTION:El viernes 19 de enero a las 19.30 horas\, La Moradita de Hortaleza (Calle Pegaso\, 20) acoge una charla sobre la situación del pueblo palestino que contará con la participación de Jaldía Abubakra\, del Movimiento de Mujeres Palestinas Alkarama\, Liliana Cordova\, de la Red Internacional Judía Antisionista y Oli Oliva del BDS Madrid.
URL:https://www.periodicohortaleza.org/evento/en-solidaridad-con-el-pueblo-palestino/
LOCATION:Espacio Pegaso
ATTACH;FMTTYPE=image/jpeg:https://www.periodicohortaleza.org/wp-content/uploads/2018/01/Palestina.jpg
END:VEVENT
BEGIN:VEVENT
DTSTART;TZID=Europe/Madrid:20180113T120000
DTEND;TZID=Europe/Madrid:20180113T133000
DTSTAMP:20260420T035548
CREATED:20180108T131000Z
LAST-MODIFIED:20180108T131000Z
UID:10002214-1515844800-1515850200@www.periodicohortaleza.org
SUMMARY:Taller de Arte Terapia en La Moradita
DESCRIPTION:El sábado 13 de enero\, de 12 a 13.30 horas\, se imparte en la Moradita de Hortaleza (Pegaso\, 20) un taller de Arte Terapia. Todos los interesados pueden inscribirse mandando un correo electrónico al a siguiente dirección: info@lamoraditahorteleza.com. El taller no tiene coste\, pero se incluye un donativo de 6 euros para el proyecto Barro. No es necesario traer material\, está incluido.
URL:https://www.periodicohortaleza.org/evento/taller-de-arte-terapia-en-la-moradita/
LOCATION:Espacio Pegaso
END:VEVENT
BEGIN:VEVENT
DTSTART;TZID=Europe/Madrid:20180111T193000
DTEND;TZID=Europe/Madrid:20180111T210000
DTSTAMP:20260420T035548
CREATED:20180108T130317Z
LAST-MODIFIED:20180108T130317Z
UID:10002212-1515699000-1515704400@www.periodicohortaleza.org
SUMMARY:Debate sobre el Proyecto Madrid Norte con Jose Manuel Calvo\, concejal de Ahora Madrid
DESCRIPTION:El próximo 11 de enero a las 19.30 horas\, se organiza en la Moradita de Hortaleza (Pegaso\, 20) una segunda jornada informativa y de debate sobre el proyecto Madrid Norte\, a la cual asistirá Jose Manuel Calvo\, concejal de Ahora Madrid\, miembro de la Junta de Gobierno y delegado del Área de Gobierno de Desarrollo Urbano Sostenible.
URL:https://www.periodicohortaleza.org/evento/debate-sobre-el-proyecto-madrid-norte-con-jose-manuel-calvo-concejal-de-ahora-madrid/
LOCATION:Espacio Pegaso
END:VEVENT
BEGIN:VEVENT
DTSTART;TZID=Europe/Madrid:20171231T110000
DTEND;TZID=Europe/Madrid:20171231T133000
DTSTAMP:20260420T035548
CREATED:20171214T204532Z
LAST-MODIFIED:20171214T204532Z
UID:10002507-1514718000-1514727000@www.periodicohortaleza.org
SUMMARY:Taller de Iniciación al Ajedrez
DESCRIPTION:Del 26 al 31 de diciembre\, de 11.00 a 13.30 horas\, se realiza en la Moradita de Hortaleza (Pegaso\, 20)\,un taller de Iniciación al Ajedrez para niños entre 8 y 12 años. El taller se impartirá por una monitora titulada por la Federación Madrileña de Ajedrez (FMA) y Federación Española de Ajedrez (FEDA). El coste es de 5 euros por persona y día o 3 euros si se traen el tablero (mínimo 35×35) y las piezas. Para reservar una plaza\, solo hay que mandar un correo electrónico a info@lamoraditahortaleza.com.
URL:https://www.periodicohortaleza.org/evento/taller-de-iniciacion-al-ajedrez-6/
LOCATION:Espacio Pegaso
END:VEVENT
BEGIN:VEVENT
DTSTART;TZID=Europe/Madrid:20171230T110000
DTEND;TZID=Europe/Madrid:20171230T133000
DTSTAMP:20260420T035548
CREATED:20171214T204402Z
LAST-MODIFIED:20171214T204402Z
UID:10002506-1514631600-1514640600@www.periodicohortaleza.org
SUMMARY:Taller de Iniciación al Ajedrez
DESCRIPTION:Del 26 al 31 de diciembre\, de 11.00 a 13.30 horas\, se realiza en la Moradita de Hortaleza (Pegaso\, 20)\,un taller de Iniciación al Ajedrez para niños entre 8 y 12 años. El taller se impartirá por una monitora titulada por la Federación Madrileña de Ajedrez (FMA) y Federación Española de Ajedrez (FEDA). El coste es de 5 euros por persona y día o 3 euros si se traen el tablero (mínimo 35×35) y las piezas. Para reservar una plaza\, solo hay que mandar un correo electrónico a info@lamoraditahortaleza.com.
URL:https://www.periodicohortaleza.org/evento/taller-de-iniciacion-al-ajedrez-5/
LOCATION:Espacio Pegaso
END:VEVENT
BEGIN:VEVENT
DTSTART;TZID=Europe/Madrid:20171229T110000
DTEND;TZID=Europe/Madrid:20171229T133000
DTSTAMP:20260420T035548
CREATED:20171226T193310Z
LAST-MODIFIED:20171226T193310Z
UID:10002207-1514545200-1514554200@www.periodicohortaleza.org
SUMMARY:Taller de Iniciación al Ajedrez
DESCRIPTION:Del 26 al 31 de diciembre\, de 11.00 a 13.30 horas\, se realiza en la Moradita de Hortaleza (Pegaso\, 20)\,un taller de Iniciación al Ajedrez para niños entre 8 y 12 años. El taller se impartirá por una monitora titulada por la Federación Madrileña de Ajedrez (FMA) y Federación Española de Ajedrez (FEDA). El coste es de 5 euros por persona y día o 3 euros si se traen el tablero (mínimo 35×35) y las piezas. Para reservar una plaza\, solo hay que mandar un correo electrónico a info@lamoraditahortaleza.com.
URL:https://www.periodicohortaleza.org/evento/taller-de-iniciacion-al-ajedrez/
LOCATION:Espacio Pegaso
END:VEVENT
END:VCALENDAR