BEGIN:VCALENDAR
VERSION:2.0
PRODID:-//Hortaleza Periódico Vecinal - ECPv6.15.20//NONSGML v1.0//EN
CALSCALE:GREGORIAN
METHOD:PUBLISH
X-ORIGINAL-URL:https://www.periodicohortaleza.org
X-WR-CALDESC:Eventos para Hortaleza Periódico Vecinal
REFRESH-INTERVAL;VALUE=DURATION:PT1H
X-Robots-Tag:noindex
X-PUBLISHED-TTL:PT1H
BEGIN:VTIMEZONE
TZID:Europe/Madrid
BEGIN:DAYLIGHT
TZOFFSETFROM:+0100
TZOFFSETTO:+0200
TZNAME:CEST
DTSTART:20180325T010000
END:DAYLIGHT
BEGIN:STANDARD
TZOFFSETFROM:+0200
TZOFFSETTO:+0100
TZNAME:CET
DTSTART:20181028T010000
END:STANDARD
BEGIN:DAYLIGHT
TZOFFSETFROM:+0100
TZOFFSETTO:+0200
TZNAME:CEST
DTSTART:20190331T010000
END:DAYLIGHT
BEGIN:STANDARD
TZOFFSETFROM:+0200
TZOFFSETTO:+0100
TZNAME:CET
DTSTART:20191027T010000
END:STANDARD
BEGIN:DAYLIGHT
TZOFFSETFROM:+0100
TZOFFSETTO:+0200
TZNAME:CEST
DTSTART:20200329T010000
END:DAYLIGHT
BEGIN:STANDARD
TZOFFSETFROM:+0200
TZOFFSETTO:+0100
TZNAME:CET
DTSTART:20201025T010000
END:STANDARD
BEGIN:DAYLIGHT
TZOFFSETFROM:+0100
TZOFFSETTO:+0200
TZNAME:CEST
DTSTART:20210328T010000
END:DAYLIGHT
BEGIN:STANDARD
TZOFFSETFROM:+0200
TZOFFSETTO:+0100
TZNAME:CET
DTSTART:20211031T010000
END:STANDARD
BEGIN:DAYLIGHT
TZOFFSETFROM:+0100
TZOFFSETTO:+0200
TZNAME:CEST
DTSTART:20220327T010000
END:DAYLIGHT
BEGIN:STANDARD
TZOFFSETFROM:+0200
TZOFFSETTO:+0100
TZNAME:CET
DTSTART:20221030T010000
END:STANDARD
END:VTIMEZONE
BEGIN:VEVENT
DTSTART;TZID=Europe/Madrid:20210328T123000
DTEND;TZID=Europe/Madrid:20210328T123000
DTSTAMP:20260420T004711
CREATED:20210323T101639Z
LAST-MODIFIED:20210323T101639Z
UID:10003145-1616934600-1616934600@www.periodicohortaleza.org
SUMMARY:Las Primaveras de la Plaza: concierto de Tara & The Jazz Bombs
DESCRIPTION:El domingo 28 de marzo\, a partir de las 12.30 horas\, el Espacio Danos Tiempo retoma el ciclo de espectáculos al aire libre con Las Primaveras de la Plaza\, organizadas en los Jardines Josefa Arquero Hernández en el caso antiguo del pueblo de Hortaleza\, y demostrando que se puede disfrutar de una cultura segura. \nEn esta ocasión\, podremos disfrutar del concierto de jazz y swing de Tara & The Jazz Bombs\, que con su disco debut\, traen un jazz cálido y accesible\, en un espectáculo que combina la belleza explosiva del jazz de la vieja Nueva Orleans con la elegancia del swing de los años treinta. \nEs imprescindible realizar la reserva de silla a través de la plataforma entradium (donde también se pueden abonar las consumiciones)\, el uso de mascarilla y guardar la distancia de seguridad. De acuerdo a la normativa\, es preciso evitar fumar en la placita y los grupos de más de 6 personas al finalizar el evento. \n \n 
URL:https://www.periodicohortaleza.org/evento/las-primaveras-de-la-plaza-concierto-de-tara-the-jazz-bombs/
LOCATION:Jardines Josefa Arquero
ATTACH;FMTTYPE=image/jpeg:https://www.periodicohortaleza.org/wp-content/uploads/2021/03/tara.jpg
END:VEVENT
BEGIN:VEVENT
DTSTART;TZID=Europe/Madrid:20210314T123000
DTEND;TZID=Europe/Madrid:20210314T123000
DTSTAMP:20260420T004711
CREATED:20210311T104855Z
LAST-MODIFIED:20210311T104855Z
UID:10003136-1615725000-1615725000@www.periodicohortaleza.org
SUMMARY:Los Inviernos de la Plaza: concierto flamenco "Sin miedo a la libertad"
DESCRIPTION:Este domingo 14 de marzo\, a partir de las 12.30 horas\, el Espacio Danos Tiempo retoma el ciclo de espectáculos al aire libre con Los Inviernos de la Plaza\, organizados en los Jardines Josefa Arquero Hernández en el caso antiguo del pueblo de Hortaleza\, y demostrando que se puede disfrutar de una cultura segura. \nEn esta ocasión\, podremos disfrutar del concierto de flamenco «Sin miedo a la libertad»\, con Noelia La Negri Heredia a la percusión y al cante\, Marina Perea como bailaora\, Teresa Hernández a la guitarra y Eleazar El Gordo Heredia a la percusión. \nEs imprescindible realizar la reserva de silla a través de la plataforma entradium (donde también se pueden abonar las consumiciones)\, el uso de mascarilla y guardar la distancia de seguridad. De acuerdo a la normativa\, es preciso evitar fumar en la placita y los grupos de más de 6 personas al finalizar el evento. \n 
URL:https://www.periodicohortaleza.org/evento/los-inviernos-de-la-plaza-concierto-flamenco-sin-miedo-a-la-libertad/
LOCATION:Jardines Josefa Arquero
ATTACH;FMTTYPE=image/jpeg:https://www.periodicohortaleza.org/wp-content/uploads/2021/03/MGL6321-copy.jpg
END:VEVENT
BEGIN:VEVENT
DTSTART;TZID=Europe/Madrid:20201220T120000
DTEND;TZID=Europe/Madrid:20201220T120000
DTSTAMP:20260420T004711
CREATED:20201215T120815Z
LAST-MODIFIED:20201215T120815Z
UID:10003102-1608465600-1608465600@www.periodicohortaleza.org
SUMMARY:Los Otoños de la Plaza: concierto de La Estrella de David y Betacam
DESCRIPTION:Este domingo 20 de diciembre\, a partir de las 12.00 horas\, el Espacio Danos Tiempo celebra un nuevo concierto dentro del ciclo Los Otoños de la Plaza\, organizados en los Jardines Josefa Arquero Hernández en el caso antiguo del pueblo de Hortaleza. \nEsta vez\, se trata de un concierto matutino de electropop de La Estrella de David y Betacam\, juntos sobre el escenario. \nEs imprescindible realizar la reserva de silla a través de la plataforma entradium (donde también se pueden abonar las consumiciones)\, el uso de mascarilla y guardar la distancia de seguridad. De acuerdo a la normativa\, es preciso evitar fumar en la placita y los grupos de más de 6 personas al finalizar el evento. \n 
URL:https://www.periodicohortaleza.org/evento/los-otonos-de-la-plaza-concierto-de-la-estrella-de-david-y-betacam/
LOCATION:Jardines Josefa Arquero
ATTACH;FMTTYPE=image/jpeg:https://www.periodicohortaleza.org/wp-content/uploads/2020/12/Actualidad_421218972_132221780_854x640-e1608034017191.jpg
END:VEVENT
BEGIN:VEVENT
DTSTART;TZID=Europe/Madrid:20201009T193000
DTEND;TZID=Europe/Madrid:20201009T220000
DTSTAMP:20260420T004711
CREATED:20201006T124958Z
LAST-MODIFIED:20201009T161346Z
UID:10003054-1602271800-1602280800@www.periodicohortaleza.org
SUMMARY:Muestra de cine Finlandés en los Jardines de Josefa Arquero Hernández de Hortaleza
DESCRIPTION:ACTUALIZACIÓN: La muestra se celebrará finalmente a la misma hora en los jardines de la ORCAM\, en la calle Mar Caspio\, 4 \nHortaleza acoge este viernes 9 de octubre a partir de las 19.30 horas la segunda Muestra de Cine Finlandés en Madrid. Una iniciativa organizada por la asociación cultural The Hug\, entidad asentada en el barrio de Hortaleza que trabaja en crear puentes entre España y Finlandia para promover el intercambio artístico entre ambos países. \nLa muestra está patrocinada por el Instituto Iberoamericano de Finlandia y se realizará en los Jardines Josefa Arquero Hernández con la colaboración de la asociación sociocultural sin ánimo de lucro Espacio Danos Tiempo y el apoyo de la Junta Municipal de Hortaleza. \nLa entrada es libre y gratuita\, pero debido a las restricciones de aforo es imprescindible realizar la reserva de asiento a través de entradium\, donde se presentan distintas opciones: solo para ver los cortos\, solo para ver el largometraje o para ver todo el ciclo. \nEn esta plataforma\, se ha añadido también la opción de consumiciones para quien prefiera esta forma de pago para la barra en lugar de en efectivo (aparece como otra categoría de entrada). \nPROGRAMA \nCortometrajes (19.30-20.00 horas): \nLeftovers  \nDirector: Shahi Derky \nSINOPSIS \nUna joven siria que se instala en Helsinki quiere comprar un refrigerador. En el camino para llevarlo a casa\, se encuentra con diferentes personas cuyos mundos se cruzan con el de ella. \n  \n \n  \nAlonely  \nDirector: Fiona Musanga \nSINOPSIS \nUn padre está atrapado con el doloroso recuerdo de perder a su único niño\, sin haberlo encontrado nunca\, elige continuar con su vida. \n  \n \n  \nFog \nDirector: Aishe Vejdani \nSINOPSIS \nUna mujer turca lucha entre una inquietante pesadilla que tuvo y la realidad donde se encuentra: pasar un fin de semana con su marido finlandés en una cabaña en el lago. \n  \n \n  \nLargometraje (20.15-22.00 horas): \nVoid \nDirector: Aleksi Salmenperä \nSINOPSIS \nEero es un escritor cuya carrera está en una espiral descendente y está luchando mucho para escribir su nueva novela. Pihla es una ambiciosa actriz al borde de un gran avance internacional. Ninguno de los dos está dispuesto a sacrificar sus carreras\, a pesar de que su relación va peor que nunca. \nEero termina recurriendo a medidas inusuales para poder reanudar su carrera. La decidida Pihla decide hacer malabarismos con su carrera con su nuevo papel de madre. Eero y Pihla toman caminos separados para encontrar respuestas en lugares distantes como La Habana\, el océano Atlántico\, Hollywood y Laponia. \n  \n \n  \nPara evitar riesgos y la normativa COVID-19\, es importante mantener en todo momento la distancia de seguridad y el uso obligatorio de mascarilla (cubriendo nariz y boca) durante todo el evento (inicio\, duración y salida)\, así como evitar fumar en la placita y crear grupos de más de 6 personas al finalizar. \nEn caso de tener síntomas relacionados\, estar a la espera del resultado de una PCR o haber estado con un positivo\, rogamos no acudir y evitar juntarse con otras personas. \nTodas estas medidas se toman para evitar aglomeraciones y poder asegurar tanto el mantenimiento de las distancias como de las condiciones de seguridad. Por eso\, agradecemos a quienes no hayan podido realizar una reserva previa de asiento a través de la plataforma que eviten acudir al evento. \n  \n \n 
URL:https://www.periodicohortaleza.org/evento/muestra-de-cine-finlandes-en-los-jardines-de-josefa-arquero-hernandez-de-hortaleza-2020/
LOCATION:Jardines Josefa Arquero
ATTACH;FMTTYPE=image/jpeg:https://www.periodicohortaleza.org/wp-content/uploads/2020/10/Cine-finlandes-2.jpg
END:VEVENT
BEGIN:VEVENT
DTSTART;TZID=Europe/Madrid:20200930T193000
DTEND;TZID=Europe/Madrid:20200930T193000
DTSTAMP:20260420T004711
CREATED:20200927T163342Z
LAST-MODIFIED:20200928T110400Z
UID:10003049-1601494200-1601494200@www.periodicohortaleza.org
SUMMARY:Los Otoños de la Plaza: concierto en acústico de Beluga
DESCRIPTION:La asociación Danos Tiempo transforma Los Veranos de la Plaza\, su programación de conciertos estivales al aire libre en el casco antiguo de Hortaleza\, por Los Otoños de la Plaza\, que este miércoles 30 de septiembre ofrecen la actuación en acústico del grupo Beluga en los jardines Josefa Arquero de la calle Mar de Japón. \nEl concierto se celebrará a las 19.30 horas con aforo limitado y previa reserva de silla\, que se puede hacer en este enlace\, para mantener la distancia de seguridad entre asistentes\, que tendrán que acudir con mascarilla. \nBeluga regresan a Hortaleza con su sonido propio\, con base de rock e influencias eclécticas\, agresivo y preciosista a partes iguales. Su directo intenso y visceral mantiene un perfecto equilibrio entre lo arrollador y lo emocionante.
URL:https://www.periodicohortaleza.org/evento/los-otonos-de-la-plaza-concierto-en-acustico-de-beluga/
LOCATION:Jardines Josefa Arquero
CATEGORIES:Cultura
ATTACH;FMTTYPE=image/jpeg:https://www.periodicohortaleza.org/wp-content/uploads/2020/09/Beluga.jpg
END:VEVENT
BEGIN:VEVENT
DTSTART;TZID=Europe/Madrid:20200906T200000
DTEND;TZID=Europe/Madrid:20200906T200000
DTSTAMP:20260420T004711
CREATED:20200831T090521Z
LAST-MODIFIED:20200904T171155Z
UID:10003032-1599422400-1599422400@www.periodicohortaleza.org
SUMMARY:Los Veranos de la Plaza de Danos Tiempo: concierto de María Toro y David Sancho
DESCRIPTION:La iniciativa Los Veranos en la Plaza que organiza la asociación Danos Tiempo suma una nueva fecha a su programación de conciertos al aire libre y con medidas frente a la pandemia en los jardines Josefa Arquero Hernández con el concierto este domingo 6 de septiembre de María Toro y David Sancho. \nLa flautista gallega y el pianista madrileño actuarán a las 20 horas en este enclave del pueblo de Hortaleza. Para evitar aglomeraciones\, el aforo es limitado y desde la asociación proponen el formato “reserva tu silla” a través de entradium. \nSe puede elegir entre dos tipos de entrada: por 6\,20 euros\, y por 6 euros para quien no pueda acudir pero quiera hacer una aportación para contribuir a que la asociación resista durante el tiempo que siga teniendo cerrado el local de la asociación de la calle Mar de Bering\, sede habitual de su programación cultural. También pueden adquirirse por anticipado los tiques de las consumiciones. \nAdemás\, es obligatorio el uso de mascarilla y mantener la distancia de seguridad entre los asientos. Se puede reservar para varias personas que conviven en la misma casa\, avisando previamente para tenerlo en cuenta.
URL:https://www.periodicohortaleza.org/evento/los-veranos-de-la-plaza-de-danos-tiempo-concierto-de-maria-toro-y-david-sancho/
LOCATION:Jardines Josefa Arquero
CATEGORIES:Cultura
ATTACH;FMTTYPE=image/png:https://www.periodicohortaleza.org/wp-content/uploads/2020/08/Maria-Toro.png
END:VEVENT
BEGIN:VEVENT
DTSTART;TZID=Europe/Madrid:20200820T210000
DTEND;TZID=Europe/Madrid:20200820T210000
DTSTAMP:20260420T004711
CREATED:20200816T230018Z
LAST-MODIFIED:20200816T231351Z
UID:10003031-1597957200-1597957200@www.periodicohortaleza.org
SUMMARY:Los Veranos de la Plaza de Danos Tiempo: concierto de Luis Pastor
DESCRIPTION:El veterano cantautor Luis Pastor\, que lleva 50 años en los escenarios\, actuará este jueves 20 de agosto en los jardines Josefa Arquero Hernández del pueblo de Hortaleza\, un concierto al aire libre que forma parte de la programación de Los Veranos en la Plaza que organiza la asociación Danos Tiempo. \nEn el concierto\, programado a las 21 horas\, Luis Pastor interpretará sus canciones clásicas y presentará las de su nuevo disco La paloma de Picasso. Para evitar aglomeraciones\, el aforo será limitado y\, desde la asociación proponen el formato “reserva tu silla” a través de entradium. \nSe puede elegir entre dos tipos de entrada: por 6\,20 euros y por 6 euros\, para quien no pueda acudir\, pero quiera hacer una aportación para contribuir a que la asociación resista durante el tiempo que siga teniendo el local cerrado. También pueden adquirirse por anticipado los tiques de las consumiciones. \nAdemás\, será obligatorio el uso de mascarilla y mantener la distancia de seguridad entre los asientos. Se puede reservar para varias personas que conviven en la misma casa\, avisando previamente para tenerlo en cuenta.
URL:https://www.periodicohortaleza.org/evento/los-veranos-de-la-plaza-de-danos-tiempo-concierto-de-luis-pastor/
LOCATION:Jardines Josefa Arquero
ATTACH;FMTTYPE=image/jpeg:https://www.periodicohortaleza.org/wp-content/uploads/2020/08/Luis-Pastor.jpg
END:VEVENT
BEGIN:VEVENT
DTSTART;TZID=Europe/Madrid:20200806T210000
DTEND;TZID=Europe/Madrid:20200806T210000
DTSTAMP:20260420T004711
CREATED:20200730T104513Z
LAST-MODIFIED:20200730T104513Z
UID:10003022-1596747600-1596747600@www.periodicohortaleza.org
SUMMARY:Los Veranos de la Plaza de Danos Tiempo: concierto de Ombligo en formato trío
DESCRIPTION:El jueves 6 de agosto a las 21.00 horas\, el Espacio Danos Tiempo continúa con Los Veranos de la Plaza\, que se celebrarán durante los meses de verano en los Jardines Josefa Arquero Hernández\, con el concierto de Ombligo en formato trío. \nPara evitar aglomeraciones\, el aforo será limitado y\, desde la asociación proponen el formato “reserva tu silla” a través de entradium. \nSe puede elegir entre dos tipos de entrada: por 6\,20 euros y por 6 euros\, para quien no pueda acudir\, pero quiera hacer una aportación para contribuir a que la asociación resista durante el tiempo que siga teniendo el local cerrado. También pueden adquirirse por anticipado los tiques de las consumiciones. \nAdemás\, será obligatorio el uso de mascarilla y mantener la distancia de seguridad entre los asientos. Se puede reservar para varias personas que conviven en la misma casa\, avisando previamente para tenerlo en cuenta. \n \n 
URL:https://www.periodicohortaleza.org/evento/los-veranos-de-la-plaza-de-danos-tiempo-concierto-de-ombligo-en-formato-trio/
LOCATION:Jardines Josefa Arquero
ATTACH;FMTTYPE=image/jpeg:https://www.periodicohortaleza.org/wp-content/uploads/2020/07/109740424_2688165498066266_1049293483627901045_o.jpg
END:VEVENT
BEGIN:VEVENT
DTSTART;TZID=Europe/Madrid:20200725T210000
DTEND;TZID=Europe/Madrid:20200725T210000
DTSTAMP:20260420T004711
CREATED:20200721T095832Z
LAST-MODIFIED:20200721T103345Z
UID:10003017-1595710800-1595710800@www.periodicohortaleza.org
SUMMARY:Los Veranos de la Plaza de Danos Tiempo: concierto de Jingle Django
DESCRIPTION:El sábado 25 de julio a las 21.00 horas\, el Espacio Danos Tiempo continúa con Los Veranos de la Plaza\, que se celebrarán durante los meses de verano en los Jardines Josefa Arquero Hernández\, con el concierto del colectivo de música callejera Jingle Django. \nPara evitar aglomeraciones\, el aforo será limitado y\, desde la asociación proponen el formato “reserva tu silla” a través de entradium. \nSe puede elegir entre dos tipos de entrada: por 6\,20 euros y por 6 euros\, para quien no pueda acudir\, pero quiera hacer una aportación para contribuir a que la asociación resista durante el tiempo que siga teniendo el local cerrado. También pueden adquirirse por anticipado los tiques de las consumiciones. \nAdemás\, será obligatorio el uso de mascarilla y mantener la distancia de seguridad entre los asientos. Se puede reservar para varias personas que conviven en la misma casa\, avisando previamente para tenerlo en cuenta.
URL:https://www.periodicohortaleza.org/evento/los-veranos-de-la-plaza-de-danos-tiempo-concierto-de-jingle-django/
LOCATION:Jardines Josefa Arquero
ATTACH;FMTTYPE=image/jpeg:https://www.periodicohortaleza.org/wp-content/uploads/2020/07/87153956_1521435281342804_4612812365010829312_o.jpg
END:VEVENT
BEGIN:VEVENT
DTSTART;TZID=Europe/Madrid:20200711T210000
DTEND;TZID=Europe/Madrid:20200711T210000
DTSTAMP:20260420T004711
CREATED:20200710T135254Z
LAST-MODIFIED:20200710T135254Z
UID:10003012-1594501200-1594501200@www.periodicohortaleza.org
SUMMARY:Los Veranos de la Plaza de Danos Tiempo: concierto de Faneka
DESCRIPTION:El sábado 11 de julio a las 21.00 horas\, el Espacio Danos Tiempo presenta Los Veranos de la Plaza de Danos Tiempo\, que se celebrarán durante los meses de verano en los Jardines Josefa Arquero Hernández\, comenzando con el concierto de Faneka​. \nPara evitar aglomeraciones\, el aforo será limitado y\, desde la asociación proponen el formato “reserva tu silla” a través de entradium. \nSe puede elegir entre dos tipos de entrada: por 6 euros y por 9 euros\, para quien quiera hacer una aportación para contribuir a que la asociación resista durante el tiempo que siga teniendo el local cerrado. También existe una tercera opción\, la de fila cero\, para quien no pueda acudir\, pero quiera hacer una aportación igualmente. \nAdemás\, será obligatorio el uso de mascarilla y mantener la distancia de seguridad entre los asientos. Se puede reservar para varias personas que conviven en la misma casa\, avisando previamente para tenerlo en cuenta.
URL:https://www.periodicohortaleza.org/evento/los-veranos-de-la-plaza-de-danos-tiempo-concierto-de-faneka/
LOCATION:Jardines Josefa Arquero
ATTACH;FMTTYPE=image/jpeg:https://www.periodicohortaleza.org/wp-content/uploads/2020/07/59972456_667437303704888_3913181120413302784_o.jpg
END:VEVENT
BEGIN:VEVENT
DTSTART;TZID=Europe/Madrid:20200216T120000
DTEND;TZID=Europe/Madrid:20200216T160000
DTSTAMP:20260420T004711
CREATED:20200206T114518Z
LAST-MODIFIED:20200213T193006Z
UID:10002984-1581854400-1581868800@www.periodicohortaleza.org
SUMMARY:Sesión vermú y calçotada en los Jardines Josefa Arquero Hernández
DESCRIPTION:El domingo 16 de febrero a las 12.00 horas\, gracias al Espacio Danos Tiempo (Mar de Bering\, 5) volvemos a disfrutar de los Jardines Josefa Arquero Hernández (calle Mar de Japón)\, esta vez con una buena calçotada en formato sesión vermú\, con música en directo\, juegos tradicionales\, calçots y algo de beber y de picar. \n  \n \n  \n 
URL:https://www.periodicohortaleza.org/evento/sesion-vermu-y-calcotada-en-los-jardines-josefa-arquero-hernandez/
LOCATION:Jardines Josefa Arquero
ATTACH;FMTTYPE=image/jpeg:https://www.periodicohortaleza.org/wp-content/uploads/2019/06/SBM4092.jpg
END:VEVENT
BEGIN:VEVENT
DTSTART;TZID=Europe/Madrid:20191031T190000
DTEND;TZID=Europe/Madrid:20191031T190000
DTSTAMP:20260420T004711
CREATED:20191001T174819Z
LAST-MODIFIED:20191004T102629Z
UID:10002878-1572548400-1572548400@www.periodicohortaleza.org
SUMMARY:Fiesta de Magosto y Samaín en Hortaleza
DESCRIPTION:El jueves 31 de octubre\, a partir de las 19.00 horas\, el Espacio Danos Tiempo vuelve a celebrar en los Jardínes de Josefa Arquero de Hortaleza (antigua placita de la calle Mar de Japón) el Magosto (Fiesta de la Castaña) y el Samaín (Día de los Muertos o Halloween). \nEsta fiesta de bienvenida del otoño para grandes y para peques tendrá música celta en directo\, castañas asadas\, disfraces\, leyenda contada\, quema de rastrojos emocionales\, pintacaras\, fuego y el conjuro feminista de la queimada\, que mantendrá alejados a los malos espíritus y a las meigas y nos hará reencontrarnos con las almas que deambulan por el barrio en esta noche de Samaín o Halloween. \nSe puede ir disfrazad@ de druida\, de meiga\, de espíritu\, de esqueleto o de lo que más os apetezca. \nSi las condiciones meteorológicas no lo permiten\, se trasladará el evento al local del Espacio Danos Tiempo (Mar de Bering\, 5). \n \n 
URL:https://www.periodicohortaleza.org/evento/fiestas-de-magosto-y-samain-en-hortaleza/
LOCATION:Jardines Josefa Arquero
ATTACH;FMTTYPE=image/jpeg:https://www.periodicohortaleza.org/wp-content/uploads/2018/11/SBM5072.jpg
END:VEVENT
END:VCALENDAR