BEGIN:VCALENDAR
VERSION:2.0
PRODID:-//Hortaleza Periódico Vecinal - ECPv6.15.20//NONSGML v1.0//EN
CALSCALE:GREGORIAN
METHOD:PUBLISH
X-ORIGINAL-URL:https://www.periodicohortaleza.org
X-WR-CALDESC:Eventos para Hortaleza Periódico Vecinal
REFRESH-INTERVAL;VALUE=DURATION:PT1H
X-Robots-Tag:noindex
X-PUBLISHED-TTL:PT1H
BEGIN:VTIMEZONE
TZID:Europe/Madrid
BEGIN:DAYLIGHT
TZOFFSETFROM:+0100
TZOFFSETTO:+0200
TZNAME:CEST
DTSTART:20190331T010000
END:DAYLIGHT
BEGIN:STANDARD
TZOFFSETFROM:+0200
TZOFFSETTO:+0100
TZNAME:CET
DTSTART:20191027T010000
END:STANDARD
BEGIN:DAYLIGHT
TZOFFSETFROM:+0100
TZOFFSETTO:+0200
TZNAME:CEST
DTSTART:20200329T010000
END:DAYLIGHT
BEGIN:STANDARD
TZOFFSETFROM:+0200
TZOFFSETTO:+0100
TZNAME:CET
DTSTART:20201025T010000
END:STANDARD
BEGIN:DAYLIGHT
TZOFFSETFROM:+0100
TZOFFSETTO:+0200
TZNAME:CEST
DTSTART:20210328T010000
END:DAYLIGHT
BEGIN:STANDARD
TZOFFSETFROM:+0200
TZOFFSETTO:+0100
TZNAME:CET
DTSTART:20211031T010000
END:STANDARD
BEGIN:DAYLIGHT
TZOFFSETFROM:+0100
TZOFFSETTO:+0200
TZNAME:CEST
DTSTART:20220327T010000
END:DAYLIGHT
BEGIN:STANDARD
TZOFFSETFROM:+0200
TZOFFSETTO:+0100
TZNAME:CET
DTSTART:20221030T010000
END:STANDARD
BEGIN:DAYLIGHT
TZOFFSETFROM:+0100
TZOFFSETTO:+0200
TZNAME:CEST
DTSTART:20230326T010000
END:DAYLIGHT
BEGIN:STANDARD
TZOFFSETFROM:+0200
TZOFFSETTO:+0100
TZNAME:CET
DTSTART:20231029T010000
END:STANDARD
BEGIN:DAYLIGHT
TZOFFSETFROM:+0100
TZOFFSETTO:+0200
TZNAME:CEST
DTSTART:20240331T010000
END:DAYLIGHT
BEGIN:STANDARD
TZOFFSETFROM:+0200
TZOFFSETTO:+0100
TZNAME:CET
DTSTART:20241027T010000
END:STANDARD
BEGIN:DAYLIGHT
TZOFFSETFROM:+0100
TZOFFSETTO:+0200
TZNAME:CEST
DTSTART:20250330T010000
END:DAYLIGHT
BEGIN:STANDARD
TZOFFSETFROM:+0200
TZOFFSETTO:+0100
TZNAME:CET
DTSTART:20251026T010000
END:STANDARD
BEGIN:DAYLIGHT
TZOFFSETFROM:+0100
TZOFFSETTO:+0200
TZNAME:CEST
DTSTART:20260329T010000
END:DAYLIGHT
BEGIN:STANDARD
TZOFFSETFROM:+0200
TZOFFSETTO:+0100
TZNAME:CET
DTSTART:20261025T010000
END:STANDARD
END:VTIMEZONE
BEGIN:VEVENT
DTSTART;TZID=Europe/Madrid:20250621T120000
DTEND;TZID=Europe/Madrid:20250621T120000
DTSTAMP:20260425T212853
CREATED:20250617T113055Z
LAST-MODIFIED:20250621T104014Z
UID:10004334-1750507200-1750507200@www.periodicohortaleza.org
SUMMARY:Fiestas de Juan y Juana 2025
DESCRIPTION:La asociación vecinal La Unión de Hortaleza da la bienvenida al verano con sus ya tradicionales Fiestas de Juan y Juana (las fiestas populares del barrio Parque de Santa María)\, el sábado 21 de junio desde el mediodía en la explanada frente a su sede de la calle Santa Susana\, 55 posterior con una programación de actividades gratuitas para todas las edades. \nPROGRAMA DE LAS FIESTAS DE SAN JUAN Y JUANA 2025\n\n12.00 horas: bailando con La Unión.\n13.00 horas: batucada de Sambaleza.\n13.30 horas: primera Batalla Naval de Hortaleza.\n15.00 horas: música y barra asociativa.\n16.00 horas: jugamos al mus\, al parchís y al dominó.\n19.00 horas: taller de circo.\n20.00 horas: cuentacuentos.\n20.30 horas: manifiesto unionero.\n20.45 horas: Palestina en nuestros corazones.\n21.00 horas: concierto de Boolingas.\n21.45 horas: premio a la participación ciudadana Borja Valcárcel.\n22.00 horas: concierto de Obsolescencia Desprogramada.\n22.45 horas: concierto de Inti Riani.
URL:https://www.periodicohortaleza.org/evento/fiestas-de-san-juan-y-juana-2025/
LOCATION:Explanada de la calle Santa Susana\, Calle Santa Susana 55 posterior
ATTACH;FMTTYPE=image/jpeg:https://www.periodicohortaleza.org/wp-content/uploads/2025/06/SBM7040.jpg
END:VEVENT
BEGIN:VEVENT
DTSTART;TZID=Europe/Madrid:20241005T120000
DTEND;TZID=Europe/Madrid:20241005T140000
DTSTAMP:20260425T212853
CREATED:20241003T094512Z
LAST-MODIFIED:20241004T125734Z
UID:10004108-1728129600-1728136800@www.periodicohortaleza.org
SUMMARY:Feria Participativa de Asociaciones de Hortaleza 2024
DESCRIPTION:La Coordinadora de Entidades de Hortaleza\, que agrupa a una treintena de asociaciones del distrito\, organiza este sábado 5 de octubre en la explanada de la calle Santa Susana su propia feria de asociaciones como protesta por la exclusión de varios colectivos de la Feria de Asociaciones que organiza la Junta Municipal de Hortaleza presidida por el concejal David Pérez. \nLa Feria Participativa de Asociaciones de Hortaleza se celebra de 12.00 a 14.00 horas y contará con actividades como batucadas\, un programa en vivo de Radio Enlace y actuaciones musicales\, además de la presencia de decenas de entidades del barrio con sus mesas informativas. Una fiesta del movimiento vecinal de Hortaleza con el que arranca el curso asociativo.
URL:https://www.periodicohortaleza.org/evento/feria-participativa-de-asociaciones-de-hortaleza-2024/
LOCATION:Explanada de la calle Santa Susana\, Calle Santa Susana 55 posterior
ATTACH;FMTTYPE=image/jpeg:https://www.periodicohortaleza.org/wp-content/uploads/2019/10/SBM2416.jpg
END:VEVENT
BEGIN:VEVENT
DTSTART;TZID=Europe/Madrid:20230624T200000
DTEND;TZID=Europe/Madrid:20230625T013000
DTSTAMP:20260425T212853
CREATED:20230609T180027Z
LAST-MODIFIED:20230619T131100Z
UID:10003785-1687636800-1687656600@www.periodicohortaleza.org
SUMMARY:Fiestas de Juan y Juana 2023
DESCRIPTION:La asociación vecinal La Unión de Hortaleza dará la bienvenida al verano con su ya tradicional Fiesta de Juan y Juana (las fiestas populares del barrio Parque de Santa María)\, el sábado 24 de junio\, en la explanada frente a su sede en la calle Santa Susana\, 55 posterior. \nDurante todo el evento habrá barra asociativa y mercadillo de artesanía. \nPROGRAMA DE LAS FIESTAS DE JUAN Y JUANA 2023\n20.00 horas: comienzo del encuentro con música. \n20.30 horas: taller Hortaleza es un Mundo. \n21.00 horas: ritual Solsticio de Verano. \n21.30 horas: cena de traje\, trae algo rico de tu lugar de origen. \n22.30 horas: premio a la participación ciudadana Borja Valcárcel. \n22.45 horas: espectáculo de circo. \n23.15 horas: concierto de Últimos Pasajeros y DJ Katia. \n1.30 horas: fin del encuentro vecinal. \n  \n 
URL:https://www.periodicohortaleza.org/evento/fiestas-de-juan-y-juana-2023/
LOCATION:Explanada de la calle Santa Susana\, Calle Santa Susana 55 posterior
ATTACH;FMTTYPE=image/jpeg:https://www.periodicohortaleza.org/wp-content/uploads/2023/06/SBM5486.jpg
END:VEVENT
BEGIN:VEVENT
DTSTART;TZID=Europe/Madrid:20200919T170000
DTEND;TZID=Europe/Madrid:20200919T210000
DTSTAMP:20260425T212853
CREATED:20200909T103831Z
LAST-MODIFIED:20200909T103938Z
UID:10003036-1600534800-1600549200@www.periodicohortaleza.org
SUMMARY:Torneo de fútbol chapas en Hortaleza
DESCRIPTION:Jugar a las chapas no es una cosa del pasado. Este verano\, la asociación Alacrán 1997 organizó un primer torneo en el barrio que tendrá su continuación el sábado 19 de septiembre en la explanada de la calle Santa Susana (Calle Santa Susana 55 posterior). \nLa segunda edición del torneo de fútbol chapas se celebrará desde las 17 a las 21 horas en el mismo lugar con dos categorías: una infantil hasta los 12 años y senior para los mayores. \nPuedes inscribirte escribiendo al correo info@asociacionalacran.org o llamando al teléfono 636 513 584\, y para participar se debe abonar una cuota de tres euros que se destinará a actividades de esta asociación que trabaja con los jóvenes del barrio utilizando el deporte como herramienta de integración. \nEl torneo se celebrará cumpliendo con medidas sanitarias para evitar contagios por coronavirus\, y los partidos de chapas se disputarán en una mesa acondicionada como terreno de juego. En la organización colaboran el restaurante La Bekada\, Iber Informática y el bar Nuevo M-40.
URL:https://www.periodicohortaleza.org/evento/torneo-de-futbol-chapas-en-hortaleza/
LOCATION:Explanada de la calle Santa Susana\, Calle Santa Susana 55 posterior
CATEGORIES:Deportes
ATTACH;FMTTYPE=image/jpeg:https://www.periodicohortaleza.org/wp-content/uploads/2020/09/Torneo-de-chapas.jpg
END:VEVENT
END:VCALENDAR