BEGIN:VCALENDAR
VERSION:2.0
PRODID:-//Hortaleza Periódico Vecinal - ECPv6.15.20//NONSGML v1.0//EN
CALSCALE:GREGORIAN
METHOD:PUBLISH
X-WR-CALNAME:Hortaleza Periódico Vecinal
X-ORIGINAL-URL:https://www.periodicohortaleza.org
X-WR-CALDESC:Eventos para Hortaleza Periódico Vecinal
REFRESH-INTERVAL;VALUE=DURATION:PT1H
X-Robots-Tag:noindex
X-PUBLISHED-TTL:PT1H
BEGIN:VTIMEZONE
TZID:Europe/Madrid
BEGIN:DAYLIGHT
TZOFFSETFROM:+0100
TZOFFSETTO:+0200
TZNAME:CEST
DTSTART:20180325T010000
END:DAYLIGHT
BEGIN:STANDARD
TZOFFSETFROM:+0200
TZOFFSETTO:+0100
TZNAME:CET
DTSTART:20181028T010000
END:STANDARD
BEGIN:DAYLIGHT
TZOFFSETFROM:+0100
TZOFFSETTO:+0200
TZNAME:CEST
DTSTART:20190331T010000
END:DAYLIGHT
BEGIN:STANDARD
TZOFFSETFROM:+0200
TZOFFSETTO:+0100
TZNAME:CET
DTSTART:20191027T010000
END:STANDARD
BEGIN:DAYLIGHT
TZOFFSETFROM:+0100
TZOFFSETTO:+0200
TZNAME:CEST
DTSTART:20200329T010000
END:DAYLIGHT
BEGIN:STANDARD
TZOFFSETFROM:+0200
TZOFFSETTO:+0100
TZNAME:CET
DTSTART:20201025T010000
END:STANDARD
BEGIN:DAYLIGHT
TZOFFSETFROM:+0100
TZOFFSETTO:+0200
TZNAME:CEST
DTSTART:20210328T010000
END:DAYLIGHT
BEGIN:STANDARD
TZOFFSETFROM:+0200
TZOFFSETTO:+0100
TZNAME:CET
DTSTART:20211031T010000
END:STANDARD
END:VTIMEZONE
BEGIN:VEVENT
DTSTART;TZID=Europe/Madrid:20200227T190000
DTEND;TZID=Europe/Madrid:20200227T190000
DTSTAMP:20260425T002348
CREATED:20200227T094153Z
LAST-MODIFIED:20200227T094707Z
UID:10002999-1582830000-1582830000@www.periodicohortaleza.org
SUMMARY:Reunión de la Comisión 8M Hortaleza en el Espacio de Igualdad Carme Chacón
DESCRIPTION:El jueves 27 de febrero a las 19.00 horas\, se celebra una nueva reunión de la Comisión 8M Hortaleza en el Espacio de Igualdad Carme Chacón (Matapozuelos\, 2)\, que está ultimando los detalles de para la próxima Huelga Feminista del 8M. \nTambién se terminará de preparar la acción de sensibilización que tienen pensado llevar a cabo este domingo 1 de marzo en el mercadillo de la UVA. \n  \n \n  \n  \n 
URL:https://www.periodicohortaleza.org/evento/reunion-de-la-comision-8m-hortaleza-en-el-espacio-de-igualdad-carme-chacon-8/
LOCATION:Espacio de Igualdad Carme Chacón\, Calle Matapozuelos 2\, Madrid
ATTACH;FMTTYPE=image/jpeg:https://www.periodicohortaleza.org/wp-content/uploads/2020/02/CARTEL-Reunión-Comisión-8M-2.jpg
END:VEVENT
BEGIN:VEVENT
DTSTART;TZID=Europe/Madrid:20200217T190000
DTEND;TZID=Europe/Madrid:20200217T190000
DTSTAMP:20260425T002348
CREATED:20200214T111839Z
LAST-MODIFIED:20200217T112714Z
UID:10002989-1581966000-1581966000@www.periodicohortaleza.org
SUMMARY:Reunión de la Comisión 8M Hortaleza en el Espacio de Igualdad Carme Chacón
DESCRIPTION:El lunes 17 de febrero a las 19.00 horas\, se celebra una nueva reunión de la Comisión 8M Hortaleza en el Espacio de Igualdad Carme Chacón (Matapozuelos\, 2)\, que comienza a prepararse para la próxima Huelga Feminista del 8M. \n  \n \n 
URL:https://www.periodicohortaleza.org/evento/reunion-de-la-comision-8m-hortaleza-en-el-espacio-de-igualdad-carme-chacon-7/
LOCATION:Espacio de Igualdad Carme Chacón\, Calle Matapozuelos 2\, Madrid
ATTACH;FMTTYPE=image/jpeg:https://www.periodicohortaleza.org/wp-content/uploads/2020/02/CARTEL-Reunión-Comisión-8M-1.jpg
END:VEVENT
BEGIN:VEVENT
DTSTART;TZID=Europe/Madrid:20200206T190000
DTEND;TZID=Europe/Madrid:20200206T190000
DTSTAMP:20260425T002348
CREATED:20200206T101452Z
LAST-MODIFIED:20200207T002729Z
UID:10002981-1581015600-1581015600@www.periodicohortaleza.org
SUMMARY:Reunión de la Comisión 8M Hortaleza en el Espacio de Igualdad Carme Chacón
DESCRIPTION:Este jueves 6 de febrero a las 19.00 horas\, se celebra una nueva reunión de la Comisión 8M Hortaleza en el Espacio de Igualdad Carme Chacón (Matapozuelos\, 2)\, que comienza a prepararse para la próxima Huelga Feminista del 8M. \nEn la reunión\, van a ultimarse los detalles para la cadena humana feminista que recorrerá el centro de Madrid este sábado 8 de febrero\, desde las 12.00 hasta las 14.00 horas. \nLas mujeres de Hortaleza van a salir juntas desde la plaza de Santos de la Humosa a las 10.30 horas. \n 
URL:https://www.periodicohortaleza.org/evento/reunion-de-la-comision-8m-hortaleza-en-el-espacio-de-igualdad-carme-chacon-6/
LOCATION:Espacio de Igualdad Carme Chacón\, Calle Matapozuelos 2\, Madrid
ATTACH;FMTTYPE=image/jpeg:https://www.periodicohortaleza.org/wp-content/uploads/2020/02/CARTEL-Reunión-Comisión-8M.jpg
END:VEVENT
BEGIN:VEVENT
DTSTART;TZID=Europe/Madrid:20200204T170000
DTEND;TZID=Europe/Madrid:20200204T170000
DTSTAMP:20260425T002348
CREATED:20200204T100749Z
LAST-MODIFIED:20200204T100749Z
UID:10002970-1580835600-1580835600@www.periodicohortaleza.org
SUMMARY:Tertulias de cine en el Espacio de Igualdad Carme Chacón: 'Amador'
DESCRIPTION:Este martes 4 de febrero a las 17.00 horas\, participa en las tertulias de cine que se realizan en el Espacio de Igualdad Carme Chacón (Matapozuelos\, 2)\, en colaboración con la Red de Mujeres Latinoamericanas y del Caribe. Esta proyección se encuentra enmarcada dentro de las Jornadas Mujeres\, Migraciones y Salud\, un evento que va a desarrollarse durante todo el mes de febrero con numerosas actividades. \nEste martes\, se proyectará la película Amador (2010) del director Fernando León de Aranoa. \nSINOPSIS \nMarcela\, una joven con apuros económicos\, durante el verano cuida de Amador\, un anciano postrado en cama\, en ausencia de su familia. Los dos no tardarán en confiarse sus respectivos secretos. \n \n 
URL:https://www.periodicohortaleza.org/evento/tertulias-de-cine-en-el-espacio-de-igualdad-carme-chacon-amador/
LOCATION:Espacio de Igualdad Carme Chacón\, Calle Matapozuelos 2\, Madrid
ATTACH;FMTTYPE=image/jpeg:https://www.periodicohortaleza.org/wp-content/uploads/2020/02/Película-Amador.jpg
END:VEVENT
BEGIN:VEVENT
DTSTART;TZID=Europe/Madrid:20200130T190000
DTEND;TZID=Europe/Madrid:20200130T190000
DTSTAMP:20260425T002348
CREATED:20200128T113030Z
LAST-MODIFIED:20200128T113030Z
UID:10002964-1580410800-1580410800@www.periodicohortaleza.org
SUMMARY:Reunión de la Comisión 8M Hortaleza en el Espacio de Igualdad Carme Chacón
DESCRIPTION:El jueves 30 de enero a las 19.00 horas\, se celebra una nueva reunión de la Comisión 8M Hortaleza en el Espacio de Igualdad Carme Chacón (Matapozuelos\, 2)\, que comienza a prepararse para la próxima Huelga Feminista del 8M. \nLa reunión empezará con el protocolo de lectura de feminicidios\, en una acción conjunto con el Espacio de Igualdad. \nORDEN DEL DÍA \n\nParticipación en la cadena humana feminista del 8 de febrero en el centro de Madrid.\nInformación de la reunión de feminismos de la zona norte de Madrid.\nParticipación en el Encuentro de Barrios y Pueblos 8M del próximo 1 de febrero en el CP Miguel Hernández (Avd. Reyes Católicos\, 35) de Getafe.\nAcciones 8M Hortaleza.\n\n 
URL:https://www.periodicohortaleza.org/evento/reunion-de-la-comision-8m-hortaleza-en-el-espacio-de-igualdad-carme-chacon-5/
LOCATION:Espacio de Igualdad Carme Chacón\, Calle Matapozuelos 2\, Madrid
ATTACH;FMTTYPE=image/jpeg:https://www.periodicohortaleza.org/wp-content/uploads/2020/01/CARTEL-Reunión-Comisión-8M-Hortaleza-e1580210997966.jpg
END:VEVENT
BEGIN:VEVENT
DTSTART;TZID=Europe/Madrid:20200117T190000
DTEND;TZID=Europe/Madrid:20200117T190000
DTSTAMP:20260425T002348
CREATED:20200113T114359Z
LAST-MODIFIED:20200113T114359Z
UID:10002952-1579287600-1579287600@www.periodicohortaleza.org
SUMMARY:Reunión de la Comisión 8M Hortaleza en el Espacio de Igualdad Carme Chacón
DESCRIPTION:El viernes 17 de enero a las 19.00 horas\, se celebra la primera reunión del año de la Comisión 8M Hortaleza en el Espacio de Igualdad Carme Chacón (Matapozuelos\, 2).
URL:https://www.periodicohortaleza.org/evento/reunion-de-la-comision-8m-hortaleza-en-el-espacio-de-igualdad-carme-chacon-4/
LOCATION:Espacio de Igualdad Carme Chacón\, Calle Matapozuelos 2\, Madrid
ATTACH;FMTTYPE=image/jpeg:https://www.periodicohortaleza.org/wp-content/uploads/2020/01/IMG-20200113-WA0003.jpg
END:VEVENT
BEGIN:VEVENT
DTSTART;TZID=Europe/Madrid:20191204T190000
DTEND;TZID=Europe/Madrid:20191204T190000
DTSTAMP:20260425T002348
CREATED:20191202T121256Z
LAST-MODIFIED:20191202T121329Z
UID:10002924-1575486000-1575486000@www.periodicohortaleza.org
SUMMARY:Reunión de la Comisión 8M Hortaleza en el Espacio de Igualdad Carme Chacón
DESCRIPTION:El miércoles 4 de diciembre a las 19.00 horas\, se celebra la última reunión del año de la Comisión 8M Hortaleza en el Espacio de Igualdad Carme Chacón (Matapozuelos\, 2).
URL:https://www.periodicohortaleza.org/evento/reunion-de-la-comision-8m-hortaleza-en-el-espacio-de-igualdad-carme-chacon-3/
LOCATION:Espacio de Igualdad Carme Chacón\, Calle Matapozuelos 2\, Madrid
ATTACH;FMTTYPE=image/jpeg:https://www.periodicohortaleza.org/wp-content/uploads/2019/12/EKxP0whWkAAKZwK.jpg
END:VEVENT
BEGIN:VEVENT
DTSTART;TZID=Europe/Madrid:20191123T120000
DTEND;TZID=Europe/Madrid:20191123T120000
DTSTAMP:20260425T002348
CREATED:20191119T122556Z
LAST-MODIFIED:20191119T122556Z
UID:10002913-1574510400-1574510400@www.periodicohortaleza.org
SUMMARY:Tratamiento de las violencias machistas en los medios de comunicación en el Espacio de Igualdad Carme Chacón
DESCRIPTION:El próximo sábado 23 de noviembre\, a las 12.00 horas\, la Comisión 8M Hortaleza celebra un acto sobre el tratamiento de las violencias machistas en los medios de comunicación en el Espacio de Igualdad Carme Chacón (Matapozuelos\, 2)\, con la presencia de Yolanda Peña\, periodista y community manager\, y Clara Bernal\, periodista de Europa Press.
URL:https://www.periodicohortaleza.org/evento/tratamiento-de-las-violencias-machistas-en-los-medios-de-comunicacion-en-el-espacio-de-igualdad-carme-chacon/
LOCATION:Espacio de Igualdad Carme Chacón\, Calle Matapozuelos 2\, Madrid
ATTACH;FMTTYPE=image/jpeg:https://www.periodicohortaleza.org/wp-content/uploads/2019/11/IMG-20191119-WA0001.jpg
END:VEVENT
BEGIN:VEVENT
DTSTART;TZID=Europe/Madrid:20191019T120000
DTEND;TZID=Europe/Madrid:20191019T120000
DTSTAMP:20260425T002348
CREATED:20191002T165423Z
LAST-MODIFIED:20191002T165625Z
UID:10002880-1571486400-1571486400@www.periodicohortaleza.org
SUMMARY:Encuentro con Conchi Barrios: homenaje a las mujeres del movimiento vecinal
DESCRIPTION:El Espacio de Igualdad Carme Chacón de Hortaleza (Calle Matapozuelos\, 2) acoge el sábado 19 de octubre\, a las 12 horas\, el acto ‘Encuentro con Conchi Barrios: homenaje a las mujeres del movimiento vecinal’\, organizado por la Federación Regional de Asociaciones Vecinales de Madrid (FRAVM) para reconocer la labor de las mujeres de los barrios de Madrid en las conquistas vecinales. \nEl acto contará con Eva Fernàndez\, autora de la investigación ‘Vocalías y grupos de mujeres: el feminismo en los barrios‘\, que hablará del papel de las mujeres en el movimiento vecinal\, y se presentará el libro El diario de Conchi Barrios. Una historia de lucha feminista y vecinal a cargo de la ilustradora Blanca Nieto. Para terminar\, habrá una actuación de Inma Claudia Trío. \n 
URL:https://www.periodicohortaleza.org/evento/encuentro-con-conchi-barrios-homenaje-a-las-mujeres-del-movimiento-vecinal/
LOCATION:Espacio de Igualdad Carme Chacón\, Calle Matapozuelos 2\, Madrid
ATTACH;FMTTYPE=image/jpeg:https://www.periodicohortaleza.org/wp-content/uploads/2019/10/Conchi-Barrios.jpg
END:VEVENT
BEGIN:VEVENT
DTSTART;TZID=Europe/Madrid:20190907T110000
DTEND;TZID=Europe/Madrid:20190907T130000
DTSTAMP:20260425T002348
CREATED:20190902T143037Z
LAST-MODIFIED:20190902T143037Z
UID:10002865-1567854000-1567861200@www.periodicohortaleza.org
SUMMARY:Reunión de la Comisión 8M Hortaleza en el Espacio de Igualdad Carme Chacón
DESCRIPTION:El sábado 7 de septiembre desde las 11.00 hasta las 13.00 horas se celebra una nueva reunión de la Comisión 8M Hortaleza en el Espacio de Igualdad Carme Chacón.
URL:https://www.periodicohortaleza.org/evento/reunion-de-la-comision-8m-hortaleza-en-el-espacio-de-igualdad-carme-chacon-2/
LOCATION:Espacio de Igualdad Carme Chacón\, Calle Matapozuelos 2\, Madrid
ATTACH;FMTTYPE=image/jpeg:https://www.periodicohortaleza.org/wp-content/uploads/2019/09/69388626_2409842382606158_4481356975292022784_n.jpg
END:VEVENT
BEGIN:VEVENT
DTSTART;TZID=Europe/Madrid:20190524T190000
DTEND;TZID=Europe/Madrid:20190524T190000
DTSTAMP:20260425T002348
CREATED:20190523T094657Z
LAST-MODIFIED:20190523T094657Z
UID:10002824-1558724400-1558724400@www.periodicohortaleza.org
SUMMARY:Reunión de la Comisión 8M Hortaleza
DESCRIPTION:El viernes 24 de mayo a las 19.00 horas\, se celebra una nueva reunión de la Comisión 8M Hortaleza en el Espacio de Igualdad Carme Chacón (Matapozuelos\, 2).
URL:https://www.periodicohortaleza.org/evento/reunion-de-la-comision-8m-hortaleza-3/
LOCATION:Espacio de Igualdad Carme Chacón\, Calle Matapozuelos 2\, Madrid
ATTACH;FMTTYPE=image/jpeg:https://www.periodicohortaleza.org/wp-content/uploads/2019/05/60616516_2335246670065730_1926789008352870400_o.jpg
END:VEVENT
BEGIN:VEVENT
DTSTART;TZID=Europe/Madrid:20190411T190000
DTEND;TZID=Europe/Madrid:20190411T190000
DTSTAMP:20260425T002348
CREATED:20190409T093141Z
LAST-MODIFIED:20190409T093141Z
UID:10002792-1555009200-1555009200@www.periodicohortaleza.org
SUMMARY:Narración Oral en el Espacio de Igualdad: Rumor de Olas
DESCRIPTION:El jueves 11 de abril\, a partir de las 19.00 horas\, asiste a la narración oral de Rumor de olas en el Espacio de Igualdad Carme Chacón (Matapozuelos\, 2)\, en la que Silvina Rodríguez interpreta la historia de cuatro mujeres artistas –Frida Kahlo\, Alfonsina Storni\, Clarice Lispector y Margarita Xirgu–\, tres de ellas latinoamericanas y una española exiliada en Sudamérica\, que se entremezclan con la vida de otra artista que nos presenta su visión sobre todas ellas y lo que las une. \n 
URL:https://www.periodicohortaleza.org/evento/narracion-oral-en-el-espacio-de-igualdad-rumor-de-olas/
LOCATION:Espacio de Igualdad Carme Chacón\, Calle Matapozuelos 2\, Madrid
ATTACH;FMTTYPE=image/jpeg:https://www.periodicohortaleza.org/wp-content/uploads/2019/04/D3ZFHBIXsAE8rYq.jpg
END:VEVENT
BEGIN:VEVENT
DTSTART;TZID=Europe/Madrid:20190228T190000
DTEND;TZID=Europe/Madrid:20190228T190000
DTSTAMP:20260425T002348
CREATED:20190225T172214Z
LAST-MODIFIED:20190225T172214Z
UID:10002757-1551380400-1551380400@www.periodicohortaleza.org
SUMMARY:Reunión de la Comisión 8M Hortaleza
DESCRIPTION:El jueves 21 de febrero a las 19.00 horas\, se celebra una nueva reunión de la Comisión 8M Hortaleza en el Espacio de Igualdad Carme Chacón (Matapozuelos\, 2).
URL:https://www.periodicohortaleza.org/evento/reunion-de-la-comision-8m-hortaleza-2/
LOCATION:Espacio de Igualdad Carme Chacón\, Calle Matapozuelos 2\, Madrid
ATTACH;FMTTYPE=image/jpeg:https://www.periodicohortaleza.org/wp-content/uploads/2019/02/DzsPMHuWwAEgEPS.jpg
END:VEVENT
BEGIN:VEVENT
DTSTART;TZID=Europe/Madrid:20190221T190000
DTEND;TZID=Europe/Madrid:20190221T190000
DTSTAMP:20260425T002348
CREATED:20190218T191303Z
LAST-MODIFIED:20190218T191303Z
UID:10002755-1550775600-1550775600@www.periodicohortaleza.org
SUMMARY:Reunión de la Comisión 8M Hortaleza
DESCRIPTION:El jueves 21 de febrero a las 19.00 horas\, se celebra una nueva reunión de la Comisión 8M Hortaleza en el Espacio de Igualdad Carme Chacón (Matapozuelos\, 2).
URL:https://www.periodicohortaleza.org/evento/reunion-de-la-comision-8m-hortaleza/
LOCATION:Espacio de Igualdad Carme Chacón\, Calle Matapozuelos 2\, Madrid
ATTACH;FMTTYPE=image/jpeg:https://www.periodicohortaleza.org/wp-content/uploads/2019/02/DzsPMHuWwAEgEPS.jpg
END:VEVENT
BEGIN:VEVENT
DTSTART;TZID=Europe/Madrid:20190131T190000
DTEND;TZID=Europe/Madrid:20190131T190000
DTSTAMP:20260425T002348
CREATED:20190123T142559Z
LAST-MODIFIED:20190123T142559Z
UID:10002741-1548961200-1548961200@www.periodicohortaleza.org
SUMMARY:Reunión de la Comisión 8M Hortaleza en el Espacio de Igualdad Carme Chacón
DESCRIPTION:El jueves 31 de enero a las 19.00 horas\, se celebra una nueva reunión de la Comisión 8M Hortaleza en el Espacio de Igualdad Carme Chacón (Matapozuelos\, 2).
URL:https://www.periodicohortaleza.org/evento/reunion-de-la-comision-8m-hortaleza-en-el-espacio-de-igualdad-carme-chacon/
LOCATION:Espacio de Igualdad Carme Chacón\, Calle Matapozuelos 2\, Madrid
ATTACH;FMTTYPE=image/jpeg:https://www.periodicohortaleza.org/wp-content/uploads/2019/01/IMG-20190120-WA0005.jpg
END:VEVENT
END:VCALENDAR