BEGIN:VCALENDAR
VERSION:2.0
PRODID:-//Hortaleza Periódico Vecinal - ECPv6.15.20//NONSGML v1.0//EN
CALSCALE:GREGORIAN
METHOD:PUBLISH
X-WR-CALNAME:Hortaleza Periódico Vecinal
X-ORIGINAL-URL:https://www.periodicohortaleza.org
X-WR-CALDESC:Eventos para Hortaleza Periódico Vecinal
REFRESH-INTERVAL;VALUE=DURATION:PT1H
X-Robots-Tag:noindex
X-PUBLISHED-TTL:PT1H
BEGIN:VTIMEZONE
TZID:Europe/Madrid
BEGIN:DAYLIGHT
TZOFFSETFROM:+0100
TZOFFSETTO:+0200
TZNAME:CEST
DTSTART:20160327T010000
END:DAYLIGHT
BEGIN:STANDARD
TZOFFSETFROM:+0200
TZOFFSETTO:+0100
TZNAME:CET
DTSTART:20161030T010000
END:STANDARD
BEGIN:DAYLIGHT
TZOFFSETFROM:+0100
TZOFFSETTO:+0200
TZNAME:CEST
DTSTART:20170326T010000
END:DAYLIGHT
BEGIN:STANDARD
TZOFFSETFROM:+0200
TZOFFSETTO:+0100
TZNAME:CET
DTSTART:20171029T010000
END:STANDARD
BEGIN:DAYLIGHT
TZOFFSETFROM:+0100
TZOFFSETTO:+0200
TZNAME:CEST
DTSTART:20180325T010000
END:DAYLIGHT
BEGIN:STANDARD
TZOFFSETFROM:+0200
TZOFFSETTO:+0100
TZNAME:CET
DTSTART:20181028T010000
END:STANDARD
BEGIN:DAYLIGHT
TZOFFSETFROM:+0100
TZOFFSETTO:+0200
TZNAME:CEST
DTSTART:20190331T010000
END:DAYLIGHT
BEGIN:STANDARD
TZOFFSETFROM:+0200
TZOFFSETTO:+0100
TZNAME:CET
DTSTART:20191027T010000
END:STANDARD
BEGIN:DAYLIGHT
TZOFFSETFROM:+0100
TZOFFSETTO:+0200
TZNAME:CEST
DTSTART:20200329T010000
END:DAYLIGHT
BEGIN:STANDARD
TZOFFSETFROM:+0200
TZOFFSETTO:+0100
TZNAME:CET
DTSTART:20201025T010000
END:STANDARD
BEGIN:DAYLIGHT
TZOFFSETFROM:+0100
TZOFFSETTO:+0200
TZNAME:CEST
DTSTART:20210328T010000
END:DAYLIGHT
BEGIN:STANDARD
TZOFFSETFROM:+0200
TZOFFSETTO:+0100
TZNAME:CET
DTSTART:20211031T010000
END:STANDARD
END:VTIMEZONE
BEGIN:VEVENT
DTSTART;TZID=Europe/Madrid:20200214T210000
DTEND;TZID=Europe/Madrid:20200214T210000
DTSTAMP:20260425T125343
CREATED:20200206T105832Z
LAST-MODIFIED:20200206T105832Z
UID:10002982-1581714000-1581714000@www.periodicohortaleza.org
SUMMARY:Concierto íntimo de Mundo Chillón en el Espacio Danos Tiempo
DESCRIPTION:Celebra el próximo 14 de febrero\, disfrutando de un nuevo concierto íntimo a las 21.00 horas en el Espacio Danos Tiempo (Mar de Bering\, 5)\, que acoge la actuación de Mundo Chillón\, un reflejo onírico\, vibrante\, bizarro\, irónico\, elegante\, decadente\, sarcástico\, contradictorio\, tierno y visceral de usted mismo. \nSwing\, rumba\, folk\, samba\, lija y terciopelo\, cualquier estilo es bueno para la buena gente con estilo. \nMil y una historias que\, entre ritmos apaleados\, la contradicción como constante universal y el humor como animal de compañía\, visten un espectáculo que\, como el traje nuevo del emperador\, se muestra hasta el tuétano. \nAportación: 9 euros (en nuestro espacio o a través de entradium) y 8 euros para las socias. \n  \n \n  \n 
URL:https://www.periodicohortaleza.org/evento/concierto-intimo-de-mundo-chillon-en-el-espacio-danos-tiempo/
LOCATION:Espacio Danos Tiempo\, Mar de Bering\, 5\, Madrid\, Madrid\, 28033
ATTACH;FMTTYPE=image/jpeg:https://www.periodicohortaleza.org/wp-content/uploads/2020/02/Mundo-Chllón.jpg
END:VEVENT
BEGIN:VEVENT
DTSTART;TZID=Europe/Madrid:20191005T120000
DTEND;TZID=Europe/Madrid:20191005T120000
DTSTAMP:20260425T125343
CREATED:20191001T170555Z
LAST-MODIFIED:20191001T172256Z
UID:10002875-1570276800-1570276800@www.periodicohortaleza.org
SUMMARY:Presentación del libro 'Morder la manzana' de Leticia Dolera en el Espacio Danos Tiempo
DESCRIPTION:El sábado 5 de octubre a las 12.00 horas\, la actriz y directora española Leticia Dolera presenta en el Espacio Danos Tiempo (calle Mar de Bering\, 5) su libro Morder la manzana\, acompañada de la cómica y guionista Henar Álvarez. \nSerá una jornada de escucha y reflexión\, de humor y feminismo\, donde podrá disfrutarse de un vermú escuchando la música de Pilu Verver. \nEspacio libre hasta completar aforo. \nSINOPSIS \nEs este uno de esos libros esenciales que nacen de la necesidad y de la urgencia. Porque Leticia Dolera necesita contar por qué es feminista y por qué todas deberíamos serlo. Un camino vital en el que se ha encontrado con personas inspiradoras\, lecturas reveladoras\, anécdotas —de las buenas\, de las malas y de las peores— vividas muy de cerca o en primera persona.\nEste libro es también la historia de mujeres valientes que marcaron el camino y cuyo ejemplo nos ayuda a despertar nuestras conciencias y también a enseñar a las más jóvenes.\nEmpezando por Eva\, la primera que mordió la manzana\, esta es una historia sobre todas las mujeres. Porque Leticia Dolera nos invita a abrazar una causa\, que es la de todas las personas que soñamos con una sociedad justa.\nPor mucho que nos hayan repetido que Eva pecó al morder la manzana\, nosotras sabemos que aquello fue precisamente lo que la hizo sabia. Entonces ¿qué?\, ¿te apetece una? Una obra de empoderamiento feminista para todas las edades.
URL:https://www.periodicohortaleza.org/evento/presentacion-del-libro-morder-la-manzana-de-leticia-dolera-en-el-espacio-danos-tiempo/
LOCATION:Espacio Danos Tiempo\, Mar de Bering\, 5\, Madrid\, Madrid\, 28033
ATTACH;FMTTYPE=image/jpeg:https://www.periodicohortaleza.org/wp-content/uploads/2019/10/EFygCGSXkAAisVu.jpg
END:VEVENT
BEGIN:VEVENT
DTSTART;TZID=Europe/Madrid:20171029T190000
DTEND;TZID=Europe/Madrid:20171029T203000
DTSTAMP:20260425T125343
CREATED:20171024T143017Z
LAST-MODIFIED:20171024T143114Z
UID:10002468-1509303600-1509309000@www.periodicohortaleza.org
SUMMARY:Decrecentismo y transición hacía una vida sostenible. Coloquio con Florent Marceselli
DESCRIPTION:“Florent Marcellesi es portavoz de EQUO en el Parlamento Europeo desde mayo de 2014 y eurodiputado desde octubre de 2016 con esta formación. \n \nAdemás de una formación como ingeniero de Caminos (Lyón\, Francia) y urbanista (Instituto de Ciencias Políticas de París)\, es también especialista en cooperación internacional (UPV-EHU\, Bilbao). Activista ecologista\, miembro del think tank Ecopolítica\, del Foro de Transiciones y de la revista Ecología política así como promotor del manifiesto Última Llamada\, es autor entre otros títulos de ¿Qué Europa queremos? (Icaria\, 2014)\, Transición ecológica de la economía. ¿Por qué? ¿Para qué? ¿Cómo? (Fundación Manu Robles\, 2013) Adiós al crecimiento. Vivir bien en un mundo solidario y sostenible. (El Viejo Topo\, 2013)\, Cooperación al posdesarrollo. Bases teóricas para la transformación ecológica de la cooperación al desarrollo (Bakeaz\, 2012)”.
URL:https://www.periodicohortaleza.org/evento/decrecentismo-y-transicion-hacia-una-vida-sostenible-coloquio-con-florent-marceselli/
LOCATION:Espacio Danos Tiempo\, Mar de Bering\, 5\, Madrid\, Madrid\, 28033
CATEGORIES:Cultura,Medioambiente,Participación
ORGANIZER;CN="Asociaci%C3%B3n Danos Tiempo":MAILTO:info@espaciodanostiempo.org
END:VEVENT
BEGIN:VEVENT
DTSTART;TZID=Europe/Madrid:20170521T193000
DTEND;TZID=Europe/Madrid:20170521T210000
DTSTAMP:20260425T125343
CREATED:20170518T155619Z
LAST-MODIFIED:20170518T155619Z
UID:10002401-1495395000-1495400400@www.periodicohortaleza.org
SUMMARY:Repensar la Revolución\, debate organizado por la revista “Viento Sur”
DESCRIPTION:Con motivo del número 150 de la revista “Viento Sur“\,  el domingo 21 a las 19:30 h tendremos un debate sobre Repensar la Revolución. \n \nVIENTO SUR es una revista política con dos formatos\, la revista impresa y la web\, cada uno con su propio equipo de redacción. \nTiene como referencia un marxismo abierto\, crítico y autocrítico\, que necesita y busca la comunicación y el encuentro con otras corrientes del pensamiento emancipatorio\, especialmente aquéllas directamente vinculadas con los movimientos sociales.
URL:https://www.periodicohortaleza.org/evento/repensar-la-revolucion-debate-organizado-por-la-revista-viento-sur/
LOCATION:Espacio Danos Tiempo\, Mar de Bering\, 5\, Madrid\, Madrid\, 28033
CATEGORIES:Cultura
ORGANIZER;CN="Asociaci%C3%B3n Danos Tiempo":MAILTO:info@espaciodanostiempo.org
END:VEVENT
BEGIN:VEVENT
DTSTART;TZID=Europe/Madrid:20170521T120000
DTEND;TZID=Europe/Madrid:20170521T124500
DTSTAMP:20260425T125343
CREATED:20170518T160045Z
LAST-MODIFIED:20170518T160837Z
UID:10002402-1495368000-1495370700@www.periodicohortaleza.org
SUMMARY:“Marandalia”: actividad musical para peques hasta 3 años. Sesión vermú para mayores
DESCRIPTION:Taller musical para niños y niñas de 0 a 3 años (con flexibilidad) y sus familias. \n \nDesde la experiencia\, formación y día a día como educadoras infantiles\, Marandalia quiere crear un espacio agradable de disfrute donde niños y niñas ( hasta 3 años ) y sus familias\, escuchen\, vean y sientan la música a través de canciones sencillas acompañadas de distintos instrumentos y recursos musicales. \nMás info a través del correo info@espaciodanostiempo.org o 917641819 \nEntrada para socios/as: 1 adult@+ 1 niñ@: 3 euros (persona extra: 1 euro) \nEntrada para no socios/as: 1 adult@ + 1 niñ@: 6 euros (persona extra: 2 euros)
URL:https://www.periodicohortaleza.org/evento/marandalia-actividad-musical-para-peques-hasta-3-anos-sesion-vermu-para-mayores/
LOCATION:Espacio Danos Tiempo\, Mar de Bering\, 5\, Madrid\, Madrid\, 28033
CATEGORIES:Cultura
ORGANIZER;CN="Asociaci%C3%B3n Danos Tiempo":MAILTO:info@espaciodanostiempo.org
END:VEVENT
BEGIN:VEVENT
DTSTART;TZID=Europe/Madrid:20170421T190000
DTEND;TZID=Europe/Madrid:20170421T190000
DTSTAMP:20260425T125343
CREATED:20170408T172906Z
LAST-MODIFIED:20170420T212218Z
UID:10002357-1492801200-1492801200@www.periodicohortaleza.org
SUMMARY:Cata Literaria en Danos Tiempo
DESCRIPTION:El viernes 21 de abril a las 19.00 h\, se celebra en Espacio Danos Tiempo (Mar de Bering\, 5) la cata literaria del mes de abril\, que tendrá una temática especial con motivo del Día del Libro.
URL:https://www.periodicohortaleza.org/evento/cata-literaria-2/
LOCATION:Espacio Danos Tiempo\, Mar de Bering\, 5\, Madrid\, Madrid\, 28033
END:VEVENT
END:VCALENDAR