BEGIN:VCALENDAR
VERSION:2.0
PRODID:-//Hortaleza Periódico Vecinal - ECPv6.15.20//NONSGML v1.0//EN
CALSCALE:GREGORIAN
METHOD:PUBLISH
X-WR-CALNAME:Hortaleza Periódico Vecinal
X-ORIGINAL-URL:https://www.periodicohortaleza.org
X-WR-CALDESC:Eventos para Hortaleza Periódico Vecinal
REFRESH-INTERVAL;VALUE=DURATION:PT1H
X-Robots-Tag:noindex
X-PUBLISHED-TTL:PT1H
BEGIN:VTIMEZONE
TZID:Europe/Madrid
BEGIN:DAYLIGHT
TZOFFSETFROM:+0100
TZOFFSETTO:+0200
TZNAME:CEST
DTSTART:20160327T010000
END:DAYLIGHT
BEGIN:STANDARD
TZOFFSETFROM:+0200
TZOFFSETTO:+0100
TZNAME:CET
DTSTART:20161030T010000
END:STANDARD
BEGIN:DAYLIGHT
TZOFFSETFROM:+0100
TZOFFSETTO:+0200
TZNAME:CEST
DTSTART:20170326T010000
END:DAYLIGHT
BEGIN:STANDARD
TZOFFSETFROM:+0200
TZOFFSETTO:+0100
TZNAME:CET
DTSTART:20171029T010000
END:STANDARD
BEGIN:DAYLIGHT
TZOFFSETFROM:+0100
TZOFFSETTO:+0200
TZNAME:CEST
DTSTART:20180325T010000
END:DAYLIGHT
BEGIN:STANDARD
TZOFFSETFROM:+0200
TZOFFSETTO:+0100
TZNAME:CET
DTSTART:20181028T010000
END:STANDARD
END:VTIMEZONE
BEGIN:VEVENT
DTSTART;TZID=Europe/Madrid:20171217T103000
DTEND;TZID=Europe/Madrid:20171217T150000
DTSTAMP:20260425T183529
CREATED:20171214T120715Z
LAST-MODIFIED:20171214T120715Z
UID:10002501-1513506600-1513522800@www.periodicohortaleza.org
SUMMARY:Mercadillo navideño de artesanía en Manoteras
DESCRIPTION:El sábado 16 y el domingo 17 de diciembre\, de 10.30 a 15 horas\, se celebra un mercadillo navideño de artesanía en la calle Cuevas de Almanzora de Manoteras (parque del garaje\, frente a la iglesia). Además\, el domingo 17\, de 12 a 14 horas\, se contará con la visita de Papá Noel\, que repartirá caramelos\, y al que podréis pedirle vuestro regalos.
URL:https://www.periodicohortaleza.org/evento/mercadillo-navideno-de-artesania-en-manoteras-2/
LOCATION:Cuevas de Almanzora\, Cuevas de Almanzora\, Madrid\, Madrid\, 28033
END:VEVENT
END:VCALENDAR