BEGIN:VCALENDAR
VERSION:2.0
PRODID:-//Hortaleza Periódico Vecinal - ECPv6.15.20//NONSGML v1.0//EN
CALSCALE:GREGORIAN
METHOD:PUBLISH
X-ORIGINAL-URL:https://www.periodicohortaleza.org
X-WR-CALDESC:Eventos para Hortaleza Periódico Vecinal
REFRESH-INTERVAL;VALUE=DURATION:PT1H
X-Robots-Tag:noindex
X-PUBLISHED-TTL:PT1H
BEGIN:VTIMEZONE
TZID:Europe/Madrid
BEGIN:DAYLIGHT
TZOFFSETFROM:+0100
TZOFFSETTO:+0200
TZNAME:CEST
DTSTART:20220327T010000
END:DAYLIGHT
BEGIN:STANDARD
TZOFFSETFROM:+0200
TZOFFSETTO:+0100
TZNAME:CET
DTSTART:20221030T010000
END:STANDARD
BEGIN:DAYLIGHT
TZOFFSETFROM:+0100
TZOFFSETTO:+0200
TZNAME:CEST
DTSTART:20230326T010000
END:DAYLIGHT
BEGIN:STANDARD
TZOFFSETFROM:+0200
TZOFFSETTO:+0100
TZNAME:CET
DTSTART:20231029T010000
END:STANDARD
BEGIN:DAYLIGHT
TZOFFSETFROM:+0100
TZOFFSETTO:+0200
TZNAME:CEST
DTSTART:20240331T010000
END:DAYLIGHT
BEGIN:STANDARD
TZOFFSETFROM:+0200
TZOFFSETTO:+0100
TZNAME:CET
DTSTART:20241027T010000
END:STANDARD
BEGIN:DAYLIGHT
TZOFFSETFROM:+0100
TZOFFSETTO:+0200
TZNAME:CEST
DTSTART:20250330T010000
END:DAYLIGHT
BEGIN:STANDARD
TZOFFSETFROM:+0200
TZOFFSETTO:+0100
TZNAME:CET
DTSTART:20251026T010000
END:STANDARD
BEGIN:DAYLIGHT
TZOFFSETFROM:+0100
TZOFFSETTO:+0200
TZNAME:CEST
DTSTART:20260329T010000
END:DAYLIGHT
BEGIN:STANDARD
TZOFFSETFROM:+0200
TZOFFSETTO:+0100
TZNAME:CET
DTSTART:20261025T010000
END:STANDARD
END:VTIMEZONE
BEGIN:VEVENT
DTSTART;TZID=Europe/Madrid:20250309T090000
DTEND;TZID=Europe/Madrid:20250309T150000
DTSTAMP:20260425T180228
CREATED:20250304T123416Z
LAST-MODIFIED:20250304T123416Z
UID:10004244-1741510800-1741532400@www.periodicohortaleza.org
SUMMARY:VIII Encuentro deportivo «Nosotras También»
DESCRIPTION:El domingo 9 de marzo desde las 9.00 hasta las 15.00 horas\, la asociación Alacrán 1997 celebra la octava edición del encuentro deportivo «Nosotras También» en las instalaciones del colegio público Filósofo Séneca (calle Santa Adela\, 23). \nEl objetivo de este torneo\, realizado con motivo del Día Internacional de la Mujer\, es reivindicar que cualquier niña\, chica o mujer pueda jugar al fútbol en igualdad de condiciones. \nEste año\, estrenan un nuevo formato con partidos mixtos entre categorías\, creando cuatro equipos que disputarán cuatro partidos de 10 minutos cada uno. Fomentando la participación y la convivencia entre jugadoras y jugadores\, ¡y la diversión estará asegurada! \nAl finalizar cada encuentro\, se realizará un sorteo con seis premios diferentes y entregarán fruta y bebida a cada participante para recargar energías y seguir impulsando la igualdad de oportunidades en el deporte.  \nHORARIOS DEL VIII ENCUENTRO DEPORTIVO «NOSOTRAS TAMBIÉN» \n9.00-10.00 horas: benjamín femenino y alevín B masculino. \n10.00-10.00 horas: alevín femenino y alevín A masculino. \n11.00-12.00 horas: infantil femenino y masculino. \n12.00-13.00 horas: cadete femenino y masculino. \n13.00-14.00 horas: juvenil femenino y masculino. \n14.00-15.00 horas: séniores y voluntariado. \n  \n¡Porque en el campo y en la vida\, JUGAMOS TODAS Y JUGAMOS TODOS!
URL:https://www.periodicohortaleza.org/evento/viii-encuentro-deportivo-nosotras-tambien/
LOCATION:Colegio público Filósofo Séneca\, Calle Santa Adela\, 21\, Madrid\, Madrid\, 28033\, España
ATTACH;FMTTYPE=image/jpeg:https://www.periodicohortaleza.org/wp-content/uploads/2019/01/HPV44-Foto-Alacrán-e1548539389640.jpg
END:VEVENT
BEGIN:VEVENT
DTSTART;TZID=Europe/Madrid:20230930T120000
DTEND;TZID=Europe/Madrid:20230930T180000
DTSTAMP:20260425T180228
CREATED:20230925T095148Z
LAST-MODIFIED:20230925T095148Z
UID:10003869-1696075200-1696096800@www.periodicohortaleza.org
SUMMARY:V Torneo de fútbol chapas en Hortaleza
DESCRIPTION:El sábado 30 de septiembre de 12.00 a 18.00 horas\, la asociación Alacrán 1997 organiza el V Torneo de fútbol chapas en Hortaleza en el colegio público Filósofo Séneca (calle Santa Adela\, 21). \nEn la nueva edición del torneo de fútbol chapas\, se podrá competir en tres categorías: federados\, no federados e infantil. \nPuedes inscribirte escribiendo al correo info@asociacionalacran.org o llamando al teléfono 636 029 795\, y para participar se debe abonar una cuota de 3 euros que se destinará a actividades de esta asociación que trabaja con los jóvenes del barrio utilizando el deporte como herramienta de integración. \nEn la organización colaboran la asociación vecinal La Unión de Hortaleza\, el Club de Chapas Nuevo M-40 y el colegio Filósofo Séneca.
URL:https://www.periodicohortaleza.org/evento/v-torneo-de-futbol-chapas-en-hortaleza/
LOCATION:Colegio público Filósofo Séneca\, Calle Santa Adela\, 21\, Madrid\, Madrid\, 28033\, España
ATTACH;FMTTYPE=image/jpeg:https://www.periodicohortaleza.org/wp-content/uploads/2021/04/maxresdefault-1.jpg
END:VEVENT
END:VCALENDAR