BEGIN:VCALENDAR
VERSION:2.0
PRODID:-//Hortaleza Periódico Vecinal - ECPv6.15.20//NONSGML v1.0//EN
CALSCALE:GREGORIAN
METHOD:PUBLISH
X-WR-CALNAME:Hortaleza Periódico Vecinal
X-ORIGINAL-URL:https://www.periodicohortaleza.org
X-WR-CALDESC:Eventos para Hortaleza Periódico Vecinal
REFRESH-INTERVAL;VALUE=DURATION:PT1H
X-Robots-Tag:noindex
X-PUBLISHED-TTL:PT1H
BEGIN:VTIMEZONE
TZID:Europe/Madrid
BEGIN:DAYLIGHT
TZOFFSETFROM:+0100
TZOFFSETTO:+0200
TZNAME:CEST
DTSTART:20140330T010000
END:DAYLIGHT
BEGIN:STANDARD
TZOFFSETFROM:+0200
TZOFFSETTO:+0100
TZNAME:CET
DTSTART:20141026T010000
END:STANDARD
BEGIN:DAYLIGHT
TZOFFSETFROM:+0100
TZOFFSETTO:+0200
TZNAME:CEST
DTSTART:20150329T010000
END:DAYLIGHT
BEGIN:STANDARD
TZOFFSETFROM:+0200
TZOFFSETTO:+0100
TZNAME:CET
DTSTART:20151025T010000
END:STANDARD
BEGIN:DAYLIGHT
TZOFFSETFROM:+0100
TZOFFSETTO:+0200
TZNAME:CEST
DTSTART:20160327T010000
END:DAYLIGHT
BEGIN:STANDARD
TZOFFSETFROM:+0200
TZOFFSETTO:+0100
TZNAME:CET
DTSTART:20161030T010000
END:STANDARD
BEGIN:DAYLIGHT
TZOFFSETFROM:+0100
TZOFFSETTO:+0200
TZNAME:CEST
DTSTART:20170326T010000
END:DAYLIGHT
BEGIN:STANDARD
TZOFFSETFROM:+0200
TZOFFSETTO:+0100
TZNAME:CET
DTSTART:20171029T010000
END:STANDARD
BEGIN:DAYLIGHT
TZOFFSETFROM:+0100
TZOFFSETTO:+0200
TZNAME:CEST
DTSTART:20180325T010000
END:DAYLIGHT
BEGIN:STANDARD
TZOFFSETFROM:+0200
TZOFFSETTO:+0100
TZNAME:CET
DTSTART:20181028T010000
END:STANDARD
BEGIN:DAYLIGHT
TZOFFSETFROM:+0100
TZOFFSETTO:+0200
TZNAME:CEST
DTSTART:20190331T010000
END:DAYLIGHT
BEGIN:STANDARD
TZOFFSETFROM:+0200
TZOFFSETTO:+0100
TZNAME:CET
DTSTART:20191027T010000
END:STANDARD
BEGIN:DAYLIGHT
TZOFFSETFROM:+0100
TZOFFSETTO:+0200
TZNAME:CEST
DTSTART:20200329T010000
END:DAYLIGHT
BEGIN:STANDARD
TZOFFSETFROM:+0200
TZOFFSETTO:+0100
TZNAME:CET
DTSTART:20201025T010000
END:STANDARD
END:VTIMEZONE
BEGIN:VTIMEZONE
TZID:Europe/Paris
BEGIN:DAYLIGHT
TZOFFSETFROM:+0100
TZOFFSETTO:+0200
TZNAME:CEST
DTSTART:20150329T010000
END:DAYLIGHT
BEGIN:STANDARD
TZOFFSETFROM:+0200
TZOFFSETTO:+0100
TZNAME:CET
DTSTART:20151025T010000
END:STANDARD
BEGIN:DAYLIGHT
TZOFFSETFROM:+0100
TZOFFSETTO:+0200
TZNAME:CEST
DTSTART:20160327T010000
END:DAYLIGHT
BEGIN:STANDARD
TZOFFSETFROM:+0200
TZOFFSETTO:+0100
TZNAME:CET
DTSTART:20161030T010000
END:STANDARD
BEGIN:DAYLIGHT
TZOFFSETFROM:+0100
TZOFFSETTO:+0200
TZNAME:CEST
DTSTART:20170326T010000
END:DAYLIGHT
BEGIN:STANDARD
TZOFFSETFROM:+0200
TZOFFSETTO:+0100
TZNAME:CET
DTSTART:20171029T010000
END:STANDARD
END:VTIMEZONE
BEGIN:VEVENT
DTSTART;TZID=Europe/Madrid:20190517T180000
DTEND;TZID=Europe/Madrid:20190517T200000
DTSTAMP:20260425T194339
CREATED:20190516T184025Z
LAST-MODIFIED:20190516T184025Z
UID:10002815-1558116000-1558123200@www.periodicohortaleza.org
SUMMARY:Presentación del Catálogo de Propuestas Vecinales de Cambiar Hortaleza 2019
DESCRIPTION:El viernes 17 de mayo a las 18.00 horas\, se presenta el Catálogo de Hortaleza 2019 en el centro cultural Huerta de la Salud (Mar de las Antillas\, 10)\, resultante de la jornada Cambiar Hortaleza que se desarrolló el pasado 23 de marzo para reflexionar sobre las necesidades existentes en el distrito y cómo mejorar la vida de nuestros barrios. \nAl acto acudirán representantes de Mas Madrid\, Madrid en Pie\, PSOE y Unidas Podemos\, con lo que se analizarán las propuestas vecinales.
URL:https://www.periodicohortaleza.org/evento/presentacion-del-catalogo-de-propuestas-vecinales-de-cambiar-hortaleza-2019/
LOCATION:Centro Cultural Huerta de la Salud\, calle Mar de Aral\, 13\, posterior\, Madrid\, Madrid\, 28033\, España
ATTACH;FMTTYPE=image/jpeg:https://www.periodicohortaleza.org/wp-content/uploads/2019/03/SBM3397-e1554063537819.jpg
END:VEVENT
BEGIN:VEVENT
DTSTART;TZID=Europe/Madrid:20190215T173000
DTEND;TZID=Europe/Madrid:20190215T173000
DTSTAMP:20260425T194340
CREATED:20190215T133808Z
LAST-MODIFIED:20190215T133808Z
UID:10002745-1550251800-1550251800@www.periodicohortaleza.org
SUMMARY:Acto Informativo sobre la Reducción de Horarios en Centros de Salud en el Centro Cultural Huerta de la Salud
DESCRIPTION:Este viernes 15 de febrero a las 17.30 horas\, la Plataforma en Defensa de la Sanidad Pública Área 4 “Salvemos el Ramón y Cajal” celebra un acto informativo sobre la reducción de horarios en los centros de salud\, que se desarrollará en el salón de actos del centro cultural Huerta de la Salud (Mar de las Antillas\, 10) con la intervención de Carmen San José\, diputada de la Asamblea de Madrid y médica de Atención Primaria.
URL:https://www.periodicohortaleza.org/evento/acto-informativo-sobre-la-reduccion-de-horarios-en-centros-de-salud-en-el-centro-cultural-huerta-de-la-salud/
LOCATION:Centro Cultural Huerta de la Salud\, calle Mar de Aral\, 13\, posterior\, Madrid\, Madrid\, 28033\, España
ATTACH;FMTTYPE=image/jpeg:https://www.periodicohortaleza.org/wp-content/uploads/2019/02/Dy_dC4qWoAEJBZn.jpg
END:VEVENT
BEGIN:VEVENT
DTSTART;TZID=Europe/Madrid:20190201T180000
DTEND;TZID=Europe/Madrid:20190201T180000
DTSTAMP:20260425T194340
CREATED:20190129T111113Z
LAST-MODIFIED:20190129T111113Z
UID:10002743-1549044000-1549044000@www.periodicohortaleza.org
SUMMARY:Proyección de 'Las maestras de la República' en el Centro Cultural Huerta de la Salud 
DESCRIPTION:El viernes 1 de febrero a las 18.00 horas\, se realizará la proyección de la película documental Las maestras de la República en el centro cultural Huerta de la Salud (Mar de las Antillas\, 10)\, de la directora y guionista Pilar Pérez Solano y galardonada con el Premio Goya a la Mejor Película Documental 2014. \nEntrada gratuita hasta completar aforo. \n 
URL:https://www.periodicohortaleza.org/evento/proyeccion-de-las-maestras-de-la-republica-en-el-centro-cultural-huerta-de-la-salud/
LOCATION:Centro Cultural Huerta de la Salud\, calle Mar de Aral\, 13\, posterior\, Madrid\, Madrid\, 28033\, España
ATTACH;FMTTYPE=image/jpeg:https://www.periodicohortaleza.org/wp-content/uploads/2019/01/image001.jpg
END:VEVENT
BEGIN:VEVENT
DTSTART;TZID=Europe/Madrid:20180525T183000
DTEND;TZID=Europe/Madrid:20180525T183000
DTSTAMP:20260425T194340
CREATED:20180524T125129Z
LAST-MODIFIED:20180524T125129Z
UID:10002331-1527273000-1527273000@www.periodicohortaleza.org
SUMMARY:Presentación 'Memorias de un pijo de Hortaleza en los años ochenta' en Centro Cultural Huerta de la Salud
DESCRIPTION:El viernes 25 de mayo a las 18.30 horas\, presentación del libro Memorias de un «pijo» de Hortaleza en los años ochenta\, de Francisco J. Banderas\, en el centro cultural Huerta de la Salud (Mar de Aral\, 13 posterior).
URL:https://www.periodicohortaleza.org/evento/presentacion-memorias-de-un-pijo-de-hortaleza-en-los-anos-ochenta-en-centro-cultural-huerta-de-la-salud/
LOCATION:Centro Cultural Huerta de la Salud\, calle Mar de Aral\, 13\, posterior\, Madrid\, Madrid\, 28033\, España
ATTACH;FMTTYPE=image/jpeg:https://www.periodicohortaleza.org/wp-content/uploads/2018/05/IMG-20180524-WA00021.jpg
END:VEVENT
BEGIN:VEVENT
DTSTART;TZID=Europe/Madrid:20170421T180000
DTEND;TZID=Europe/Madrid:20170421T200000
DTSTAMP:20260425T194340
CREATED:20170420T203932Z
LAST-MODIFIED:20170420T203932Z
UID:10002380-1492797600-1492804800@www.periodicohortaleza.org
SUMMARY:I Jornada de Protección Animal de Hortaleza
DESCRIPTION:El viernes 21 de abril\, de 18.00 a 20.00\, se celebran en el Centro Cultural Huerta de la Salud (Mar de las Antillas\, 8) las primeras jornadas del distrito sobre protección animal. \n1. Presentación.\n2. Budismo y protección animal: un enfoque global\, por J. M. González\, miembro de Dharma Voice for Animals.\n3. Adopciones en primera persona: por Carmen Felipe\, secretaria de PGM.\n4. Adopciones responsables: por Carlos Rodriguez (Mascoteros Solidarios)\, veterinario\, escritor y periodista especializado.\n5. Coloquio y preguntas.
URL:https://www.periodicohortaleza.org/evento/i-jornada-de-proteccion-animal-de-hortaleza/
LOCATION:Centro Cultural Huerta de la Salud\, calle Mar de Aral\, 13\, posterior\, Madrid\, Madrid\, 28033\, España
ORGANIZER;CN="CES %C3%89tico Hortaleza":MAILTO:ceshortalezamadrid@hotmail.com
END:VEVENT
BEGIN:VEVENT
DTSTART;TZID=Europe/Madrid:20170211T113000
DTEND;TZID=Europe/Madrid:20170211T113000
DTSTAMP:20260425T194340
CREATED:20170210T112147Z
LAST-MODIFIED:20170210T173855Z
UID:10002063-1486812600-1486812600@www.periodicohortaleza.org
SUMMARY:Charla informativa sobre Presupuestos Municipalistas
DESCRIPTION:El sábado 11 de febrero a las 11.30 horas\, el Centro Cultural de la Huerta de la Salud (Mar de Aral\, 13) acoge una charla informativa sobre los presupuestos municipalistas aprobados para el 2017. \nEn el acto se hablará de cómo se hacen los presupuestos de nuestra ciudad\, se explicará qué es la regla de gasto o qué implica la prórroga de los presupuestos. Al mismo tiempo\, habrá un taller de radio impartido por Radio Enlace para los menores y\, al finalizar\, se invitará a los asistentes a la degustación de un buen vino y un aperitivo. \nParticiparán en la charla los siguientes ponentes: \n\nYolanda Rodríguez\, concejala presidenta del distrito.\nCarlos Sánchez Mato\, delegado del Área de Economía y Hacienda del Ayuntamiento de Madrid.\nVanessa Luiña Auñón\, vocal vecina de Ahora Madrid en Hortaleza.\n\n 
URL:https://www.periodicohortaleza.org/evento/charla-informativa-sobre-presupuestos-municipalistas/
LOCATION:Centro Cultural Huerta de la Salud\, calle Mar de Aral\, 13\, posterior\, Madrid\, Madrid\, 28033\, España
ORGANIZER;CN="Ahora Madrid Hortaleza":MAILTO:ahorahortaleza@gmail.com
END:VEVENT
BEGIN:VEVENT
DTSTART;TZID=Europe/Madrid:20170210T180000
DTEND;TZID=Europe/Madrid:20170210T203000
DTSTAMP:20260425T194340
CREATED:20170210T105244Z
LAST-MODIFIED:20170210T105244Z
UID:10002061-1486749600-1486758600@www.periodicohortaleza.org
SUMMARY:Asamblea CES Ético Hortaleza
DESCRIPTION:Este  viernes 10 de febrero de 18 a 20.30 h\, el CES Ético Hortaleza celebra una asamblea en el auditorio del Centro Cultural de la Huerta de la Salud (Mar de Aral\, 13) para darse a conocer\, ver quiénes son\, qué hacen\, qué puede hacerse y qué quiere hacerse. También tratarán el nuevo marco legal y autonómico con el que se cuenta en estos temas. \nAdemás\, todos los amantes de los gatos que deseen más información\, que no puedan asistir\, que deseen colaborar o que\, simplemente\, quieran contactar con ellos pueden hacerlo a través de su correo: ceshortalezamadrid@hotmail.com. \n 
URL:https://www.periodicohortaleza.org/evento/asamblea-ces-etico-hortaleza/
LOCATION:Centro Cultural Huerta de la Salud\, calle Mar de Aral\, 13\, posterior\, Madrid\, Madrid\, 28033\, España
ORGANIZER;CN="CES %C3%89tico Hortaleza":MAILTO:ceshortalezamadrid@hotmail.com
END:VEVENT
BEGIN:VEVENT
DTSTART;TZID=Europe/Paris:20161119T190000
DTEND;TZID=Europe/Paris:20161119T190000
DTSTAMP:20260425T194340
CREATED:20161116T203126Z
LAST-MODIFIED:20161117T024041Z
UID:10002239-1479582000-1479582000@www.periodicohortaleza.org
SUMMARY:Teatro: Quiero destejer las redes de tu silencio
DESCRIPTION:El próximo sábado 19 de noviembre a las 19 horas\, la compañía MisMujeres presenta\, en el Centro Sociocultural Huerta de la Salud (Mar de las Antillas\, 10)\, un espectáculo multidisciplinar\, apoyado en textos poéticos\, que pone de manifiesto la violencia que se ejerce sobre las mujeres\, sea en el ámbito doméstico\, laboral\, profesional\, económico\, de explotación sexual\, etc. \nQuiero destejer las redes de tu silencio poetiza y metaforiza la crudeza de la realidad\, porque solo la metáfora y la poesía pueden apelar a la emoción del espectador\, sin juicio ni condena\, pero no olvida ni frivoliza la realidad erradicable.
URL:https://www.periodicohortaleza.org/evento/teatro-quiero-destejer-las-redes-de-tu-silencio/
LOCATION:Centro Cultural Huerta de la Salud\, calle Mar de Aral\, 13\, posterior\, Madrid\, Madrid\, 28033\, España
END:VEVENT
BEGIN:VEVENT
DTSTART;TZID=Europe/Paris:20160415T180000
DTEND;TZID=Europe/Paris:20160415T180000
DTSTAMP:20260425T194340
CREATED:20160413T110052Z
LAST-MODIFIED:20160413T122509Z
UID:10002067-1460743200-1460743200@www.periodicohortaleza.org
SUMMARY:Taller formativo gratuito de compostaje
DESCRIPTION:Si quieres participar en el Proyecto de Compostaje Comunitario en Hortaleza y ser una de las personas de Hortaleza que forme parte de esta prueba piloto de reciclaje de residuos orgánicos\, acude al taller formativo gratuito de compostaje comunitario el viernes 15 de abril\, a las 18.00 horas\, en el centro cultural Huerta de la Salud (Mar de las Antillas\,8).
URL:https://www.periodicohortaleza.org/evento/taller-formativo-gratuito-de-compostaje/
LOCATION:Centro Cultural Huerta de la Salud\, calle Mar de Aral\, 13\, posterior\, Madrid\, Madrid\, 28033\, España
ORGANIZER;CN="Grupo de Compostaje Comunitario de Hortaleza":MAILTO:compostajecomunitariohtz@gmail.com
END:VEVENT
BEGIN:VEVENT
DTSTART;TZID=Europe/Madrid:20151121T110000
DTEND;TZID=Europe/Madrid:20151121T130000
DTSTAMP:20260425T194340
CREATED:20151118T224149Z
LAST-MODIFIED:20151118T224322Z
UID:10001886-1448103600-1448110800@www.periodicohortaleza.org
SUMMARY:Encuentro vecinal con los vocales de Ahora Hortaleza
DESCRIPTION:Este sábado 21 de noviembre\, los vocales vecinos de Ahora Madrid en el Pleno de Hortaleza convocan un encuentro abierto al vecindario en el centro cultural Huerta de la Salud (calle Mar de las Antillas\, 8) a las 11 horas. \nEl acto servirá de presentación de los vocales\, y también se explicarán los canales de participación y contacto con los representantes del partido que actualmente gobierna el Ayuntamiento de Madrid.
URL:https://www.periodicohortaleza.org/evento/encuentro-vecinal-con-los-vocales-de-ahora-hortaleza/
LOCATION:Centro Cultural Huerta de la Salud\, calle Mar de Aral\, 13\, posterior\, Madrid\, Madrid\, 28033\, España
ORGANIZER;CN="Ahora Madrid Hortaleza":MAILTO:ahorahortaleza@gmail.com
END:VEVENT
END:VCALENDAR