BEGIN:VCALENDAR
VERSION:2.0
PRODID:-//Hortaleza Periódico Vecinal - ECPv6.15.20//NONSGML v1.0//EN
CALSCALE:GREGORIAN
METHOD:PUBLISH
X-ORIGINAL-URL:https://www.periodicohortaleza.org
X-WR-CALDESC:Eventos para Hortaleza Periódico Vecinal
REFRESH-INTERVAL;VALUE=DURATION:PT1H
X-Robots-Tag:noindex
X-PUBLISHED-TTL:PT1H
BEGIN:VTIMEZONE
TZID:Europe/Madrid
BEGIN:DAYLIGHT
TZOFFSETFROM:+0100
TZOFFSETTO:+0200
TZNAME:CEST
DTSTART:20140330T010000
END:DAYLIGHT
BEGIN:STANDARD
TZOFFSETFROM:+0200
TZOFFSETTO:+0100
TZNAME:CET
DTSTART:20141026T010000
END:STANDARD
BEGIN:DAYLIGHT
TZOFFSETFROM:+0100
TZOFFSETTO:+0200
TZNAME:CEST
DTSTART:20150329T010000
END:DAYLIGHT
BEGIN:STANDARD
TZOFFSETFROM:+0200
TZOFFSETTO:+0100
TZNAME:CET
DTSTART:20151025T010000
END:STANDARD
BEGIN:DAYLIGHT
TZOFFSETFROM:+0100
TZOFFSETTO:+0200
TZNAME:CEST
DTSTART:20160327T010000
END:DAYLIGHT
BEGIN:STANDARD
TZOFFSETFROM:+0200
TZOFFSETTO:+0100
TZNAME:CET
DTSTART:20161030T010000
END:STANDARD
END:VTIMEZONE
BEGIN:VEVENT
DTSTART;TZID=Europe/Madrid:20150424T200000
DTEND;TZID=Europe/Madrid:20150424T230000
DTSTAMP:20260426T005710
CREATED:20150423T090339Z
LAST-MODIFIED:20150423T090339Z
UID:10001924-1429905600-1429916400@www.periodicohortaleza.org
SUMMARY:Noche de humor y teatro en La Factoría
DESCRIPTION:Este viernes 24 de abril Bob Starroll lleva a la cafetería La Factoría (calle Mota del Cuervo 72) su monólogo de humor ‘Compañeras: la descarradora historia de una adicción». A las 21 horas con entrada gratuita. Y antes\, a las 20 horas\, podrás disfrutar del último pase de la obra de microteatro ‘Dame una oportunidad’
URL:https://www.periodicohortaleza.org/evento/noche-de-humor-y-teatro-en-la-factoria/
LOCATION:Cafetería La Factoría\, Calle Mota del Cuervo\, 72\, Madrid\, Madrid\, España
END:VEVENT
BEGIN:VEVENT
DTSTART;TZID=Europe/Madrid:20150404T200000
DTEND;TZID=Europe/Madrid:20150404T220000
DTSTAMP:20260426T005710
CREATED:20150402T133233Z
LAST-MODIFIED:20150402T133233Z
UID:10001900-1428177600-1428184800@www.periodicohortaleza.org
SUMMARY:Concierto de 99 Rupias en La Factoría
DESCRIPTION:Este sábado 4 de abril\, el grupo de tango-jazz 99 Rupias actúa a las 20 horas en la cafetería La Factoría de Canillas\, en la calle Mota del Cuervo número 72. La entrada al concierto es gratuita.
URL:https://www.periodicohortaleza.org/evento/concierto-de-99-rupias-en-la-factoria/
LOCATION:Cafetería La Factoría\, Calle Mota del Cuervo\, 72\, Madrid\, Madrid\, España
END:VEVENT
BEGIN:VEVENT
DTSTART;TZID=Europe/Madrid:20150403T200000
DTEND;TZID=Europe/Madrid:20150403T220000
DTSTAMP:20260426T005710
CREATED:20150402T133911Z
LAST-MODIFIED:20150402T133911Z
UID:10001902-1428091200-1428098400@www.periodicohortaleza.org
SUMMARY:Actuación del Mago Mayo en La Factoría
DESCRIPTION:Este viernes 3 de abril\, el Mago Mayo actúa en la cafetería La Factoría de Canillas\, en la calle Mota del Cuervo número 72\, donde ofrecerá a partir de las 20 horas su espectáculo de magia participativa. La asistencia es libre y gratuita.
URL:https://www.periodicohortaleza.org/evento/actuacion-del-mago-mayo-en-la-factoria/
LOCATION:Cafetería La Factoría\, Calle Mota del Cuervo\, 72\, Madrid\, Madrid\, España
END:VEVENT
BEGIN:VEVENT
DTSTART;TZID=Europe/Madrid:20150329T120000
DTEND;TZID=Europe/Madrid:20150329T130000
DTSTAMP:20260426T005710
CREATED:20150328T143030Z
LAST-MODIFIED:20150328T143314Z
UID:10001887-1427630400-1427634000@www.periodicohortaleza.org
SUMMARY:Animación infantil en La Factoría
DESCRIPTION:Este domingo 29 de marzo\, la cafetería La Factoría de Canillas (calle Mota del Cuervo número 72) organiza a las 12 horas actividades infantiles como pintacaras\, globofexia y magia para los más pequeños. \n \n 
URL:https://www.periodicohortaleza.org/evento/animacion-infantil-en-la-factoria/
LOCATION:Cafetería La Factoría\, Calle Mota del Cuervo\, 72\, Madrid\, Madrid\, España
END:VEVENT
BEGIN:VEVENT
DTSTART;TZID=Europe/Madrid:20150328T200000
DTEND;TZID=Europe/Madrid:20150328T220000
DTSTAMP:20260426T005710
CREATED:20150328T142423Z
LAST-MODIFIED:20150328T142423Z
UID:10001885-1427572800-1427580000@www.periodicohortaleza.org
SUMMARY:Concierto de Classic Duo en La Factoría
DESCRIPTION:Este sábado 28 de marzo\, la cafetería La Factoría de Canillas (calle Mota del Cuervo número 72) organiza un recital de música de cuerda con violín y violonchelo a partir de las 20 horas\, y con entrada gratuita.
URL:https://www.periodicohortaleza.org/evento/concierto-de-classic-duo-en-la-factoria/
LOCATION:Cafetería La Factoría\, Calle Mota del Cuervo\, 72\, Madrid\, Madrid\, España
END:VEVENT
BEGIN:VEVENT
DTSTART;TZID=Europe/Madrid:20150321T200000
DTEND;TZID=Europe/Madrid:20150321T220000
DTSTAMP:20260426T005710
CREATED:20150320T025641Z
LAST-MODIFIED:20150320T025641Z
UID:10001881-1426968000-1426975200@www.periodicohortaleza.org
SUMMARY:Concierto acústico de Arosa Gómez
DESCRIPTION:El cantautor Arosa Gómez actúa este sábado 21 de marzo en la cafetería La Factoría de Canillas (calle Mota del Cuervo\, 72) a las 20 horas y con entrada gratuita.
URL:https://www.periodicohortaleza.org/evento/concierto-acustico-de-arosa-gomez/
LOCATION:Cafetería La Factoría\, Calle Mota del Cuervo\, 72\, Madrid\, Madrid\, España
END:VEVENT
BEGIN:VEVENT
DTSTART;TZID=Europe/Madrid:20150320T200000
DTEND;TZID=Europe/Madrid:20150320T230000
DTSTAMP:20260426T005710
CREATED:20150320T024651Z
LAST-MODIFIED:20150320T024651Z
UID:10001879-1426881600-1426892400@www.periodicohortaleza.org
SUMMARY:Microteatro y magia en La Factoría
DESCRIPTION:Sesión doble el viernes 20 de marzo en la cafetería La Factoría de Canillas. A las 20 horas\, obra de microteatro con entrada gratuita: ‘Dame una oportunidad‘ con los actores María Moreta y José Luis Valverde. Y después\, a las 21:30 horas\, espectáculo del mago Vega. Todo en la calle Mota del Cuervo número 72 (Metro Canillas).
URL:https://www.periodicohortaleza.org/evento/microteatro-y-magia-en-la-factoria/
LOCATION:Cafetería La Factoría\, Calle Mota del Cuervo\, 72\, Madrid\, Madrid\, España
END:VEVENT
BEGIN:VEVENT
DTSTART;TZID=Europe/Madrid:20150319T180000
DTEND;TZID=Europe/Madrid:20150319T210000
DTSTAMP:20260426T005710
CREATED:20150318T114549Z
LAST-MODIFIED:20150318T114846Z
UID:10001875-1426788000-1426798800@www.periodicohortaleza.org
SUMMARY:Inauguración de la exposición El Rostro de Cristina Salinas Araya
DESCRIPTION:Este jueves 19 de marzo\, a las 18 horas\, la cafetería La Factoría inaugura la exposición de retratos ‘El Rostro’ de la artista Cristina Salinas Araya\, que se podrá visitar hasta el próximo 19 de abril en la calle Mota del Cuervo número 72.
URL:https://www.periodicohortaleza.org/evento/inauguracion-de-la-exposicion-el-rostro-de-cristina-salinas-araya/
LOCATION:Cafetería La Factoría\, Calle Mota del Cuervo\, 72\, Madrid\, Madrid\, España
END:VEVENT
BEGIN:VEVENT
DTSTART;TZID=Europe/Madrid:20150313T213000
DTEND;TZID=Europe/Madrid:20150313T230000
DTSTAMP:20260426T005710
CREATED:20150312T225914Z
LAST-MODIFIED:20150312T225914Z
UID:10001871-1426282200-1426287600@www.periodicohortaleza.org
SUMMARY:Concierto de EnsamblaDOS
DESCRIPTION:La banda de jazz-fusión EnsamblaDOS actúa este viernes 13 de marzo\, a las 21:30 horas\, en la cafetería La Factoría\, en la calle Mota del Cuervo 72 (Metro Canillas). La entrada al concierto es gratuita.
URL:https://www.periodicohortaleza.org/evento/concierto-de-ensamblados/
LOCATION:Cafetería La Factoría\, Calle Mota del Cuervo\, 72\, Madrid\, Madrid\, España
END:VEVENT
END:VCALENDAR