BEGIN:VCALENDAR
VERSION:2.0
PRODID:-//Hortaleza Periódico Vecinal - ECPv6.15.20//NONSGML v1.0//EN
CALSCALE:GREGORIAN
METHOD:PUBLISH
X-ORIGINAL-URL:https://www.periodicohortaleza.org
X-WR-CALDESC:Eventos para Hortaleza Periódico Vecinal
REFRESH-INTERVAL;VALUE=DURATION:PT1H
X-Robots-Tag:noindex
X-PUBLISHED-TTL:PT1H
BEGIN:VTIMEZONE
TZID:Europe/Madrid
BEGIN:DAYLIGHT
TZOFFSETFROM:+0100
TZOFFSETTO:+0200
TZNAME:CEST
DTSTART:20140330T010000
END:DAYLIGHT
BEGIN:STANDARD
TZOFFSETFROM:+0200
TZOFFSETTO:+0100
TZNAME:CET
DTSTART:20141026T010000
END:STANDARD
BEGIN:DAYLIGHT
TZOFFSETFROM:+0100
TZOFFSETTO:+0200
TZNAME:CEST
DTSTART:20150329T010000
END:DAYLIGHT
BEGIN:STANDARD
TZOFFSETFROM:+0200
TZOFFSETTO:+0100
TZNAME:CET
DTSTART:20151025T010000
END:STANDARD
BEGIN:DAYLIGHT
TZOFFSETFROM:+0100
TZOFFSETTO:+0200
TZNAME:CEST
DTSTART:20160327T010000
END:DAYLIGHT
BEGIN:STANDARD
TZOFFSETFROM:+0200
TZOFFSETTO:+0100
TZNAME:CET
DTSTART:20161030T010000
END:STANDARD
BEGIN:DAYLIGHT
TZOFFSETFROM:+0100
TZOFFSETTO:+0200
TZNAME:CEST
DTSTART:20170326T010000
END:DAYLIGHT
BEGIN:STANDARD
TZOFFSETFROM:+0200
TZOFFSETTO:+0100
TZNAME:CET
DTSTART:20171029T010000
END:STANDARD
BEGIN:DAYLIGHT
TZOFFSETFROM:+0100
TZOFFSETTO:+0200
TZNAME:CEST
DTSTART:20180325T010000
END:DAYLIGHT
BEGIN:STANDARD
TZOFFSETFROM:+0200
TZOFFSETTO:+0100
TZNAME:CET
DTSTART:20181028T010000
END:STANDARD
END:VTIMEZONE
BEGIN:VEVENT
DTSTART;TZID=Europe/Madrid:20170304T113000
DTEND;TZID=Europe/Madrid:20170304T140000
DTSTAMP:20260426T023856
CREATED:20170228T194157Z
LAST-MODIFIED:20170302T230550Z
UID:10002327-1488627000-1488636000@www.periodicohortaleza.org
SUMMARY:Jornadas por el derecho a la vivienda en Hortaleza
DESCRIPTION:Hace 25 años el vecindario del barrio de Parque de Santa María se organizó y consiguió que se respetasen los precios de los alquileres.  El año pasado\, 800 viviendas fueron compradas por un fondo buitre\, que se dedica a especular con el precio de la viviendas sin importarle quién viva en ellas. Esto no sólo ocurre en Hortaleza otros fondos buitre ya están actuando en otros barrios de Madrid. \nEsto está provocando: \n– Una subida desmesurada de los alquileres y del precio de las viviendas.\n– La no renovación de los contratos de antiguos alquileres.\n– Inseguridad en los vecinos porque no saben qué puede suceder con su  vivienda. \nAhora también nos organizamos en el barrio para poder salvar nuestras casas y no vernos obligados a abandonar nuestro barrio\, nuestras familias\, nuestras amistades… Nuestra vida. Para ello\, este sábado 4 de marzo se celebran las Jornadas por el Derecho a la Vivienda de Hortaleza\, que se celebrarán en el centro cultural Huerta de la Salud (Calle Mar de las Antillas\, 8) desde las 11.30 horas. \nContaremos con la participación de Raquel Rodríguez catedrática de la Universidad Politécnica de Madrid que nos dará una visión general de la situación actual de la vivienda. También asistirán miembros de Promotores de la ILP\, Iniciativa Legislativa Popular por el derecho a la vivienda\, la Oficina de Apoyo Mutuo de Manoteras (OFIAM) y del grupo de alquilados/as de La Unión.
URL:https://www.periodicohortaleza.org/evento/jornadas-por-el-derecho-a-la-vivienda/
LOCATION:C.C. Huerta de la Salud\, Calle del Mar de Las Antillas\, 8\, Madrid\, Madrid\, 28033
END:VEVENT
BEGIN:VEVENT
DTSTART;TZID=Europe/Madrid:20151106T180000
DTEND;TZID=Europe/Madrid:20151106T210000
DTSTAMP:20260426T023856
CREATED:20151104T120926Z
LAST-MODIFIED:20151104T143005Z
UID:10001878-1446832800-1446843600@www.periodicohortaleza.org
SUMMARY:Encuentros en el distrito: Un programa para el cambio en el sistema sanitario
DESCRIPTION:El próximo viernes 6 de noviembre a las 18:00 horas en el Centro Cultural Huerta de la Salud\, Mónica Garcia (Médico y diputada en la Asamblea de Madrid)\, Jorge Aranda (Círculo de Sanidad y Trabajador del Hospital Ramón y Cajal) y José Manuel López (portavoz de Podemos en la Asamblea de Madrid) presentan las propuestas programáticas de Podemos relacionadas con la sanidad.
URL:https://www.periodicohortaleza.org/evento/encuentros-en-el-distrito-un-programa-para-el-cambio-en-el-sistema-sanitario/
LOCATION:C.C. Huerta de la Salud\, Calle del Mar de Las Antillas\, 8\, Madrid\, Madrid\, 28033
END:VEVENT
END:VCALENDAR