BEGIN:VCALENDAR
VERSION:2.0
PRODID:-//Hortaleza Periódico Vecinal - ECPv6.15.20//NONSGML v1.0//EN
CALSCALE:GREGORIAN
METHOD:PUBLISH
X-WR-CALNAME:Hortaleza Periódico Vecinal
X-ORIGINAL-URL:https://www.periodicohortaleza.org
X-WR-CALDESC:Eventos para Hortaleza Periódico Vecinal
REFRESH-INTERVAL;VALUE=DURATION:PT1H
X-Robots-Tag:noindex
X-PUBLISHED-TTL:PT1H
BEGIN:VTIMEZONE
TZID:Europe/Madrid
BEGIN:DAYLIGHT
TZOFFSETFROM:+0100
TZOFFSETTO:+0200
TZNAME:CEST
DTSTART:20180325T010000
END:DAYLIGHT
BEGIN:STANDARD
TZOFFSETFROM:+0200
TZOFFSETTO:+0100
TZNAME:CET
DTSTART:20181028T010000
END:STANDARD
BEGIN:DAYLIGHT
TZOFFSETFROM:+0100
TZOFFSETTO:+0200
TZNAME:CEST
DTSTART:20190331T010000
END:DAYLIGHT
BEGIN:STANDARD
TZOFFSETFROM:+0200
TZOFFSETTO:+0100
TZNAME:CET
DTSTART:20191027T010000
END:STANDARD
BEGIN:DAYLIGHT
TZOFFSETFROM:+0100
TZOFFSETTO:+0200
TZNAME:CEST
DTSTART:20200329T010000
END:DAYLIGHT
BEGIN:STANDARD
TZOFFSETFROM:+0200
TZOFFSETTO:+0100
TZNAME:CET
DTSTART:20201025T010000
END:STANDARD
BEGIN:DAYLIGHT
TZOFFSETFROM:+0100
TZOFFSETTO:+0200
TZNAME:CEST
DTSTART:20210328T010000
END:DAYLIGHT
BEGIN:STANDARD
TZOFFSETFROM:+0200
TZOFFSETTO:+0100
TZNAME:CET
DTSTART:20211031T010000
END:STANDARD
BEGIN:DAYLIGHT
TZOFFSETFROM:+0100
TZOFFSETTO:+0200
TZNAME:CEST
DTSTART:20220327T010000
END:DAYLIGHT
BEGIN:STANDARD
TZOFFSETFROM:+0200
TZOFFSETTO:+0100
TZNAME:CET
DTSTART:20221030T010000
END:STANDARD
END:VTIMEZONE
BEGIN:VTIMEZONE
TZID:Europe/Paris
BEGIN:DAYLIGHT
TZOFFSETFROM:+0100
TZOFFSETTO:+0200
TZNAME:CEST
DTSTART:20150329T010000
END:DAYLIGHT
BEGIN:STANDARD
TZOFFSETFROM:+0200
TZOFFSETTO:+0100
TZNAME:CET
DTSTART:20151025T010000
END:STANDARD
BEGIN:DAYLIGHT
TZOFFSETFROM:+0100
TZOFFSETTO:+0200
TZNAME:CEST
DTSTART:20160327T010000
END:DAYLIGHT
BEGIN:STANDARD
TZOFFSETFROM:+0200
TZOFFSETTO:+0100
TZNAME:CET
DTSTART:20161030T010000
END:STANDARD
BEGIN:DAYLIGHT
TZOFFSETFROM:+0100
TZOFFSETTO:+0200
TZNAME:CEST
DTSTART:20170326T010000
END:DAYLIGHT
BEGIN:STANDARD
TZOFFSETFROM:+0200
TZOFFSETTO:+0100
TZNAME:CET
DTSTART:20171029T010000
END:STANDARD
END:VTIMEZONE
BEGIN:VEVENT
DTSTART;TZID=Europe/Madrid:20211120T100000
DTEND;TZID=Europe/Madrid:20211120T100000
DTSTAMP:20260425T145731
CREATED:20211116T105100Z
LAST-MODIFIED:20211116T105100Z
UID:10003281-1637402400-1637402400@www.periodicohortaleza.org
SUMMARY:Torneo de Rugby por los Derechos de la Infancia en el XV Hortaleza
DESCRIPTION:El XV Hortaleza\, el club de rugby del barrio que tiene una de la mayores canteras de jugadores y jugadoras de España\, celebra este sábado 20 de noviembre –con motivo del Día Universal del Niño– la cuarta edición de su Torneo de Rugby por los Derechos de la Infancia\, dedicado a los niños y niñas de su escuela. \n«Vamos a pasar un día de deporte\, valores y amistad con dos clubes amigos –el Club de Rugby Liceo Francés y el Paracuellos Rugby Unión– y juntos daremos una vuelta conmemorativa a nuestro campo»\, apuntan desde el club. \nPROGRAMA \n10.00 horas: Debajo de palos. Palabras de bienvenida al torneo de rugby y vuelta al campo. \n10.30 horas: Comienzo de partidos. \n13.00 horas: Tercer tiempo.
URL:https://www.periodicohortaleza.org/evento/torneo-de-rugby-por-los-derechos-de-la-infancia-en-el-xv-hortaleza/
LOCATION:Campo de rugby del XV Hortaleza\, Avenida de las Píceas\, s/n\, Madrid\, Madrid\, España
ATTACH;FMTTYPE=image/jpeg:https://www.periodicohortaleza.org/wp-content/uploads/2018/12/Torneo-rugby-niñes-3.jpg
END:VEVENT
BEGIN:VEVENT
DTSTART;TZID=Europe/Madrid:20201128T103000
DTEND;TZID=Europe/Madrid:20201128T103000
DTSTAMP:20260425T145732
CREATED:20201127T161554Z
LAST-MODIFIED:20201127T161617Z
UID:10003090-1606559400-1606559400@www.periodicohortaleza.org
SUMMARY:Tercera edición del Torneo de Rugby por los Derechos de la Infancia
DESCRIPTION:El XV Hortaleza\, el club de rugby del barrio\, tiene una de la mayores canteras de jugadores y jugadoras de España\, y este sábado 28 de noviembre celebra la tercera edición de su Torneo por los Derechos de la Infancia\, dedicado a los niños y niñas de su escuela. Además\, en la misma jornada su campo de la avenida de las Piceas acogerá unas jornadas de aprendizaje y valores con la asociación de promoción familiar Nazaret. \nEl torneo comenzará a las 10.30 horas con los jugadores de las categorías categorías Sub 6\, Sub 8\, Sub 10 y Sub 12 como protagonistas. «Con los tiempos difíciles que estamos viviendo debido a la pandemia del COVID-19\, creemos que ahora más que nunca debemos continuar enseñando los valores del rugby a los niños y niñas\, desde el juego y la diversión. Nuestros voluntarios/as y entrenadores/as velarán\, como han hecho hasta ahora\, para que se cumplan rigurosamente todas las medidas sanitarias»\, apuntan desde el club. \nPor la tarde\, de 17 a 18.30 horas\, se celebrará un taller con la asociación familiar Nazaret dirigido a niños y niñas de entre 13 y 16 años. Esta asociación trabaja en el barrio madrileño de San Blas para mejorar la calidad de vida de sus familias y menores\, con entregas de alimentos\, apoyo escolar\, actividades de tiempo libre lúdico-educativas y deportivas\, e incluso un campamento de verano para más de un centenar niños y niñas.
URL:https://www.periodicohortaleza.org/evento/tercer-torneo-de-rugby-por-los-derechos-de-la-infancia-del-xv-hortaleza/
LOCATION:Campo de rugby del XV Hortaleza\, Avenida de las Píceas\, s/n\, Madrid\, Madrid\, España
CATEGORIES:Deportes
ATTACH;FMTTYPE=image/jpeg:https://www.periodicohortaleza.org/wp-content/uploads/2018/12/Torneo-rugby-niñes-3.jpg
END:VEVENT
BEGIN:VEVENT
DTSTART;TZID=Europe/Madrid:20191123T103000
DTEND;TZID=Europe/Madrid:20191123T133000
DTSTAMP:20260425T145732
CREATED:20191121T122240Z
LAST-MODIFIED:20191121T122240Z
UID:10002916-1574505000-1574515800@www.periodicohortaleza.org
SUMMARY:II Torneo de Rugby por los Derechos de la Infancia
DESCRIPTION:El sábado 23 de noviembre\, de 10.30 a 13.30 horas\, el XV Hortaleza Rugby celebra por segundo año consecutivo el Torneo por los Derechos de la Infancia en el campo de la Avenida de las Píceas\, al cual acudirán tres equipos invitados de Madrid: Alcorcón\, Arquitectura y San Isidro.\n\nEl evento se abrirá con una vuelta solidaria por los derechos de la infancia y a las 11.00 horas empezarán los partidos de las distintas categorías participantes: inferiores\, sub 10\, sub 8 y sub 6; reuniendo a casi 300 niños y niñas.\n\nAl acabar los partidos\, se invitará a todos a disfrutar del tercer tiempo.
URL:https://www.periodicohortaleza.org/evento/ii-torneo-de-rugby-por-los-derechos-de-la-infancia/
ATTACH;FMTTYPE=image/jpeg:https://www.periodicohortaleza.org/wp-content/uploads/2018/11/negro-e1542100059508.jpeg
END:VEVENT
BEGIN:VEVENT
DTSTART;TZID=Europe/Paris:20160220T100000
DTEND;TZID=Europe/Paris:20160220T150000
DTSTAMP:20260425T145732
CREATED:20160218T144237Z
LAST-MODIFIED:20160218T144237Z
UID:10002036-1455962400-1455980400@www.periodicohortaleza.org
SUMMARY:Torneo de Carnaval del XV Hortaleza
DESCRIPTION:El club de rugby XV Hortaleza organiza este sábado 20 de febrero la cuarta edición de su Torneo de Carnaval\, que se celebrará desde las 10 horas en su campo de la avenida de las Píceas. \nAdemás del concurso de disfraces habrá ‘operación Lata’ para recoger alimentos destinados a la asociación Lakoma. \n \n 
URL:https://www.periodicohortaleza.org/evento/torneo-de-carnaval-del-xv-hortaleza/
LOCATION:Campo de rugby del XV Hortaleza\, Avenida de las Píceas\, s/n\, Madrid\, Madrid\, España
END:VEVENT
END:VCALENDAR