BEGIN:VCALENDAR
VERSION:2.0
PRODID:-//Hortaleza Periódico Vecinal - ECPv6.15.20//NONSGML v1.0//EN
CALSCALE:GREGORIAN
METHOD:PUBLISH
X-ORIGINAL-URL:https://www.periodicohortaleza.org
X-WR-CALDESC:Eventos para Hortaleza Periódico Vecinal
REFRESH-INTERVAL;VALUE=DURATION:PT1H
X-Robots-Tag:noindex
X-PUBLISHED-TTL:PT1H
BEGIN:VTIMEZONE
TZID:Europe/Madrid
BEGIN:DAYLIGHT
TZOFFSETFROM:+0100
TZOFFSETTO:+0200
TZNAME:CEST
DTSTART:20160327T010000
END:DAYLIGHT
BEGIN:STANDARD
TZOFFSETFROM:+0200
TZOFFSETTO:+0100
TZNAME:CET
DTSTART:20161030T010000
END:STANDARD
BEGIN:DAYLIGHT
TZOFFSETFROM:+0100
TZOFFSETTO:+0200
TZNAME:CEST
DTSTART:20170326T010000
END:DAYLIGHT
BEGIN:STANDARD
TZOFFSETFROM:+0200
TZOFFSETTO:+0100
TZNAME:CET
DTSTART:20171029T010000
END:STANDARD
BEGIN:DAYLIGHT
TZOFFSETFROM:+0100
TZOFFSETTO:+0200
TZNAME:CEST
DTSTART:20180325T010000
END:DAYLIGHT
BEGIN:STANDARD
TZOFFSETFROM:+0200
TZOFFSETTO:+0100
TZNAME:CET
DTSTART:20181028T010000
END:STANDARD
BEGIN:DAYLIGHT
TZOFFSETFROM:+0100
TZOFFSETTO:+0200
TZNAME:CEST
DTSTART:20190331T010000
END:DAYLIGHT
BEGIN:STANDARD
TZOFFSETFROM:+0200
TZOFFSETTO:+0100
TZNAME:CET
DTSTART:20191027T010000
END:STANDARD
BEGIN:DAYLIGHT
TZOFFSETFROM:+0100
TZOFFSETTO:+0200
TZNAME:CEST
DTSTART:20200329T010000
END:DAYLIGHT
BEGIN:STANDARD
TZOFFSETFROM:+0200
TZOFFSETTO:+0100
TZNAME:CET
DTSTART:20201025T010000
END:STANDARD
BEGIN:DAYLIGHT
TZOFFSETFROM:+0100
TZOFFSETTO:+0200
TZNAME:CEST
DTSTART:20210328T010000
END:DAYLIGHT
BEGIN:STANDARD
TZOFFSETFROM:+0200
TZOFFSETTO:+0100
TZNAME:CET
DTSTART:20211031T010000
END:STANDARD
BEGIN:DAYLIGHT
TZOFFSETFROM:+0100
TZOFFSETTO:+0200
TZNAME:CEST
DTSTART:20220327T010000
END:DAYLIGHT
BEGIN:STANDARD
TZOFFSETFROM:+0200
TZOFFSETTO:+0100
TZNAME:CET
DTSTART:20221030T010000
END:STANDARD
BEGIN:DAYLIGHT
TZOFFSETFROM:+0100
TZOFFSETTO:+0200
TZNAME:CEST
DTSTART:20230326T010000
END:DAYLIGHT
BEGIN:STANDARD
TZOFFSETFROM:+0200
TZOFFSETTO:+0100
TZNAME:CET
DTSTART:20231029T010000
END:STANDARD
END:VTIMEZONE
BEGIN:VTIMEZONE
TZID:Europe/Paris
BEGIN:DAYLIGHT
TZOFFSETFROM:+0100
TZOFFSETTO:+0200
TZNAME:CEST
DTSTART:20150329T010000
END:DAYLIGHT
BEGIN:STANDARD
TZOFFSETFROM:+0200
TZOFFSETTO:+0100
TZNAME:CET
DTSTART:20151025T010000
END:STANDARD
BEGIN:DAYLIGHT
TZOFFSETFROM:+0100
TZOFFSETTO:+0200
TZNAME:CEST
DTSTART:20160327T010000
END:DAYLIGHT
BEGIN:STANDARD
TZOFFSETFROM:+0200
TZOFFSETTO:+0100
TZNAME:CET
DTSTART:20161030T010000
END:STANDARD
BEGIN:DAYLIGHT
TZOFFSETFROM:+0100
TZOFFSETTO:+0200
TZNAME:CEST
DTSTART:20170326T010000
END:DAYLIGHT
BEGIN:STANDARD
TZOFFSETFROM:+0200
TZOFFSETTO:+0100
TZNAME:CET
DTSTART:20171029T010000
END:STANDARD
END:VTIMEZONE
BEGIN:VEVENT
DTSTART;TZID=Europe/Madrid:20220430T120000
DTEND;TZID=Europe/Madrid:20220430T140000
DTSTAMP:20260425T222336
CREATED:20220124T075418Z
LAST-MODIFIED:20220420T004649Z
UID:10003336-1651320000-1651327200@www.periodicohortaleza.org
SUMMARY:Salvemos la finca de Los Almendros: Carlos Arniches en el pueblo de Hortaleza
DESCRIPTION:El sábado 30 de abril a las 12 horas\, el centro cultural Huerta de la Salud (calle Mar de las Antillas\, 8) acoge un programa de radio con público dedicado a la histórica finca Los Almendros de Hortaleza\, ahora amenazada por un proyecto inmobiliario\, y al dramaturgo Carlos Arniches\, que fue su propietario a principios del siglo XX\, cuando la también conocida como Huerta de Mena se convirtió en un punto de encuentro de intelectuales y poetas de la época. \n‘Salvemos la finca de Los Almendros: Carlos Arniches en el pueblo de Hortaleza’ es el nombre de este programa a cargo de Radio Enlace\, la emisora comunitaria del barrio\, que organiza la Plataforma en Defensa del Casco Antiguo de Hortaleza. En esta emisión especial participarán Joseba Barron-Arniches Ezpeleta\, descendiente de Carlos Arniches y autor de varios libros sobre el dramaturgo\, y la arquitecta Concha Díez-Pastor. Además\, los asistentes podrán tomar la palabra durante la grabación del programa. \nEl dramaturgo Carlos Arniches se inspiró en el pueblo de Hortaleza para crear algunas de sus obras\, y fue propietario de la Huerta de Mena entre 1920 y 1930\, cuando estableció allí su residencia de verano. En el programa se hablará de este destacado dramaturgo y los motivos que le llevaron a elegir esta localidad como lugar de recreo y descanso. Además se describiría la arquitectura de una quinta histórica del siglo XVIII que contó con ilustres propietarios como Eugenia de Mena\, el Conde Villagonzalo\, José Gasset Chinchilla\, Carlos Arniches y el doctor Manzanete; y en la que se reunieron intelectuales\, científicos y deportistas. \nLa histórica finca de Los Almendros de Hortaleza se encuentra actualmente amenazada y podría desaparecer para construir oficinas en sus terrenos. Las religiosas propietarias de esta antigua quinta de recreo\, las Madres Adoratrices\, han alcanzado un compromiso de venta del terreno a un comprador desconocido condicionado a la aprobación de un Plan Especial por parte del Ayuntamiento de Madrid\, según desveló el diario El País. \nMás de 4.000 personas han firmado ya una petición digital para proteger por su valor patrimonial y natural esta finca ubicada entre las autopistas M-40 y M-11\, que permanece cerrada desde 2012.
URL:https://www.periodicohortaleza.org/evento/salvemos-la-finca-de-los-almendros-carlos-arniches-en-el-pueblo-de-hortaleza/
LOCATION:Centro Cultural Huerta de la Salud\, Calle Mar de las Antillas\, 10\, Madrid\, Madrid\, España
ATTACH;FMTTYPE=image/jpeg:https://www.periodicohortaleza.org/wp-content/uploads/2022/01/Finca-Los-Almendros.jpg
ORGANIZER;CN="Plataforma en Defensa del Casco Antiguo de Hortaleza":MAILTO:salvarcascoantiguohtz@gmail.com
END:VEVENT
BEGIN:VEVENT
DTSTART;TZID=Europe/Madrid:20181223T120000
DTEND;TZID=Europe/Madrid:20181223T120000
DTSTAMP:20260425T222336
CREATED:20181218T200430Z
LAST-MODIFIED:20181218T200430Z
UID:10002727-1545566400-1545566400@www.periodicohortaleza.org
SUMMARY:Concentración en Defensa del Casco Antiguo de Hortaleza
DESCRIPTION:El domingo 23 de diciembre a las 12.00 horas\, la Plataforma en Defensa del Casco Antiguo de Hortaleza convoca una concentración en la plaza de la Iglesia. La construcción de un macrogimnasio amenaza la configuración original de estos edificios\, patrimonio histórico del pueblo de Hortaleza\, mientras que está preparándose la solicitud para la incoación como BIC tanto de la iglesia como de su plaza.
URL:https://www.periodicohortaleza.org/evento/concentracion-en-defensa-del-casco-antiguo-de-hortaleza/
LOCATION:Plaza de la Iglesia de Hortaleza\, Plaza de la Iglesia s/n\, Madrid\, Madrid\, 28033\, España
ATTACH;FMTTYPE=image/jpeg:https://www.periodicohortaleza.org/wp-content/uploads/2018/12/DusNwBrWsAA2mfp.jpg
ORGANIZER;CN="Plataforma en Defensa del Casco Antiguo de Hortaleza":MAILTO:salvarcascoantiguohtz@gmail.com
END:VEVENT
BEGIN:VEVENT
DTSTART;TZID=Europe/Madrid:20181121T190000
DTEND;TZID=Europe/Madrid:20181121T190000
DTSTAMP:20260425T222336
CREATED:20181121T150817Z
LAST-MODIFIED:20181121T163255Z
UID:10002410-1542826800-1542826800@www.periodicohortaleza.org
SUMMARY:Reunión informativa de la Plataforma en Defensa del Casco Antiguo de Hortaleza
DESCRIPTION:El Ayuntamiento de Madrid aprobó hace dos años\, con el voto a favor de Ahora Madrid y del Partido Popular\, cambiar para siempre el único rincón de Hortaleza que no había cambiado nunca. Hablamos del denominado Plan Especial Paúles\, un proyecto urbanístico promovido por la congregación religiosa de San Vicente de Paúl para construir un macrogimnasio en la centenaria plaza de la iglesia de Hortaleza\, lo que supone derribar una decena de edificios\, algunos de las más antiguos del barrio\, para levantar un enorme negocio de gestión privada en el corazón del antiguo pueblo\, a solo unos metros del templo neomudéjar de Hortaleza. \nLa operación se aprobó a espaldas del vecindario y generó rechazo de inmediato\, como demuestran las más de 1.000 firmas recogidas tras difundirse la noticia. En Hortaleza pocos entienden la necesidad de derribar edificios anteriores a 1870\, o destruir las galerías subterráneas que se extienden bajo el suelo del antiguo pueblo\, para construir un nuevo macrogimnasio cuando otro languidece\, cerrado desde hace años\, a menos de 500 metros. \nEl proyecto de los Paúles es una seria amenaza al patrimonio histórico y arquitectónico de Hortaleza. Y también genera sospechas. Por ejemplo\, extraña que obtuviera el visto bueno de la Comisión de Protección del Patrimonio Histórico del Ayuntamiento solo dos días antes de las elecciones municipales de 2015\, y que lo consiguiera tras eliminar la protección estructural de la que gozaban los dos edificios más antiguos de la plaza. \nAdemás\, la escasa información que ha trascendido del proyecto apunta que el macrogimnasio será explotado por la empresa Ingesport\, propietaria de la marca de gimnasios Go Fit\, con la que gestiona varios polideportivos municipales privatizados en Madrid\, y que fue adquirida en 2015 por Mutua Madrileña y el multimillonario Juan Abelló\, que posee una de las mayores fortunas de España. \nLas vecinas y vecinos que nos oponemos a la destrucción de la plaza constituimos la Plataforma en Defensa del Casco Antiguo de Hortaleza\, y junto a la asociación Madrid Ciudadanía y Patrimonio y a la Federación Regional de Asociaciones Vecinales de Madrid (FRAVM) emprendimos acciones para proteger el patrimonio del barrio. Primero conseguimos que la Comunidad de Madrid paralizase cautelarmente la concesión de las licencias para evitar “daños irreversibles” en el patrimonio arquitectónico y arqueológico de Hortaleza mientras se analiza el impacto del edificio. Después\, y tras solicitar al Ayuntamiento la revisión del proyecto\, decidimos acudir a los tribunales. \nLo hicimos el año pasado\, gracias a la generosa aportación del vecindario y del movimiento asociativo de Hortaleza\, con la que pudimos costear un recurso que\, ahora\, el Tribunal Superior de Justicia de Madrid ha rechazado por una cuestión de procedimiento sin profundizar en los motivos por los que solicitábamos la anulación del proyecto. Además\, el tribunal nos condena a pagar las costas judiciales. En concreto\, hasta 2.000 euros para “satisfacer” a las partes demandas. Dicho de otra manera\, tenemos que pagar al Ayuntamiento y a los Paúles. \nAhora\, como hace un año\, hacemos un llamamiento a la solidaridad vecinal para hacer frente a las costas\, pero también a continuar con nuestro propósito de defender de la voracidad urbanística lo poco que queda del antiguo pueblo de Hortaleza. \nPor eso animamos al vecindario a acudir este miércoles 21 de noviembre\, a las 19 horas\, al Espacio Danos Tiempo\, en la calle Mar de Bering número 5\, para celebrar una reunión informativa donde analizar la sentencia y los próximos pasos que daremos para evitar la construcción del gimnasio. Entre ellos\, solicitar que la plaza de la Iglesia de Hortaleza sea declarada Bien de Interés Cultural\, una petición para la que necesitamos la ayuda de los colectivos del barrio. \nHortaleza siempre ha sido un barrio solidario que responde. Nuestra historia y nuestro patrimonio bien merecen un esfuerzo. Os esperamosas
URL:https://www.periodicohortaleza.org/evento/reunion-informativa-de-la-plataforma-en-defensa-del-casco-antiguo-de-hortaleza/
LOCATION:Espacio Danos Tiempo
ATTACH;FMTTYPE=image/jpeg:https://www.periodicohortaleza.org/wp-content/uploads/2018/11/Reunión-Casco-Antiguo.jpg
ORGANIZER;CN="Plataforma en Defensa del Casco Antiguo de Hortaleza":MAILTO:salvarcascoantiguohtz@gmail.com
END:VEVENT
BEGIN:VEVENT
DTSTART;TZID=Europe/Madrid:20171025T190000
DTEND;TZID=Europe/Madrid:20171025T190000
DTSTAMP:20260425T222336
CREATED:20171024T140553Z
LAST-MODIFIED:20171024T195430Z
UID:10002175-1508958000-1508958000@www.periodicohortaleza.org
SUMMARY:Acto informativo: Hortaleza acude a los tribunales para salvar su casco antiguo
DESCRIPTION:El vecindario del casco antiguo de Hortaleza\, que fue durante siglos un municipio independiente antes de su anexión a Madrid\, ha decidido acudir a los tribunales para proteger los edificios de su centenaria plaza de la iglesia ante la amenaza de que sean derribados para construir un gimnasio privado de grandes dimensiones. \nEl año pasado\, el Pleno del Ayuntamiento de Madrid aprobó\, con los votos de Ahora Madrid y Partido Popular\, el plan especial que permitirá a la Congregación Religiosa de San Vicente de Paúl construir este gimnasio\, que gestionará la empresa Ingesport\, y supondrá la desaparición de algunos de los edificios más antiguos de este barrio\, y que gozaban de protección. \nAnte esta situación\, la Federación Regional de Asociaciones de Vecinos de Madrid (FRAVM) y Madrid\, Ciudadanía y Patrimonio (MCyP) han presentado un recurso judicial contra este plan especial que ya ha sido admitido a trámite por el Tribunal Superior de Justicia de Madrid. El recurso ha sido financiado por aportaciones de vecinos y vecinas de Hortaleza a través de la Plataforma en Defensa del Casco Antiguo y otros colectivos de este distrito. \nEste miércoles 25 de octubre\, la Plataforma organiza un acto en el CEPA de Hortaleza\, en la calle Mar Amarillo 21 (Metro San Lorenzo)\, en el casco antiguo de Hortaleza\, donde se detallará el contenido del recurso y se informará de los planes del vecindario para salvar este conjunto de edificios. El acto se celebrará a las 19.00 horas y participarán Rosa Domínguez\, arqueóloga\, portavoz de la Plataforma en Defensa del Casco Antiguo de Hortaleza y miembro de Madrid\, Ciudadanía y Patrimonio (MCyP)\, y Raúl Maíllo\, abogado de la FRAVM
URL:https://www.periodicohortaleza.org/evento/acto-informativo-hortaleza-acude-a-los-tribunales-para-salvar-su-casco-antiguo/
LOCATION:CEPA Hortaleza\, Calle Mar Amarillo\, 21\, Madrid\, Madrid\, 28033\, España
ATTACH;FMTTYPE=image/jpeg:https://www.periodicohortaleza.org/wp-content/uploads/2017/10/Acto-casco-antiguo-Cepa-Hortaleza.jpeg
ORGANIZER;CN="Plataforma en Defensa del Casco Antiguo de Hortaleza":MAILTO:salvarcascoantiguohtz@gmail.com
END:VEVENT
BEGIN:VEVENT
DTSTART;TZID=Europe/Paris:20161127T120000
DTEND;TZID=Europe/Paris:20161127T130000
DTSTAMP:20260425T222336
CREATED:20161120T171513Z
LAST-MODIFIED:20161120T182040Z
UID:10002253-1480248000-1480251600@www.periodicohortaleza.org
SUMMARY:Concentración ‘Salvemos el casco antiguo de Hortaleza’
DESCRIPTION:La Plataforma en Defensa del Casco Antiguo de Hortaleza ha convocado una concentración vecinal el domingo 27 de noviembre\, a las 12 horas\, en la Plaza de la Iglesia para oponerse a la construcción de un gran gimnasio privado en este rincón centenario\, que supondrá el derribo de una decena de edificios\, algunos con más de 150 años de antigüedad.
URL:https://www.periodicohortaleza.org/evento/concentracion-salvemos-el-casco-antiguo-de-hortaleza-2/
LOCATION:Plaza de la Iglesia de Hortaleza\, Plaza de la Iglesia s/n\, Madrid\, Madrid\, 28033\, España
ORGANIZER;CN="Plataforma en Defensa del Casco Antiguo de Hortaleza":MAILTO:salvarcascoantiguohtz@gmail.com
END:VEVENT
BEGIN:VEVENT
DTSTART;TZID=Europe/Paris:20161104T190000
DTEND;TZID=Europe/Paris:20161104T200000
DTSTAMP:20260425T222336
CREATED:20161103T144010Z
LAST-MODIFIED:20161103T145501Z
UID:10002015-1478286000-1478289600@www.periodicohortaleza.org
SUMMARY:Reunión de la Plataforma en Defensa del Casco Antiguo de Hortaleza
DESCRIPTION:La Plataforma en Defensa del Casco Antiguo de Hortaleza\, constituida por asociaciones\, colectivos y vecinos y vecinas del distrito\, vuelve a reunirse este viernes 4 de noviembre para continuar con las movilizaciones contra la construcción de un gran gimnasio privado en la Plaza de la Iglesia de Hortaleza que supondrá el derribo de una decena de edificios\, algunos con más de 150 años de antigüedad. \nTras la primera concentración celebrada el pasado domingo 23 de octubre\, y a la que acudieron un centenar de personas y representantes de diferentes partidos políticos\, la Plataforma ha convocado una nueva reunión este viernes a las 19 horas en la asociación Danos Tiempo (Calle Mar de Japón\, 13) para acordar los siguientes pasos contra el denominado Plan Especial Paúles\, que fue aprobado en el Pleno del Ayuntamiento de Madrid en mayo con el voto de Ahora Madrid y Partido Popular\, y contra el que ya han firmado más de 800 vecinos y vecinas.
URL:https://www.periodicohortaleza.org/evento/reunion-de-la-plataforma-en-defensa-del-casco-antiguo-de-hortaleza/
LOCATION:Asociación Danos Tiempo\, C/ Mar de Bering nº 5\, Madrid\, 28033\, España
ORGANIZER;CN="Plataforma en Defensa del Casco Antiguo de Hortaleza":MAILTO:salvarcascoantiguohtz@gmail.com
END:VEVENT
BEGIN:VEVENT
DTSTART;TZID=Europe/Paris:20161023T120000
DTEND;TZID=Europe/Paris:20161023T140000
DTSTAMP:20260425T222336
CREATED:20161017T000614Z
LAST-MODIFIED:20161020T164704Z
UID:10002221-1477224000-1477231200@www.periodicohortaleza.org
SUMMARY:Concentración 'Salvemos el casco antiguo de Hortaleza'
DESCRIPTION:La Plataforma en Defensa del Casco Antiguo de Hortaleza ha convocado una concentración vecinal el domingo 23 de octubre\, a las 12 horas\, en la Plaza de la Iglesia para oponerse a la construcción de un gran gimnasio privado en este rincón centenario\, que supondrá el derribo de una decena de edificios\, algunos con más de 150 años de antiguedad.
URL:https://www.periodicohortaleza.org/evento/concentracion-salvemos-el-casco-antiguo-de-hortaleza/
LOCATION:Plaza de la Iglesia de Hortaleza\, Plaza de la Iglesia s/n\, Madrid\, Madrid\, 28033\, España
ORGANIZER;CN="Plataforma en Defensa del Casco Antiguo de Hortaleza":MAILTO:salvarcascoantiguohtz@gmail.com
END:VEVENT
END:VCALENDAR