BEGIN:VCALENDAR
VERSION:2.0
PRODID:-//Hortaleza Periódico Vecinal - ECPv6.15.20//NONSGML v1.0//EN
CALSCALE:GREGORIAN
METHOD:PUBLISH
X-ORIGINAL-URL:https://www.periodicohortaleza.org
X-WR-CALDESC:Eventos para Hortaleza Periódico Vecinal
REFRESH-INTERVAL;VALUE=DURATION:PT1H
X-Robots-Tag:noindex
X-PUBLISHED-TTL:PT1H
BEGIN:VTIMEZONE
TZID:Europe/Madrid
BEGIN:DAYLIGHT
TZOFFSETFROM:+0100
TZOFFSETTO:+0200
TZNAME:CEST
DTSTART:20210328T010000
END:DAYLIGHT
BEGIN:STANDARD
TZOFFSETFROM:+0200
TZOFFSETTO:+0100
TZNAME:CET
DTSTART:20211031T010000
END:STANDARD
BEGIN:DAYLIGHT
TZOFFSETFROM:+0100
TZOFFSETTO:+0200
TZNAME:CEST
DTSTART:20220327T010000
END:DAYLIGHT
BEGIN:STANDARD
TZOFFSETFROM:+0200
TZOFFSETTO:+0100
TZNAME:CET
DTSTART:20221030T010000
END:STANDARD
BEGIN:DAYLIGHT
TZOFFSETFROM:+0100
TZOFFSETTO:+0200
TZNAME:CEST
DTSTART:20230326T010000
END:DAYLIGHT
BEGIN:STANDARD
TZOFFSETFROM:+0200
TZOFFSETTO:+0100
TZNAME:CET
DTSTART:20231029T010000
END:STANDARD
END:VTIMEZONE
BEGIN:VEVENT
DTSTART;TZID=Europe/Madrid:20220917T170000
DTEND;TZID=Europe/Madrid:20220917T170000
DTSTAMP:20260420T003715
CREATED:20220912T105729Z
LAST-MODIFIED:20220912T105729Z
UID:10003545-1663434000-1663434000@www.periodicohortaleza.org
SUMMARY:Jornada gratuita de juegos de mesa y rol en el CS El Nido
DESCRIPTION:El sábado 17 de septiembre a las 17.00 horas\, nueva jornada gratuita de juegos de mesa y rol con Generación Hortaleza\, en colaboración con Somos Juegos\, en el Centro Social El Nido (calle Santa Susana\, número 28 bajo). \nEsta jornada gratuita de juegos de mesa y rol seguirá siendo de acceso libre y con la implementación de la entrada inversa\, de forma que\, una vez que hayas disfrutado el tiempo que desees\, puedes decidir si aportar o no lo que consideres. \nEl catálogo de juegos ha sido ampliado con más opciones para todos los niveles y tamaños de grupo: Disney Villainous\, Toma 6\, Catán\, Dobble\, Jungle Speed\, Exploding Kittens\, Hanabi\, Love Letter\, Azul\, Hive\, Marraquesh\, The Mind\, Picatesoros\, Pandemic\, Paradice y muchos más. \nGrupos de dos jugadores\, padres con niños\, grupos grandes\, grupos sin experiencia en este tipo de juegos y más van a ser bienvenidos y animan a la gente que no tenga grupo a que vaya sin miedo\, dado que en todos  los juegos siempre hay hueco para una persona más. \nSe mantiene la intención de acercar estos juegos como modo de ocio alternativo\, enseñando a jugar a toda persona interesada y recomendando juegos pensando en los componentes de los grupos.
URL:https://www.periodicohortaleza.org/evento/jornada-gratuita-de-juegos-de-mesa-y-rol-en-el-cs-el-nido/
LOCATION:Centro Social El Nido de Hortaleza\, Calle Santa Susana\, 28\, Madrid\, Madrid\, 28033\, España
ATTACH;FMTTYPE=image/jpeg:https://www.periodicohortaleza.org/wp-content/uploads/2022/09/FcNjIwiWIAAPi_0-scaled.jpg
END:VEVENT
BEGIN:VEVENT
DTSTART;TZID=Europe/Madrid:20220522T100000
DTEND;TZID=Europe/Madrid:20220522T100000
DTSTAMP:20260420T003715
CREATED:20220518T110059Z
LAST-MODIFIED:20220518T111129Z
UID:10003433-1653213600-1653213600@www.periodicohortaleza.org
SUMMARY:Jornada de juegos de mesa y concierto en el CS El Nido
DESCRIPTION:El domingo 22 de mayo de 10.00 horas\, nueva jornada de juegos de mesa con Generación Hortaleza\, en colaboración con Somos Juegos\, con la celebración de un concierto al terminar el evento en el Centro Social El Nido (calle Santa Susana\, número 28 bajo). \nEsta jornada de juegos de mesa y concierto seguirá siendo de acceso gratuito y con la implementación de la entrada inversa\, de forma que\, una vez que hayas disfrutado el tiempo que desees\, puedes decidir si aportar o no lo que consideres. \nEl catálogo de juegos ha sido ampliado con más opciones para todos los niveles y tamaños de grupo: Disney Villainous\, Toma 6\, Catán\, Dobble\, Jungle Speed\, Exploding Kittens\, Hanabi\, Love Letter\, Azul\, Hive\, Marraquesh\, The Mind\, Picatesoros\, Pandemic\, Paradice y muchos más. \nGrupos de dos jugadores\, padres con niños\, grupos grandes\, grupos sin experiencia en este tipo de juegos y más van a ser bienvenidos y animan a la gente que no tenga grupo a que vaya sin miedo\, dado que en todos  los juegos siempre hay hueco para una persona más. \nSe mantiene la intención de acercar estos juegos como modo de ocio alternativo\, enseñando a jugar a toda persona interesada y recomendando juegos pensando en los componentes de los grupos. \nPor limitaciones del espacio\, si queréis una partida de rol o un juego largo\, se aconseja empezar al principio\, pues el espacio del sótano debe quedar libre a las 13.00 horas para celebrar los Domingos Culturales con el concierto de Trast3\, con Paloma Rivero y Jorge Valverde. \nAsí pues\, es mejor contactar para reservar juegos y venir con antelación. \nComo siempre\, una vez terminada la actuación\, también habrá comida popular.
URL:https://www.periodicohortaleza.org/evento/jornada-de-juegos-de-mesa-y-concierto-en-el-cs-el-nido/
LOCATION:Centro Social El Nido de Hortaleza\, Calle Santa Susana\, 28\, Madrid\, Madrid\, 28033\, España
ATTACH;FMTTYPE=image/jpeg:https://www.periodicohortaleza.org/wp-content/uploads/2022/05/FPXXgutWUAYxCFA.jpg
ORGANIZER;CN="Centro Social El Nido de Hortaleza":MAILTO:elnidodehortaleza@gmail.com
END:VEVENT
BEGIN:VEVENT
DTSTART;TZID=Europe/Madrid:20220430T110000
DTEND;TZID=Europe/Madrid:20220430T140000
DTSTAMP:20260420T003715
CREATED:20220427T103106Z
LAST-MODIFIED:20220427T103106Z
UID:10003413-1651316400-1651327200@www.periodicohortaleza.org
SUMMARY:Jornada de juegos de mesa y rol en el Espacio Pegaso
DESCRIPTION:El sábado 30 de abril de 11.00 a 14.00 horas\, con posibilidad de que el horario se extienda\, Generación Hortaleza\, en colaboración con Somos Juegos\, celebra una nueva jornada de juegos de mesa y rol en el Espacio Pegaso (calle Pegaso\, 20). \nEsta jornada de juegos de mesa y rol seguirá siendo de acceso gratuito y con la implementación de la entrada inversa\, de forma que\, una vez que hayas disfrutado el tiempo que desees\, puedes decidir si aportar o no lo que consideres. \nEl catálogo de juegos ha sido ampliado con más opciones para todos los niveles y tamaños de grupo: Disney Villainous\, Toma 6\, Catán\, Dobble\, Jungle Speed\, Exploding Kittens\, Hanabi\, Love Letter\, Azul\, Hive\, Marraquesh\, The Mind\, Picatesoros\, Pandemic\, Paradice y muchos más. \nGrupos de dos jugadores\, padres con niños\, grupos grandes\, grupos sin experiencia en este tipo de juegos y más van a ser bienvenidos y animan a la gente que no tenga grupo a que vaya sin miedo\, dado que en todos los juegos siempre hay hueco para una persona más. \nSe mantiene la intención de acercar estos juegos como modo de ocio alternativo\, enseñando a jugar a toda persona interesada y recomendando juegos pensando en los componentes de los grupos. \nPor motivos ajenos a la organización\, el evento tendrá limitación en los juegos disponibles\, tanto en la cantidad disponible como el tamaño de las cajas. Si quieres algún juego en particular\, por favor mándanos un mensaje por redes o un email a generacionhortaleza@gmail.com pidiendo reserva un juego de mesa o una mesa para organizar tu partida de rol. \nCabe recordar que la mascarilla deja de ser obligatoria\, pero sigue habiendo pandemia. Es responsabilidad de cada uno llevarla según su criterio y recomendamos llevarla si hubiese demasiada gente presente en el recinto o si la incidencia acumulada empieza a subir de forma desmesurada. Por nuestra parte no tenemos la potestad legal ni el interés para obligar a llevarla\, pero sí queremos llamar a una responsabilidad en los asistentes para poder seguir con estos eventos de ocio alternativo\, asequible y saludable.
URL:https://www.periodicohortaleza.org/evento/jornada-de-juegos-de-mesa-y-rol-en-el-espacio-pegaso-3/
LOCATION:Espacio Pegaso
ATTACH;FMTTYPE=image/jpeg:https://www.periodicohortaleza.org/wp-content/uploads/2022/04/278022936_125669063384103_7877896689360788953_n.jpg
END:VEVENT
BEGIN:VEVENT
DTSTART;TZID=Europe/Madrid:20220424T100000
DTEND;TZID=Europe/Madrid:20220424T130000
DTSTAMP:20260420T003715
CREATED:20220411T120707Z
LAST-MODIFIED:20220423T233909Z
UID:10003401-1650794400-1650805200@www.periodicohortaleza.org
SUMMARY:Jornada de juegos de mesa\, rol y concierto en el CS El Nido
DESCRIPTION:El domingo 24 de abril de 10.00 a 13.00 horas\, nueva jornada de juegos de mesa\, rol y concierto al terminar el evento de Generación Hortaleza\, en colaboración con Somos Juegos\, por la tarde trasladándose al Centro Social El Nido (calle Santa Susana\, número 28 bajo). \nEsta jornada de juegos de mesa\, rol y concierto seguirá siendo de acceso gratuito y con la implementación de la entrada inversa\, de forma que\, una vez que hayas disfrutado el tiempo que desees\, puedes decidir si aportar o no lo que consideres. \nEl catálogo de juegos ha sido ampliado con más opciones para todos los niveles y tamaños de grupo: Disney Villainous\, Toma 6\, Catán\, Dobble\, Jungle Speed\, Exploding Kittens\, Hanabi\, Love Letter\, Azul\, Hive\, Marraquesh\, The Mind\, Picatesoros\, Pandemic\, Paradice y muchos más. \nGrupos de dos jugadores\, padres con niños\, grupos grandes\, grupos sin experiencia en este tipo de juegos y más van a ser bienvenidos y animan a la gente que no tenga grupo a que vaya sin miedo\, dado que en todos  los juegos siempre hay hueco para una persona más. \nSe mantiene la intención de acercar estos juegos como modo de ocio alternativo\, enseñando a jugar a toda persona interesada y recomendando juegos pensando en los componentes de los grupos. \nEl uso de mascarilla será obligatorio durante toda la jornada de juegos de mesa. \nPor limitaciones del espacio\, si queréis una partida de rol o un juego largo\, se aconseja empezar al principio\, pues el espacio del sótano debe quedar libre para el concierto de Pedro de Mingo a las 13.00 horas. \nAsí pues\, es mejor contactar para reservar juegos y venir con antelación. \nComo siempre\, también habrá comida popular durante la actuación. \n 
URL:https://www.periodicohortaleza.org/evento/jornada-de-juegos-de-mesa-rol-y-concierto-en-el-cs-el-nido/
LOCATION:Centro Social El Nido de Hortaleza\, Calle Santa Susana\, 28\, Madrid\, Madrid\, 28033\, España
ATTACH;FMTTYPE=image/jpeg:https://www.periodicohortaleza.org/wp-content/uploads/2022/04/FPXXghrXIAYHe8Y-2.jpg
END:VEVENT
BEGIN:VEVENT
DTSTART;TZID=Europe/Madrid:20220402T170000
DTEND;TZID=Europe/Madrid:20220402T210000
DTSTAMP:20260420T003715
CREATED:20220401T112416Z
LAST-MODIFIED:20220401T112416Z
UID:10003389-1648918800-1648933200@www.periodicohortaleza.org
SUMMARY:Jornada de juegos de mesa y rol en el CS El Nido
DESCRIPTION:El sábado 2 de abril de 17.00 a 21.00 horas\, continúa la jornada de juegos de mesa y rol de Generación Hortaleza\, en colaboración con Somos Juegos\, por la tarde trasladándose al Centro Social El Nido (calle Santa Susana\, número 28 bajo). \nEsta jornada de juegos de mesa y rol seguirá siendo de acceso gratuito y con la implementación de la entrada inversa\, de forma que\, una vez que hayas disfrutado el tiempo que desees\, puedes decidir si aportar o no lo que consideres. \nEl catálogo de juegos ha sido ampliado con más opciones para todos los niveles y tamaños de grupo: Disney Villainous\, Toma 6\, Catán\, Dobble\, Jungle Speed\, Exploding Kittens\, Hanabi\, Love Letter\, Azul\, Hive\, Marraquesh\, The Mind\, Picatesoros\, Pandemic\, Paradice y muchos más. \nGrupos de dos jugadores\, padres con niños\, grupos grandes\, grupos sin experiencia en este tipo de juegos y más van a ser bienvenidos y animan a la gente que no tenga grupo a que vaya sin miedo\, dado que en todos  los juegos siempre hay hueco para una persona más. \nSe mantiene la intención de acercar estos juegos como modo de ocio alternativo\, enseñando a jugar a toda persona interesada y recomendando juegos pensando en los componentes de los grupos. \nEl uso de mascarilla será obligatorio durante toda la jornada de juegos de mesa.
URL:https://www.periodicohortaleza.org/evento/jornada-de-juegos-de-mesa-y-rol-en-el-cs-el-nido/
LOCATION:Centro Social El Nido de Hortaleza\, Calle Santa Susana\, 28\, Madrid\, Madrid\, 28033\, España
ATTACH;FMTTYPE=image/jpeg:https://www.periodicohortaleza.org/wp-content/uploads/2022/04/IMG_20181118_225536-1024x766-1.jpg
END:VEVENT
BEGIN:VEVENT
DTSTART;TZID=Europe/Madrid:20220402T110000
DTEND;TZID=Europe/Madrid:20220402T143000
DTSTAMP:20260420T003715
CREATED:20220401T110919Z
LAST-MODIFIED:20220401T110919Z
UID:10003388-1648897200-1648909800@www.periodicohortaleza.org
SUMMARY:Jornada de juegos de mesa y rol en el Espacio Pegaso
DESCRIPTION:El sábado 2 de abril de 11.00 a 14.30 horas\, con posibilidad de que el horario se extienda\, Generación Hortaleza\, en colaboración con Somos Juegos\, celebra una nueva jornada de juegos de mesa y rol en el Espacio Pegaso (calle Pegaso\, 20). \nEsta jornada de juegos de mesa y rol seguirá siendo de acceso gratuito y con la implementación de la entrada inversa\, de forma que\, una vez que hayas disfrutado el tiempo que desees\, puedes decidir si aportar o no lo que consideres. \nEl catálogo de juegos ha sido ampliado con más opciones para todos los niveles y tamaños de grupo: Disney Villainous\, Toma 6\, Catán\, Dobble\, Jungle Speed\, Exploding Kittens\, Hanabi\, Love Letter\, Azul\, Hive\, Marraquesh\, The Mind\, Picatesoros\, Pandemic\, Paradice y muchos más. \nGrupos de dos jugadores\, padres con niños\, grupos grandes\, grupos sin experiencia en este tipo de juegos y más van a ser bienvenidos y animan a la gente que no tenga grupo a que vaya sin miedo\, dado que en todos  los juegos siempre hay hueco para una persona más. \nSe mantiene la intención de acercar estos juegos como modo de ocio alternativo\, enseñando a jugar a toda persona interesada y recomendando juegos pensando en los componentes de los grupos. \nEl uso de mascarilla será obligatorio durante toda la jornada de juegos de mesa.
URL:https://www.periodicohortaleza.org/evento/jornada-de-juegos-de-mesa-y-rol-en-el-espacio-pegaso-2/
LOCATION:Espacio Pegaso
ATTACH;FMTTYPE=image/jpeg:https://www.periodicohortaleza.org/wp-content/uploads/2022/04/274979162_114297617854581_1139480734157410252_n.jpg
END:VEVENT
BEGIN:VEVENT
DTSTART;TZID=Europe/Madrid:20220319T110000
DTEND;TZID=Europe/Madrid:20220319T143000
DTSTAMP:20260420T003715
CREATED:20220317T122654Z
LAST-MODIFIED:20220317T122654Z
UID:10003369-1647687600-1647700200@www.periodicohortaleza.org
SUMMARY:Jornada de juegos de mesa y rol en el Espacio Pegaso
DESCRIPTION:El sábado 19 de marzo de 11.00 a 14.30 horas\, con posibilidad de que el horario se extienda\, Generación Hortaleza celebra una nueva jornada de juegos de mesa y rol en el Espacio Pegaso (calle Pegaso\, 20). \nEsta nueva jornada de juegos de mesa y rol seguirá siendo de acceso gratuito y con la implementación de la entrada inversa\, de forma que\, una vez que hayas disfrutado el tiempo que desees\, puedes decidir si aportar o no lo que consideres. \nEl catálogo de juegos ha sido ampliado con más opciones para todos los niveles y tamaños de grupo: Disney Villainous\, Toma 6\, Catán\, Dobble\, Jungle Speed\, Exploding Kittens\, Hanabi\, Love Letter\, Azul\, Hive\, Marraquesh\, The Mind\, Picatesoros\, Pandemic\, Paradice y muchos más. \nGrupos de dos jugadores\, padres con niños\, grupos grandes\, grupos sin experiencia en este tipo de juegos y más van a ser bienvenidos y animan a la gente que no tenga grupo a que vaya sin miedo\, dado que en todos  los juegos siempre hay hueco para una persona más. \nSe mantiene la intención de acercar estos juegos como modo de ocio alternativo\, enseñando a jugar a toda persona interesada y recomendando juegos pensando en los componentes de los grupos. \nEl uso de mascarilla será obligatorio durante toda la jornada de juegos de mesa.
URL:https://www.periodicohortaleza.org/evento/jornada-de-juegos-de-mesa-y-rol-en-el-espacio-pegaso/
LOCATION:Espacio Pegaso
ATTACH;FMTTYPE=image/webp:https://www.periodicohortaleza.org/wp-content/uploads/2022/03/juegos-mesa.webp
END:VEVENT
BEGIN:VEVENT
DTSTART;TZID=Europe/Madrid:20220305T110000
DTEND;TZID=Europe/Madrid:20220305T143000
DTSTAMP:20260420T003715
CREATED:20220303T145643Z
LAST-MODIFIED:20220303T145643Z
UID:10003364-1646478000-1646490600@www.periodicohortaleza.org
SUMMARY:Jornada de juegos de mesa en el Espacio Pegaso
DESCRIPTION:El sábado 5 de marzo de 11.00 a 14.30 horas\, con posibilidad de que el horario se extienda\, Generación Hortaleza celebra una nueva jornada de juegos de mesa en el Espacio Pegaso (calle Pegaso\, 20). \nEsta nueva jornada de juegos de mesa seguirá siendo de acceso gratuito y con la implementación de la entrada inversa\, de forma que\, una vez que hayas disfrutado el tiempo que desees\, puedes decidir si aportar o no lo que consideres. \nEl catálogo de juegos ha sido ampliado con más opciones para todos los niveles y tamaños de grupo: Disney Villainous\, Toma 6\, Catán\, Dobble\, Jungle Speed\, Exploding Kittens\, Hanabi\, Love Letter\, Azul\, Hive\, Marraquesh\, The Mind\, Picatesoros\, Pandemic\, Paradice y muchos más. \nGrupos de dos jugadores\, padres con niños\, grupos grandes\, grupos sin experiencia en este tipo de juegos y más van a ser bienvenidos y animan a la gente que no tenga grupo a que vaya sin miedo\, dado que en todos  los juegos siempre hay hueco para una persona más. \nSe mantiene la intención de acercar estos juegos como modo de ocio alternativo\, enseñando a jugar a toda persona interesada y recomendando juegos pensando en los componentes de los grupos. \nEl uso de mascarilla será obligatorio durante toda la jornada de juegos de mesa.
URL:https://www.periodicohortaleza.org/evento/jornada-de-juegos-de-mesa-en-el-espacio-pegaso-2/
LOCATION:Espacio Pegaso
ATTACH;FMTTYPE=image/jpeg:https://www.periodicohortaleza.org/wp-content/uploads/2022/03/FK2ng9EXEAExSFg.jpg
END:VEVENT
END:VCALENDAR