BEGIN:VCALENDAR
VERSION:2.0
PRODID:-//Hortaleza Periódico Vecinal - ECPv6.15.20//NONSGML v1.0//EN
CALSCALE:GREGORIAN
METHOD:PUBLISH
X-ORIGINAL-URL:https://www.periodicohortaleza.org
X-WR-CALDESC:Eventos para Hortaleza Periódico Vecinal
REFRESH-INTERVAL;VALUE=DURATION:PT1H
X-Robots-Tag:noindex
X-PUBLISHED-TTL:PT1H
BEGIN:VTIMEZONE
TZID:Europe/Madrid
BEGIN:DAYLIGHT
TZOFFSETFROM:+0100
TZOFFSETTO:+0200
TZNAME:CEST
DTSTART:20210328T010000
END:DAYLIGHT
BEGIN:STANDARD
TZOFFSETFROM:+0200
TZOFFSETTO:+0100
TZNAME:CET
DTSTART:20211031T010000
END:STANDARD
BEGIN:DAYLIGHT
TZOFFSETFROM:+0100
TZOFFSETTO:+0200
TZNAME:CEST
DTSTART:20220327T010000
END:DAYLIGHT
BEGIN:STANDARD
TZOFFSETFROM:+0200
TZOFFSETTO:+0100
TZNAME:CET
DTSTART:20221030T010000
END:STANDARD
BEGIN:DAYLIGHT
TZOFFSETFROM:+0100
TZOFFSETTO:+0200
TZNAME:CEST
DTSTART:20230326T010000
END:DAYLIGHT
BEGIN:STANDARD
TZOFFSETFROM:+0200
TZOFFSETTO:+0100
TZNAME:CET
DTSTART:20231029T010000
END:STANDARD
END:VTIMEZONE
BEGIN:VEVENT
DTSTART;TZID=Europe/Madrid:20220618T110000
DTEND;TZID=Europe/Madrid:20220618T130000
DTSTAMP:20260420T012627
CREATED:20220613T114617Z
LAST-MODIFIED:20220613T114652Z
UID:10003468-1655550000-1655557200@www.periodicohortaleza.org
SUMMARY:Dibujando Hortaleza en el parque Huerta de la Salud
DESCRIPTION:El sábado 18 de junio de 11.00 a 13.00 horas\, el Espacio Dinamo\, la biblioteca pública Huerta de la Salud y el Espacio Danos Tiempo organizan Dibujando Hortaleza\, el primer certamen de pintura infantil al aire libre del distrito\, en el parque Huerta de la Salud (calle Mar de las Antillas\, 8). \nEl certamen está dirigido a niñas y niños hasta los 13 años de edad\, y para su desarrollo se harán tres grupos: de 0 a 5 años\, de 6 a 9 años y de 10 a 13 años. \nLa participación en Dibujando Hortaleza es gratuita\, aunque se necesita inscripción\, que puede hacerse ese mismo día en el parque o de forma anticipada escribiendo un correo a: info.espaciodinamo@gmail.com\, bphuertasalud@madrid.es o info@espaciodanostiempo.org. \nNo es necesario que las y los participantes lleven ningún tipo de material\, ya que se les proporcionará todo lo preciso. \n 
URL:https://www.periodicohortaleza.org/evento/dibujando-hortaleza-en-el-parque-huerta-de-la-salud/
LOCATION:Parque Huerta de la Salud\, Calle Mar de las Antillas\, 8\, Madrid\, Madrid\, España
ATTACH;FMTTYPE=image/jpeg:https://www.periodicohortaleza.org/wp-content/uploads/2022/06/IMG-20220612-WA0003.jpg
ORGANIZER;CN="Espacio Dinamo":MAILTO:info.espaciodinamo@gmail.com
END:VEVENT
END:VCALENDAR