BEGIN:VCALENDAR
VERSION:2.0
PRODID:-//Hortaleza Periódico Vecinal - ECPv6.15.20//NONSGML v1.0//EN
CALSCALE:GREGORIAN
METHOD:PUBLISH
X-ORIGINAL-URL:https://www.periodicohortaleza.org
X-WR-CALDESC:Eventos para Hortaleza Periódico Vecinal
REFRESH-INTERVAL;VALUE=DURATION:PT1H
X-Robots-Tag:noindex
X-PUBLISHED-TTL:PT1H
BEGIN:VTIMEZONE
TZID:Europe/Madrid
BEGIN:DAYLIGHT
TZOFFSETFROM:+0100
TZOFFSETTO:+0200
TZNAME:CEST
DTSTART:20160327T010000
END:DAYLIGHT
BEGIN:STANDARD
TZOFFSETFROM:+0200
TZOFFSETTO:+0100
TZNAME:CET
DTSTART:20161030T010000
END:STANDARD
BEGIN:DAYLIGHT
TZOFFSETFROM:+0100
TZOFFSETTO:+0200
TZNAME:CEST
DTSTART:20170326T010000
END:DAYLIGHT
BEGIN:STANDARD
TZOFFSETFROM:+0200
TZOFFSETTO:+0100
TZNAME:CET
DTSTART:20171029T010000
END:STANDARD
BEGIN:DAYLIGHT
TZOFFSETFROM:+0100
TZOFFSETTO:+0200
TZNAME:CEST
DTSTART:20180325T010000
END:DAYLIGHT
BEGIN:STANDARD
TZOFFSETFROM:+0200
TZOFFSETTO:+0100
TZNAME:CET
DTSTART:20181028T010000
END:STANDARD
END:VTIMEZONE
BEGIN:VEVENT
DTSTART;TZID=Europe/Madrid:20170421T180000
DTEND;TZID=Europe/Madrid:20170421T200000
DTSTAMP:20260425T194452
CREATED:20170420T203932Z
LAST-MODIFIED:20170420T203932Z
UID:10002380-1492797600-1492804800@www.periodicohortaleza.org
SUMMARY:I Jornada de Protección Animal de Hortaleza
DESCRIPTION:El viernes 21 de abril\, de 18.00 a 20.00\, se celebran en el Centro Cultural Huerta de la Salud (Mar de las Antillas\, 8) las primeras jornadas del distrito sobre protección animal. \n1. Presentación.\n2. Budismo y protección animal: un enfoque global\, por J. M. González\, miembro de Dharma Voice for Animals.\n3. Adopciones en primera persona: por Carmen Felipe\, secretaria de PGM.\n4. Adopciones responsables: por Carlos Rodriguez (Mascoteros Solidarios)\, veterinario\, escritor y periodista especializado.\n5. Coloquio y preguntas.
URL:https://www.periodicohortaleza.org/evento/i-jornada-de-proteccion-animal-de-hortaleza/
LOCATION:Centro Cultural Huerta de la Salud\, calle Mar de Aral\, 13\, posterior\, Madrid\, Madrid\, 28033\, España
ORGANIZER;CN="CES %C3%89tico Hortaleza":MAILTO:ceshortalezamadrid@hotmail.com
END:VEVENT
END:VCALENDAR