BEGIN:VCALENDAR
VERSION:2.0
PRODID:-//Hortaleza Periódico Vecinal - ECPv6.15.20//NONSGML v1.0//EN
CALSCALE:GREGORIAN
METHOD:PUBLISH
X-ORIGINAL-URL:https://www.periodicohortaleza.org
X-WR-CALDESC:Eventos para Hortaleza Periódico Vecinal
REFRESH-INTERVAL;VALUE=DURATION:PT1H
X-Robots-Tag:noindex
X-PUBLISHED-TTL:PT1H
BEGIN:VTIMEZONE
TZID:Europe/Paris
BEGIN:DAYLIGHT
TZOFFSETFROM:+0100
TZOFFSETTO:+0200
TZNAME:CEST
DTSTART:20150329T010000
END:DAYLIGHT
BEGIN:STANDARD
TZOFFSETFROM:+0200
TZOFFSETTO:+0100
TZNAME:CET
DTSTART:20151025T010000
END:STANDARD
BEGIN:DAYLIGHT
TZOFFSETFROM:+0100
TZOFFSETTO:+0200
TZNAME:CEST
DTSTART:20160327T010000
END:DAYLIGHT
BEGIN:STANDARD
TZOFFSETFROM:+0200
TZOFFSETTO:+0100
TZNAME:CET
DTSTART:20161030T010000
END:STANDARD
BEGIN:DAYLIGHT
TZOFFSETFROM:+0100
TZOFFSETTO:+0200
TZNAME:CEST
DTSTART:20170326T010000
END:DAYLIGHT
BEGIN:STANDARD
TZOFFSETFROM:+0200
TZOFFSETTO:+0100
TZNAME:CET
DTSTART:20171029T010000
END:STANDARD
END:VTIMEZONE
BEGIN:VEVENT
DTSTART;TZID=Europe/Paris:20160428T180000
DTEND;TZID=Europe/Paris:20160428T200000
DTSTAMP:20260425T232805
CREATED:20160424T092924Z
LAST-MODIFIED:20160424T093501Z
UID:10002085-1461866400-1461873600@www.periodicohortaleza.org
SUMMARY:Coordinadora de Hortaleza por la Escuela Pública y la Educación
DESCRIPTION:Esta coordinadora re-nace\, gracias al impulso de Cambiar Hortaleza\, con la idea de contribuir a la mejora de la escuela pública y la educación en nuestro distrito. Con los encuentros de la coordinadora queremos ponernos en relación\, compartir experiencias\, apoyarnos unas a otras e ir desarrollando entre todas un plan de acción para que en el distrito disfrutemos de una educación de calidad de tod@s para tod@s. \n \nLa idea que tenemos es realizar reuniones itinerantes por distintas zonas del distrito\, tratando de facilitar la participación de la comunidad educativa de ese barrio y conocer más en profundidad las problemáticas y los aciertos de los centros educativos y las personas que los habitan. \nLas reuniones se desarrollarán con una periodicidad variable en función de las propuestas y tiempos de los barrios y la disponibilidad del equipo de coordinación que se encargue de dinamizar y articular los encuentros. \nNuestra idea es que en los encuentros participen todas profesorado\, personal no docente\, familias\, alumnado y asociaciones de la zona que trabajen de alguna manera en el campo de la educación. \nDesde la premisa de que la unión hace la fuerza nuestra intención es incidir\, es cambiar la realidad educativa en nuestros barrios poniendo en este afán toda la imaginación y trabajo que podamos.
URL:https://www.periodicohortaleza.org/evento/coordinadora-de-hortaleza-por-la-escuela-publica-y-la-educacion/
LOCATION:IES Rosa Chacel\, Calle de Abizanda\, 70\, Madrid\, 28033
ORGANIZER;CN="Cambiar Hortaleza":MAILTO:cambiarhortaleza@gmail.com
END:VEVENT
BEGIN:VEVENT
DTSTART;TZID=Europe/Paris:20160228T110000
DTEND;TZID=Europe/Paris:20160228T150000
DTSTAMP:20260425T232805
CREATED:20160219T154327Z
LAST-MODIFIED:20160219T160122Z
UID:10002038-1456657200-1456671600@www.periodicohortaleza.org
SUMMARY:Cambiar Hortaleza: taller de estrategias de trabajo
DESCRIPTION:Un año después de la histórica jornada Cambiar Hortaleza\, donde cerca de 200 vecinos y vecinas se reunieron para renovar el catálogo de demandas del distrito\, el próximo domingo 28 de febrero\, a las 11 horas\, se celebrará un taller de estrategias de trabajo en el centro cultural Carril del Conde con el objetivo de seguir avanzado y trabajar sobre algunas de las demandas o necesidades concretas de cada una de las mesas de Cambiar Hortaleza\, que se reparten en: \n\nParticipación ciudadana y gestión institucional\nSanidad y consumo\nMedio ambiente\, movilidad y transporte\nEducación\, cultura y deporte\nGrupos sociales (Mayores\, mujer\, inmigración…)\nEconomía y trabajo\nMujer\nUrbanismo y vivienda\n\nDivididos por mesas de trabajo\, las personas asistentes podrán trabajar sobre alguna necesidad concreta y plantear estrategias de trabajo para plantear mecanismos para su consecución. \nPara seleccionar las necesidades sobre las que trabajar el próximo domingo 28 de febrero\, se pueden completar una serie de encuentras en la web https://cambiarhortaleza.wordpress.com/participa/
URL:https://www.periodicohortaleza.org/evento/cambiar-hortaleza-taller-de-estrategias-de-trabajo/
LOCATION:Centro Cultural Carril del Conde
ORGANIZER;CN="Cambiar Hortaleza":MAILTO:cambiarhortaleza@gmail.com
END:VEVENT
END:VCALENDAR