BEGIN:VCALENDAR
VERSION:2.0
PRODID:-//Hortaleza Periódico Vecinal - ECPv6.15.20//NONSGML v1.0//EN
CALSCALE:GREGORIAN
METHOD:PUBLISH
X-WR-CALNAME:Hortaleza Periódico Vecinal
X-ORIGINAL-URL:https://www.periodicohortaleza.org
X-WR-CALDESC:Eventos para Hortaleza Periódico Vecinal
REFRESH-INTERVAL;VALUE=DURATION:PT1H
X-Robots-Tag:noindex
X-PUBLISHED-TTL:PT1H
BEGIN:VTIMEZONE
TZID:Europe/Paris
BEGIN:DAYLIGHT
TZOFFSETFROM:+0100
TZOFFSETTO:+0200
TZNAME:CEST
DTSTART:20150329T010000
END:DAYLIGHT
BEGIN:STANDARD
TZOFFSETFROM:+0200
TZOFFSETTO:+0100
TZNAME:CET
DTSTART:20151025T010000
END:STANDARD
BEGIN:DAYLIGHT
TZOFFSETFROM:+0100
TZOFFSETTO:+0200
TZNAME:CEST
DTSTART:20160327T010000
END:DAYLIGHT
BEGIN:STANDARD
TZOFFSETFROM:+0200
TZOFFSETTO:+0100
TZNAME:CET
DTSTART:20161030T010000
END:STANDARD
BEGIN:DAYLIGHT
TZOFFSETFROM:+0100
TZOFFSETTO:+0200
TZNAME:CEST
DTSTART:20170326T010000
END:DAYLIGHT
BEGIN:STANDARD
TZOFFSETFROM:+0200
TZOFFSETTO:+0100
TZNAME:CET
DTSTART:20171029T010000
END:STANDARD
END:VTIMEZONE
BEGIN:VTIMEZONE
TZID:Europe/Madrid
BEGIN:DAYLIGHT
TZOFFSETFROM:+0100
TZOFFSETTO:+0200
TZNAME:CEST
DTSTART:20140330T010000
END:DAYLIGHT
BEGIN:STANDARD
TZOFFSETFROM:+0200
TZOFFSETTO:+0100
TZNAME:CET
DTSTART:20141026T010000
END:STANDARD
BEGIN:DAYLIGHT
TZOFFSETFROM:+0100
TZOFFSETTO:+0200
TZNAME:CEST
DTSTART:20150329T010000
END:DAYLIGHT
BEGIN:STANDARD
TZOFFSETFROM:+0200
TZOFFSETTO:+0100
TZNAME:CET
DTSTART:20151025T010000
END:STANDARD
BEGIN:DAYLIGHT
TZOFFSETFROM:+0100
TZOFFSETTO:+0200
TZNAME:CEST
DTSTART:20160327T010000
END:DAYLIGHT
BEGIN:STANDARD
TZOFFSETFROM:+0200
TZOFFSETTO:+0100
TZNAME:CET
DTSTART:20161030T010000
END:STANDARD
BEGIN:DAYLIGHT
TZOFFSETFROM:+0100
TZOFFSETTO:+0200
TZNAME:CEST
DTSTART:20170326T010000
END:DAYLIGHT
BEGIN:STANDARD
TZOFFSETFROM:+0200
TZOFFSETTO:+0100
TZNAME:CET
DTSTART:20171029T010000
END:STANDARD
END:VTIMEZONE
BEGIN:VEVENT
DTSTART;TZID=Europe/Paris:20160920T180000
DTEND;TZID=Europe/Paris:20160920T235500
DTSTAMP:20260419T202433
CREATED:20160915T112631Z
LAST-MODIFIED:20160919T163015Z
UID:10002182-1474394400-1474415700@www.periodicohortaleza.org
SUMMARY:Pleno de septiembre de Hortaleza
DESCRIPTION:Este martes 20 de septiembre se celebra el Pleno ordinario de Hortaleza a las 18 horas en el salón de actos de la Junta Municipal\, en la Carretera de Canillas número 2. La asistencia es libre para el vecindario del distrito. \nAquí puedes leer o descargar el orden del día correspondiente a la sesión de septiembre.
URL:https://www.periodicohortaleza.org/evento/pleno-de-septiembre-de-hortaleza/
LOCATION:Junta Municipal de Hortaleza\, Carretera de Canillas\, 2\, Madrid\, Madrid \, España
END:VEVENT
BEGIN:VEVENT
DTSTART;TZID=Europe/Paris:20160830T210000
DTEND;TZID=Europe/Paris:20160830T235500
DTSTAMP:20260419T202433
CREATED:20160812T211454Z
LAST-MODIFIED:20160812T211454Z
UID:10002180-1472590800-1472601300@www.periodicohortaleza.org
SUMMARY:Veranos de la Villa: Concierto de Martirio en Hortaleza
DESCRIPTION:El martes 30 de agosto y cerrando la programación de Veranos de la Villa de Madrid\, la cantante Martirio visita nuestro barrio y actuará\, a las 21 horas\, en el auditorio Pilar García Peña del parque Pinar del Rey (en la confluencia de la calle López de Hoyos con Carretera de Canillas). La entrada al concierto es gratuita. \nEn sus tres décadas de carrera\, Martirio se ha sumergido en el flamenco\, el jazz\, la bossa nova\, el tango\, el bolero\, el pop\, el rock e incluso las sevillanas y\, por supuesto\, la copla española\, en la que ha dejado ya una huella imborrable. Impredecible\, enigmática y sofisticada\, sus conciertos son siempre una sorpresa.
URL:https://www.periodicohortaleza.org/evento/veranos-de-la-villa-concierto-de-martirio-en-hortaleza/
LOCATION:Parque Pinar del Rey\, Carretera de Canillas\, 1\, Madrid\, España
END:VEVENT
BEGIN:VEVENT
DTSTART;TZID=Europe/Paris:20160829T210000
DTEND;TZID=Europe/Paris:20160829T235500
DTSTAMP:20260419T202433
CREATED:20160810T212907Z
LAST-MODIFIED:20160810T213008Z
UID:10002178-1472504400-1472514900@www.periodicohortaleza.org
SUMMARY:Veranos de la Villa: Concierto de Kiko Veneno en Hortaleza
DESCRIPTION:El lunes 29 de agosto el auditorio Pilar García Peña de Hortaleza vuelve a abrir sus puertas a la música en directo. Dentro de la programación de los Veranos de la Villa de Madrid\, Kiko Veneno regresa a nuestro barrio para actuar\, a las 21 horas\, en este recinto del parque Pinar del Rey\, en la confluencia de la calle López de Hoyos con Carretera de Canillas (Metro Pinar del Rey). La entrada al concierto es gratuita. \nPionero en fusionar el flamenco con el pop y el rock\, se podría decir que Kiko Veneno ha acompañado musicalmente toda la historia de la democracia en España\, desde que fundara el grupo Veneno en 1975 con Rafael y Raimundo Amador\, hasta el díptico Doble vivo que acaba de salir a la luz este mismo año. Entre medias\, muchos discos memorables\, multitud de colaboraciones y la autoría de canciones emblemáticas como aquel Volando voy que inmortalizó Camarón de la Isla. Un artista de largo aliento\, con un presente creativo estimulante e inconformista. \nKiko Veneno vuelve a Hortaleza casi una década después de actuar en las Fiestas de Primavera de nuestro distrito en 2007\, cuando compartió cartel con el donostiarra Mikel Erentxun.
URL:https://www.periodicohortaleza.org/evento/veranos-de-la-villa-concierto-de-kiko-veneno-en-hortaleza/
LOCATION:Parque Pinar del Rey\, Carretera de Canillas\, 1\, Madrid\, España
END:VEVENT
BEGIN:VEVENT
DTSTART;TZID=Europe/Paris:20160820T210000
DTEND;TZID=Europe/Paris:20160820T235500
DTSTAMP:20260419T202433
CREATED:20160811T203251Z
LAST-MODIFIED:20160811T203251Z
UID:10002179-1471726800-1471737300@www.periodicohortaleza.org
SUMMARY:Veranos de la Villa: Concierto de Nothing Places en Hortaleza
DESCRIPTION:El sábado 20 de agosto la programación de los Veranos de la Villa de Madrid llega a Manoteras. La banda Nothing Places actúa a las 21 horas en las pistas deportivas de Manoteras\, situadas en la calle Bacares frente a la estación de metro de este barrio de Hortaleza. El concierto se celebra al aire libre y la entrada es gratuita. \nEl cantante y guitarrista Emilio Saiz\, que había trabajado con artistas como Fon Román o Russian Red\, se decide en 2012 a encabezar su propio proyecto bajo el nombre de Nothing Places. En 2015\, rodeado de sus cómplices habituales (Xavi Molero\, Martí Perarnau\, Ricky Falkner) edita el álbum Tidal Love\, caleidoscopio musical que combina el pop clásico con la libre experimentación. El concierto contará\, además\, con un invitado sorpresa.
URL:https://www.periodicohortaleza.org/evento/veranos-de-la-villa-concierto-de-nothing-places-en-hortaleza/
LOCATION:Parque de Manoteras\, Calle Vélez Rubio s/n\, Madrid\, Madrid\, España
END:VEVENT
BEGIN:VEVENT
DTSTART;TZID=Europe/Paris:20160723T220000
DTEND;TZID=Europe/Paris:20160723T235500
DTSTAMP:20260419T202433
CREATED:20160723T171913Z
LAST-MODIFIED:20160723T171913Z
UID:10002167-1469311200-1469318100@www.periodicohortaleza.org
SUMMARY:Cine de verano de Hortaleza: Relatos salvajes
DESCRIPTION:El cine de verano de Hortaleza comienza este sábado 23 de julio en el auditorio Pilar García Peña del parque Pinar del Rey con la proyección de la película argentina Relatos salvajes\, protagonizada por Ricardo Darín\, a las 22 horas y con entrada gratuita.
URL:https://www.periodicohortaleza.org/evento/cine-de-verano-de-hortaleza-relatos-salvajes/
LOCATION:Parque Pinar del Rey\, Carretera de Canillas\, 1\, Madrid\, España
END:VEVENT
BEGIN:VEVENT
DTSTART;TZID=Europe/Paris:20160719T180000
DTEND;TZID=Europe/Paris:20160719T230000
DTSTAMP:20260419T202433
CREATED:20160719T102123Z
LAST-MODIFIED:20160719T102123Z
UID:10002164-1468951200-1468969200@www.periodicohortaleza.org
SUMMARY:Pleno de julio de Hortaleza
DESCRIPTION:Este martes 19 de julio se celebra el Pleno ordinario de Hortaleza a las 18 horas en el salón de actos de la Junta Municipal\, en la Carretera de Canillas número 2. La asistencia es libre para el vecindario del distrito. \nAquí puedes leer o descargar el orden del día correspondiente a la sesión de julio.
URL:https://www.periodicohortaleza.org/evento/pleno-de-julio-de-hortaleza/
LOCATION:Junta Municipal de Hortaleza\, Carretera de Canillas\, 2\, Madrid\, Madrid \, España
END:VEVENT
BEGIN:VEVENT
DTSTART;TZID=Europe/Paris:20160714T170000
DTEND;TZID=Europe/Paris:20160714T200000
DTSTAMP:20260419T202433
CREATED:20160713T121302Z
LAST-MODIFIED:20160713T121302Z
UID:10002160-1468515600-1468526400@www.periodicohortaleza.org
SUMMARY:Debate sobre el estado del distrito
DESCRIPTION:Este jueves 14 de julio\, a las 17 horas\, se celebra el Debate sobre el estado del distrito de Hortaleza en el salón de plenos de la Junta Municipal (Carretera de Canillas\, 2)\, en el que podrán intervenir los cuatro grupos con representación (Partido Popular\, Ahora Madrid\, PSOE y Ciudadanos) para hacer balance del primer año de gestión de la concejala Yolanda Rodríguez\, de Ahora Madrid. \nLa sesión está abierta a la asistencia del vecindario y a la participación de las asociaciones del distrito que hayan solicitado su turno de intervención.
URL:https://www.periodicohortaleza.org/evento/debate-sobre-el-estado-del-distrito/
LOCATION:Junta Municipal de Hortaleza\, Carretera de Canillas\, 2\, Madrid\, Madrid \, España
END:VEVENT
BEGIN:VEVENT
DTSTART;TZID=Europe/Paris:20160702T110000
DTEND;TZID=Europe/Paris:20160702T210000
DTSTAMP:20260419T202433
CREATED:20160701T170555Z
LAST-MODIFIED:20160701T170753Z
UID:10002157-1467457200-1467493200@www.periodicohortaleza.org
SUMMARY:Veranos de la Villa: Torneo de Rugby Seven
DESCRIPTION:Hortaleza es el barrio con más jugadores y jugadoras de rugby de España\, y este sábado 2 de julio acoge\, desde las 11 horas\, un Torneo de Rubgy Seven (con equipos de siete jugadores como en los Juegos Olímpicos) en su campo municipal ubicado en la avenida de las Piceas como parte de la programación de los Veranos de la Villa 2016. \nOcho equipos\, doce partidos de fase de grupo\, cuatro semifinales y cuatro finales. Paralelamente\, por la tarde\, en los laterales del campo\, habrá talleres para niños de iniciación al rugby. \nAntes de la entrega de trofeos\, a las 19:30 horas actuará el grupo de percusión no convencional Toom Pak\, con instrumentos de reciclaje creados por ellos mismos. \nA las 20 horas\, entrega de trofeos al campeón y subcampeón y homenaje al Equipo Senior Femenino del XV de Hortaleza. \nInscripción en la página de Facebook  (gratuita hasta completar los ocho equipos). \n \n 
URL:https://www.periodicohortaleza.org/evento/veranos-de-la-villa-torneo-de-rugby-seven/
LOCATION:Campo de rugby del XV Hortaleza\, Avenida de las Píceas\, s/n\, Madrid\, Madrid\, España
END:VEVENT
BEGIN:VEVENT
DTSTART;TZID=Europe/Paris:20160701T210000
DTEND;TZID=Europe/Paris:20160701T230000
DTSTAMP:20260419T202433
CREATED:20160628T183730Z
LAST-MODIFIED:20160628T184707Z
UID:10002153-1467406800-1467414000@www.periodicohortaleza.org
SUMMARY:Veranos de la Villa: Concierto de Los Enemigos en Hortaleza
DESCRIPTION:Este viernes 1 de julio arranca la programación de los Veranos de la Villa de Madrid\, y el primer concierto se celebra en Hortaleza\, donde la veterana banda madrileña de rock Los Enemigos actuarán gratuitamente\, a las 21 horas\, en el auditorio Pilar García Peña del parque Pinar del Rey\, en la confluencia de la calle López de Hoyos con Carretera de Canillas (Metro Pinar del Rey). \nLos Enemigos no visitaban nuestro barrio desde aquel concierto memorable de Mano Negra en 1995\, donde fueron los teloneros de la banda de Manu Chao. Y la actuación de la banda liderada por Josele Santiago no será el único concierto de los Veranos de la Villa que disfrutaremos en Hortaleza: Kiko Veneno\, Martirio y Nothing Places también tocarán en el barrio durante este verano.
URL:https://www.periodicohortaleza.org/evento/veranos-de-la-villa-concierto-de-los-enemigos-en-hortaleza/
LOCATION:Parque Pinar del Rey\, Carretera de Canillas\, 1\, Madrid\, España
END:VEVENT
BEGIN:VEVENT
DTSTART;TZID=Europe/Paris:20160621T180000
DTEND;TZID=Europe/Paris:20160621T230000
DTSTAMP:20260419T202433
CREATED:20160621T101330Z
LAST-MODIFIED:20160719T102156Z
UID:10002146-1466532000-1466550000@www.periodicohortaleza.org
SUMMARY:Pleno de junio de Hortaleza
DESCRIPTION:Este martes 21 de junio se celebra el Pleno ordinario de Hortaleza a las 18 horas en el salón de actos de la Junta Municipal\, en la Carretera de Canillas número 2. La asistencia es libre para el vecindario del distrito. \nAquí puedes leer o descargar el orden del día correspondiente a la sesión de junio.
URL:https://www.periodicohortaleza.org/evento/pleno-de-junio-de-hortaleza/
LOCATION:Junta Municipal de Hortaleza\, Carretera de Canillas\, 2\, Madrid\, Madrid \, España
END:VEVENT
BEGIN:VEVENT
DTSTART;TZID=Europe/Paris:20160618T113000
DTEND;TZID=Europe/Paris:20160618T140000
DTSTAMP:20260419T202433
CREATED:20160608T131440Z
LAST-MODIFIED:20160608T131440Z
UID:10002140-1466249400-1466258400@www.periodicohortaleza.org
SUMMARY:Votación presencial de los Presupuestos Participativos
DESCRIPTION:El sábado 18 de junio puedes votar presencialmente en la fase final de los presupuestos participativos de Madrid y de Hortaleza\, escogiendo los proyectos que prefieres que reciban financiación de todos los propuestos por el vecindario. \nSi quieres votar puedes hacerlo desde las 11:30 horas en el centro cultural Hortaleza\, en la calle Santa Virginia 15 (Metro Parque Santa María).
URL:https://www.periodicohortaleza.org/evento/votacion-presencial-de-los-presupuestos-participativos-2/
LOCATION:Centro Cultural Hortaleza\, Calle Santa Virgilia\, 15\, Madrid\, Madrid\, España
END:VEVENT
BEGIN:VEVENT
DTSTART;TZID=Europe/Paris:20160609T183000
DTEND;TZID=Europe/Paris:20160609T200000
DTSTAMP:20260419T202433
CREATED:20160608T130616Z
LAST-MODIFIED:20160608T130616Z
UID:10002138-1465497000-1465502400@www.periodicohortaleza.org
SUMMARY:Votación presencial de los Presupuestos Participativos
DESCRIPTION:Este jueves 9 de junio puedes votar presencialmente en la fase final de los presupuestos participativos de Madrid y de Hortaleza\, escogiendo los proyectos que prefieres que reciban financiación de todos los propuestos por el vecindario. \nSi quieres votar puedes hacerlo desde las 18:30 horas en el centro cultural Huerta de la Salud\, en la calle Mar de Las Antillas\, 8.
URL:https://www.periodicohortaleza.org/evento/votacion-presencial-de-los-presupuestos-participativos/
LOCATION:Centro Cultural Huerta de la Salud\, Calle Mar de las Antillas\, 10\, Madrid\, Madrid\, España
END:VEVENT
BEGIN:VEVENT
DTSTART;TZID=Europe/Paris:20160517T180000
DTEND;TZID=Europe/Paris:20160517T235500
DTSTAMP:20260419T202433
CREATED:20160517T103710Z
LAST-MODIFIED:20160517T103710Z
UID:10001941-1463508000-1463529300@www.periodicohortaleza.org
SUMMARY:Pleno de mayo de Hortaleza
DESCRIPTION:Este martes 17 de mayo se celebra el Pleno ordinario de Hortaleza a las 18 horas en el salón de actos de la Junta Municipal\, en la Carretera de Canillas número 2. La asistencia es libre para el vecindario del distrito. \nAquí puedes leer o descargar el orden del día correspondiente a la sesión de mayo.
URL:https://www.periodicohortaleza.org/evento/pleno-de-mayo-de-hortaleza/
LOCATION:Junta Municipal de Hortaleza\, Carretera de Canillas\, 2\, Madrid\, Madrid \, España
END:VEVENT
BEGIN:VEVENT
DTSTART;TZID=Europe/Paris:20160419T180000
DTEND;TZID=Europe/Paris:20160419T235500
DTSTAMP:20260419T202433
CREATED:20160419T014149Z
LAST-MODIFIED:20160419T014149Z
UID:10002073-1461088800-1461110100@www.periodicohortaleza.org
SUMMARY:Pleno de abril de Hortaleza
DESCRIPTION:Este martes 19 de abril se celebra el Pleno ordinario de Hortaleza a las 18 horas en el salón de actos de la Junta Municipal\, en la Carretera de Canillas número 2. La asistencia es libre para el vecindario del distrito. \nAquí puedes leer o descargar el orden del día correspondiente a la sesión de marzo.
URL:https://www.periodicohortaleza.org/evento/pleno-de-abril-de-hortaleza/
LOCATION:Junta Municipal de Hortaleza\, Carretera de Canillas\, 2\, Madrid\, Madrid \, España
END:VEVENT
BEGIN:VEVENT
DTSTART;TZID=Europe/Paris:20160315T180000
DTEND;TZID=Europe/Paris:20160315T235500
DTSTAMP:20260419T202433
CREATED:20160311T224627Z
LAST-MODIFIED:20160311T224627Z
UID:10002062-1458064800-1458086100@www.periodicohortaleza.org
SUMMARY:Pleno de marzo de Hortaleza
DESCRIPTION:Este martes 15 de marzo se celebra el Pleno ordinario de Hortaleza a las 18 horas en el salón de actos de la Junta Municipal\, en la Carretera de Canillas número 2. La asistencia es libre para el vecindario del distrito. \nAquí puedes leer o descargar el orden del día correspondiente a la sesión de marzo.
URL:https://www.periodicohortaleza.org/evento/pleno-de-marzo-de-hortaleza/
LOCATION:Junta Municipal de Hortaleza\, Carretera de Canillas\, 2\, Madrid\, Madrid \, España
END:VEVENT
BEGIN:VEVENT
DTSTART;TZID=Europe/Paris:20160303T180000
DTEND;TZID=Europe/Paris:20160303T200000
DTSTAMP:20260419T202433
CREATED:20160223T113455Z
LAST-MODIFIED:20160223T113455Z
UID:10002045-1457028000-1457035200@www.periodicohortaleza.org
SUMMARY:Consejo Territorial de Hortaleza
DESCRIPTION:El Consejo Territorial del distrito de Hortaleza se reúne en sesión ordinaria el jueves 3 de marzo a las 18 horas en el Salón de Plenos de la Junta Municipal de Hortaleza (Carretera de Canillas\, 2) con el siguiente orden del día: \n– Aprobación del acta de la reunión del Consejo Territorial extraordinario celebrado el 14 de enero de 2016. \n– Información de las Comisiones Permanentes. \n– Propuesta presentada por la Comisión Permanente de Cultura para elevar al Pleno del Distrito la aprobación de la relación de festejos populares a celebrar durante 2016. \n– Ruegos y preguntas.
URL:https://www.periodicohortaleza.org/evento/consejo-territorial-de-hortaleza/
LOCATION:Junta Municipal de Hortaleza\, Carretera de Canillas\, 2\, Madrid\, Madrid \, España
END:VEVENT
BEGIN:VEVENT
DTSTART;TZID=Europe/Paris:20160222T180000
DTEND;TZID=Europe/Paris:20160222T200000
DTSTAMP:20260419T202433
CREATED:20160221T212000Z
LAST-MODIFIED:20160221T212000Z
UID:10002044-1456164000-1456171200@www.periodicohortaleza.org
SUMMARY:Comisión de Cultura\, Juventud y Deportes de Hortaleza
DESCRIPTION:La Comisión Permanente de Cultura\, Juventud y Deportes del distrito de Hortaleza se reúne el lunes 22 de febrero\, a las 18 horas\, en el Salón de Plenos de la Junta Municipal de Hortaleza  (Carretera de Canillas\, 2) con el siguiente orden del día: \n– Aprobación de las actas anteriores \n– Elección y nombramiento del Secretario de la Comisión de Cultura\, Juventud y Deportes de Hortaleza \n– Informe del Presidente sobre la actividad en el distrito durante el último mes \n– Información sobre la creación de la Comisión de Festejos de Hortaleza \n– Horaria de las actuaciones que serán llevadas a cabo por asociaciones y colectivos \n– Información sobre las casetas en el recinto ferial \n– Elección de pregonero \n– Elección de la banda que actuará el sábado 28 de mayo entre las presentadas por vecinos y vecinas \n– Ruegos y preguntas \n 
URL:https://www.periodicohortaleza.org/evento/comision-de-cultura-juventud-y-deportes-de-hortaleza-2/
LOCATION:Junta Municipal de Hortaleza\, Carretera de Canillas\, 2\, Madrid\, Madrid \, España
END:VEVENT
BEGIN:VEVENT
DTSTART;TZID=Europe/Paris:20160216T180000
DTEND;TZID=Europe/Paris:20160216T230000
DTSTAMP:20260419T202433
CREATED:20160216T011914Z
LAST-MODIFIED:20160216T011914Z
UID:10002026-1455645600-1455663600@www.periodicohortaleza.org
SUMMARY:Pleno de febrero de Hortaleza
DESCRIPTION:Este martes 16 de febrero se celebra el Pleno ordinario de Hortaleza a las 18 horas en el salón de actos de la Junta Municipal\, en la Carretera de Canillas número 2. La asistencia es libre para el vecindario del distrito. \nAquí puedes leer o descargar el orden del día correspondiente a la sesión de febrero.
URL:https://www.periodicohortaleza.org/evento/pleno-de-febrero-de-hortaleza/
LOCATION:Junta Municipal de Hortaleza\, Carretera de Canillas\, 2\, Madrid\, Madrid \, España
END:VEVENT
BEGIN:VEVENT
DTSTART;TZID=Europe/Madrid:20160213T190000
DTEND;TZID=Europe/Madrid:20160213T210000
DTSTAMP:20260419T202433
CREATED:20160202T153646Z
LAST-MODIFIED:20160202T153646Z
UID:10001901-1455390000-1455397200@www.periodicohortaleza.org
SUMMARY:Presentación de los presupuestos participativos en Hortaleza
DESCRIPTION:El sábado 13 de febrero\, el centro cultural de Sanchinarro (Calle Princesa de Éboli esquina Alcalde Conde de Mayalde) acoge la presentación en Hortaleza del proceso de presupuestos participativos que el Ayuntamiento de Madrid pondrá en marcha este año en el conjunto de la ciudad y también en los 21 distritos de la capital. \nEl acto se celebrará a las 19 horas y será presentado por Yolanda Rodríguez\, concejala presidenta de #Hortaleza. Durante esta sesión se conformarán los grupos locales de debate temáticos para elevar propuestas y priorizarlas de cara a elaborar los presupuestos de 2017.
URL:https://www.periodicohortaleza.org/evento/presentacion-de-los-presupuestos-participativos-en-hortaleza/
LOCATION:Centro Cultural Sanchinarro\, Calle Princesa de Éboli\, s/n\, Madrid\, Madrid\, España
END:VEVENT
BEGIN:VEVENT
DTSTART;TZID=Europe/Madrid:20160209T180000
DTEND;TZID=Europe/Madrid:20160209T200000
DTSTAMP:20260419T202433
CREATED:20160205T150010Z
LAST-MODIFIED:20160205T150010Z
UID:10001906-1455040800-1455048000@www.periodicohortaleza.org
SUMMARY:Comisión de Cultura\, Juventud y Deportes de Hortaleza
DESCRIPTION:La Comisión Permanente de Cultura\, Juventud y Deportes del distrito de Hortaleza se reunirá el martes 9 de febrero\, a las 18 horas\, en el Salón de Plenos de la Junta Municipal de Hortaleza  (Carretera de Canillas\, 2) con el siguiente orden del día: \n– Lectura y aprobación\, si procede\, del acta de la reunión anterior. \n– Organización para tratar los temas en las próximas comisiones. \n– Calendario de la Comisión. \n– Ruegos y Preguntas.
URL:https://www.periodicohortaleza.org/evento/comision-de-cultura-juventud-y-deportes-de-hortaleza/
LOCATION:Junta Municipal de Hortaleza\, Carretera de Canillas\, 2\, Madrid\, Madrid \, España
END:VEVENT
BEGIN:VEVENT
DTSTART;TZID=Europe/Madrid:20151229T183000
DTEND;TZID=Europe/Madrid:20151229T200000
DTSTAMP:20260419T202433
CREATED:20151229T002737Z
LAST-MODIFIED:20151229T002737Z
UID:10002002-1451413800-1451419200@www.periodicohortaleza.org
SUMMARY:Asamblea vecinal sobre el Plan Renove de Manoteras
DESCRIPTION:Este martes 29 de diciembre\, a las 18:30 horas\, el instituto Arturo Soria (calle Somontín\, 59 Metro Manoteras) acoge una asamblea para tratar el denominado Plan Renove del barrio de Manoteras de rehabilitación de edificios. Además\, un bloque será elegido como proyecto piloto para la instalación gratuita de un ascensor.
URL:https://www.periodicohortaleza.org/evento/asamblea-vecinal-sobre-el-plan-renove-de-manoteras/
LOCATION:IES Arturo Soria\, C/ Somontín\, 59\, Madrid\, España
END:VEVENT
BEGIN:VEVENT
DTSTART;TZID=Europe/Madrid:20151126T180000
DTEND;TZID=Europe/Madrid:20151126T200000
DTSTAMP:20260419T202433
CREATED:20151123T134012Z
LAST-MODIFIED:20151123T134012Z
UID:10001982-1448560800-1448568000@www.periodicohortaleza.org
SUMMARY:Presentación de Decide Madrid en Hortaleza
DESCRIPTION:Este jueves 26 de noviembre\, el concejal de Participación Ciudadana del Ayuntamiento de Madrid\, Pablo Soto\, presentará en Hortaleza la web decide.madrid.es con la que los madrileños pueden presentar iniciativas ciudadanas para mejorar la ciudad.  \nLa presentación de esta herramienta de participación se celebrará en el centro cultural Carril del Conde (Calle Carril del Conde\, 57) a las 18 horas.
URL:https://www.periodicohortaleza.org/evento/presentacion-de-decide-madrid-en-hortaleza/
LOCATION:Centro Cultural Carril del Conde
END:VEVENT
END:VCALENDAR