BEGIN:VCALENDAR
VERSION:2.0
PRODID:-//Hortaleza Periódico Vecinal - ECPv6.15.20//NONSGML v1.0//EN
CALSCALE:GREGORIAN
METHOD:PUBLISH
X-ORIGINAL-URL:https://www.periodicohortaleza.org
X-WR-CALDESC:Eventos para Hortaleza Periódico Vecinal
REFRESH-INTERVAL;VALUE=DURATION:PT1H
X-Robots-Tag:noindex
X-PUBLISHED-TTL:PT1H
BEGIN:VTIMEZONE
TZID:Europe/Paris
BEGIN:DAYLIGHT
TZOFFSETFROM:+0100
TZOFFSETTO:+0200
TZNAME:CEST
DTSTART:20150329T010000
END:DAYLIGHT
BEGIN:STANDARD
TZOFFSETFROM:+0200
TZOFFSETTO:+0100
TZNAME:CET
DTSTART:20151025T010000
END:STANDARD
BEGIN:DAYLIGHT
TZOFFSETFROM:+0100
TZOFFSETTO:+0200
TZNAME:CEST
DTSTART:20160327T010000
END:DAYLIGHT
BEGIN:STANDARD
TZOFFSETFROM:+0200
TZOFFSETTO:+0100
TZNAME:CET
DTSTART:20161030T010000
END:STANDARD
BEGIN:DAYLIGHT
TZOFFSETFROM:+0100
TZOFFSETTO:+0200
TZNAME:CEST
DTSTART:20170326T010000
END:DAYLIGHT
BEGIN:STANDARD
TZOFFSETFROM:+0200
TZOFFSETTO:+0100
TZNAME:CET
DTSTART:20171029T010000
END:STANDARD
END:VTIMEZONE
BEGIN:VTIMEZONE
TZID:Europe/Madrid
BEGIN:DAYLIGHT
TZOFFSETFROM:+0100
TZOFFSETTO:+0200
TZNAME:CEST
DTSTART:20140330T010000
END:DAYLIGHT
BEGIN:STANDARD
TZOFFSETFROM:+0200
TZOFFSETTO:+0100
TZNAME:CET
DTSTART:20141026T010000
END:STANDARD
BEGIN:DAYLIGHT
TZOFFSETFROM:+0100
TZOFFSETTO:+0200
TZNAME:CEST
DTSTART:20150329T010000
END:DAYLIGHT
BEGIN:STANDARD
TZOFFSETFROM:+0200
TZOFFSETTO:+0100
TZNAME:CET
DTSTART:20151025T010000
END:STANDARD
BEGIN:DAYLIGHT
TZOFFSETFROM:+0100
TZOFFSETTO:+0200
TZNAME:CEST
DTSTART:20160327T010000
END:DAYLIGHT
BEGIN:STANDARD
TZOFFSETFROM:+0200
TZOFFSETTO:+0100
TZNAME:CET
DTSTART:20161030T010000
END:STANDARD
BEGIN:DAYLIGHT
TZOFFSETFROM:+0100
TZOFFSETTO:+0200
TZNAME:CEST
DTSTART:20170326T010000
END:DAYLIGHT
BEGIN:STANDARD
TZOFFSETFROM:+0200
TZOFFSETTO:+0100
TZNAME:CET
DTSTART:20171029T010000
END:STANDARD
END:VTIMEZONE
BEGIN:VEVENT
DTSTART;VALUE=DATE:20160228
DTEND;VALUE=DATE:20160229
DTSTAMP:20260420T010638
CREATED:20160218T114159Z
LAST-MODIFIED:20160218T142244Z
UID:10002035-1456617600-1456703999@www.periodicohortaleza.org
SUMMARY:Ruta: Ascensión al Pico de Majalasna (Cercedilla)
DESCRIPTION:El próximo domingo 28 de febrero\, la Asociación Danos Tiempo organiza una ruta al Pico de Majalasna (Cercedilla). \n \nDATOS DE LA RUTA: Tipo: lineal. Distancia: 8 Km. Duración: 4 horas. Dificultad: media. \nEl punto inicio de la ruta es la estación de Camorritos\, que es un apeadero\, en Cercedilla\, donde dejaremos el coche aparcado. Tomaremos el camino de las encinas\, que pronto se empieza a empinar y llegaremos a la pradera de Navarrulaque.  Seguiremos subiendo hasta llegar a unas grandes rocas\, desde donde contemplaremos los Siete Picos. Desde aquí tomaremos un pequeño sendero que nos llevará directos al objetivo para atacar y poder hacer cumbre en el pico de Majalasna (1.934 metros de altitud). \nRegresaremos por donde hemos venido hasta llegar nuevamente al apeadero de Camorritos. \nPUNTOS DE ENCUENTRO: \nASOCIACIÓN DANOS TIEMPO-> C/ Mar del Japón\, 13 (9:00 horas). \nAPEADERO DE CAMORRITOS (CERCEDILLA)-> 10:15 horas). \nSi estás interesado/a en participar\, escríbenos un mail a danostiempo@hotmail.com para organizar la salida según el número de personas asistentes. \nLa actividad es gratuita\, simplemente se trata de compartir los gastos de desplazamiento
URL:https://www.periodicohortaleza.org/evento/ruta-ascension-al-pico-de-majalasna-cercedilla/
LOCATION:Asociación Danos Tiempo\, C/ Mar de Bering nº 5\, Madrid\, 28033\, España
ORGANIZER;CN="Asociaci%C3%B3n Danos Tiempo":MAILTO:info@espaciodanostiempo.org
END:VEVENT
BEGIN:VEVENT
DTSTART;TZID=Europe/Madrid:20160214T120000
DTEND;TZID=Europe/Madrid:20160214T140000
DTSTAMP:20260420T010638
CREATED:20160209T135632Z
LAST-MODIFIED:20160209T135632Z
UID:10001911-1455451200-1455458400@www.periodicohortaleza.org
SUMMARY:Intercambio de libros infantiles en Danos Tiempo
DESCRIPTION:La asociación cultural Danos Tiempo organiza este domingo 14 de febrero un mercadillo de intercambio de libros infantiles\, tebeos y cómics de 12 a 14 horas en su local de la calle Mar de Japón 13 (Metro San Lorenzo). Además\, habrá un cuentacuentos para los más pequeños y alguna sorpresa más. ¡Ven cargado de libros!
URL:https://www.periodicohortaleza.org/evento/intercambio-de-libros-infantiles-en-danos-tiempo/
LOCATION:Asociación Danos Tiempo\, C/ Mar de Bering nº 5\, Madrid\, 28033\, España
ORGANIZER;CN="Asociaci%C3%B3n Danos Tiempo":MAILTO:info@espaciodanostiempo.org
END:VEVENT
BEGIN:VEVENT
DTSTART;TZID=Europe/Madrid:20151211T183000
DTEND;TZID=Europe/Madrid:20151211T183000
DTSTAMP:20260420T010638
CREATED:20151203T152207Z
LAST-MODIFIED:20151203T152207Z
UID:10001994-1449858600-1449858600@www.periodicohortaleza.org
SUMMARY:Taller de introducción a la meditación en Danos Tiempo
DESCRIPTION:La asociación Danos Tiempo organiza los días 11 y 12 de diciembre un taller teórico-práctico de iniciaciación al mindfulness y meditación que impartirá Manuel Burque Torreira. La inscripción tiene un coste de 10 euros.
URL:https://www.periodicohortaleza.org/evento/taller-de-introduccion-a-la-meditacion-en-danos-tiempo/
LOCATION:Asociación Danos Tiempo\, C/ Mar de Bering nº 5\, Madrid\, 28033\, España
ORGANIZER;CN="Asociaci%C3%B3n Danos Tiempo":MAILTO:info@espaciodanostiempo.org
END:VEVENT
BEGIN:VEVENT
DTSTART;VALUE=DATE:20150613
DTEND;VALUE=DATE:20150614
DTSTAMP:20260420T010638
CREATED:20150401T112834Z
LAST-MODIFIED:20150609T234058Z
UID:10001896-1434153600-1434239999@www.periodicohortaleza.org
SUMMARY:VI Fiesta de Arte de Calle de Hortaleza
DESCRIPTION:El sábado 13 de junio\, la asociación Danos Tiempo celebrará su VI Fiesta de Arte de Calle del Pueblo de Hortaleza. Un encuentro en el que vecinos y vecinas puedan disfrutar de una tarde llena de actividades y buen ambiente en la plaza de la calle Mar de Japón con la actuación de grupos como Kike Suárez & La Desbandada o A Quarter of a Dozen Band\, entre otros. \n \nDesde las 17:30 horas y hasta pasada la medianoche\, los asistentes podrán disfrutar de diversidad de actuaciones para todos los públicos (clown\, circo\, música en directo y mucho humor) y además puestos de artesanía\, pintacaras y chiringuito. \n \n\n\n18 h. Anticiclón Clown “Érase una vez…”: Dos payasos estrafalarios nos contarán un cuento lleno de sorpresas.\n19 h. Mike DosPerillas. “Este país es un circo”: Espectáculo delirante que mezcla artes circenses con el más puro teatro de calle.\n20 h. Brunitus “Había una vez”: Historias con diábolos (circo teatro).\n\nMúsica con esencia hortalina: \n\n21 h. Sambaleza: La gran batucada de Hortaleza!\n21:30 h. A Quarter Of A Dozen Band: Un trío de vientos de música\, humor y ritmos blues\, jazz y balcánicos.\n22:30 h. Kike Suárez “Babas” & La Desbandada: Rock de autor\, con algo de chotis y rumba\, y un cálido aliento blues.\n\n\nComo en las anteriores ediciones\, la Fiesta se realizará en la plaza ubicada en la calle Mar del Japón\, al lado del local de la asociación Danos Tiempo. \nMás información en www.danostiempo.blogspot.com
URL:https://www.periodicohortaleza.org/evento/vi-fiesta-de-arte-de-calle-de-hortaleza/
LOCATION:Asociación Danos Tiempo\, C/ Mar de Bering nº 5\, Madrid\, 28033\, España
ORGANIZER;CN="Asociaci%C3%B3n Danos Tiempo":MAILTO:info@espaciodanostiempo.org
END:VEVENT
BEGIN:VEVENT
DTSTART;TZID=Europe/Madrid:20150411T200000
DTEND;TZID=Europe/Madrid:20150411T210000
DTSTAMP:20260420T010638
CREATED:20150401T105909Z
LAST-MODIFIED:20150401T191938Z
UID:10001892-1428782400-1428786000@www.periodicohortaleza.org
SUMMARY:Sesión de cine con música en directo en Danos Tiempo
DESCRIPTION:Este sábado 11 de abril\, disfruta de un clásico del cine mudo\, «7 ocasiones» de Buster Keaton\, con dos fantásticos violinistas en directo. \n \nEl próximo sábado 11 a las 20:00 horas en la asociación Danos Tiempo una sesión de cine muy especial.   \nActividad gratuita\, se pasará la gorra.
URL:https://www.periodicohortaleza.org/evento/sesion-de-cine-con-musica-en-directo/
LOCATION:Asociación Danos Tiempo\, C/ Mar de Bering nº 5\, Madrid\, 28033\, España
ORGANIZER;CN="Asociaci%C3%B3n Danos Tiempo":MAILTO:info@espaciodanostiempo.org
END:VEVENT
BEGIN:VEVENT
DTSTART;TZID=Europe/Madrid:20150406T180000
DTEND;TZID=Europe/Madrid:20150406T200000
DTSTAMP:20260420T010638
CREATED:20150330T112154Z
LAST-MODIFIED:20150330T131213Z
UID:10001891-1428343200-1428350400@www.periodicohortaleza.org
SUMMARY:Taller de iniciación al cómic
DESCRIPTION:La asociación Danos Tiempo acoge este mes de abril un taller de iniciación al cómic impartido por María José Perrón. Puedes reservar tu plaza antes del 30 de marzo. \nEl taller se realizará todos los lunes de abril (6\, 13\, 20 y 27) de 18:00 a 20:00 horas \nMás información en el correo mariajoseperron@yahoo.es  \nLugar: Asociación Danos Tiempo. C/ Mar del Japón nº 13. (Metro\, San Lorenzo) \n \n  \n 
URL:https://www.periodicohortaleza.org/evento/taller-de-iniciacion-al-comic/
LOCATION:Asociación Danos Tiempo\, C/ Mar de Bering nº 5\, Madrid\, 28033\, España
ORGANIZER;CN="Asociaci%C3%B3n Danos Tiempo":MAILTO:info@espaciodanostiempo.org
END:VEVENT
END:VCALENDAR