BEGIN:VCALENDAR
VERSION:2.0
PRODID:-//Hortaleza Periódico Vecinal - ECPv6.15.20//NONSGML v1.0//EN
CALSCALE:GREGORIAN
METHOD:PUBLISH
X-WR-CALNAME:Hortaleza Periódico Vecinal
X-ORIGINAL-URL:https://www.periodicohortaleza.org
X-WR-CALDESC:Eventos para Hortaleza Periódico Vecinal
REFRESH-INTERVAL;VALUE=DURATION:PT1H
X-Robots-Tag:noindex
X-PUBLISHED-TTL:PT1H
BEGIN:VTIMEZONE
TZID:Europe/Madrid
BEGIN:DAYLIGHT
TZOFFSETFROM:+0100
TZOFFSETTO:+0200
TZNAME:CEST
DTSTART:20240331T010000
END:DAYLIGHT
BEGIN:STANDARD
TZOFFSETFROM:+0200
TZOFFSETTO:+0100
TZNAME:CET
DTSTART:20241027T010000
END:STANDARD
BEGIN:DAYLIGHT
TZOFFSETFROM:+0100
TZOFFSETTO:+0200
TZNAME:CEST
DTSTART:20250330T010000
END:DAYLIGHT
BEGIN:STANDARD
TZOFFSETFROM:+0200
TZOFFSETTO:+0100
TZNAME:CET
DTSTART:20251026T010000
END:STANDARD
BEGIN:DAYLIGHT
TZOFFSETFROM:+0100
TZOFFSETTO:+0200
TZNAME:CEST
DTSTART:20260329T010000
END:DAYLIGHT
BEGIN:STANDARD
TZOFFSETFROM:+0200
TZOFFSETTO:+0100
TZNAME:CET
DTSTART:20261025T010000
END:STANDARD
END:VTIMEZONE
BEGIN:VEVENT
DTSTART;TZID=Europe/Madrid:20250912T190000
DTEND;TZID=Europe/Madrid:20250914T235900
DTSTAMP:20260426T011429
CREATED:20250619T171500Z
LAST-MODIFIED:20250915T112150Z
UID:10004340-1757703600-1757894340@www.periodicohortaleza.org
SUMMARY:Fiestas patronales del pueblo de Hortaleza 2025
DESCRIPTION:Las fiestas patronales del pueblo de Hortaleza\, dedicadas a la Virgen de la Soledad y organizadas por la asociación Pueblo de Hortaleza\, se celebran este año desde el viernes 12 al domingo 14 de septiembre con la placita de los jardines Josefa Arquero de la calle Mar de Japón como epicentro de la verbena y donde habrá tres noches consecutivas de orquesta en directo. Este año\, con motivo del 75 aniversario de la anexión de Hortaleza a Madrid\, la Junta Municipal colabora con la programación de los festejos aportando algunas actividades. \nLas fiestas arrancarán el viernes con la tradicional ofenda floral a la Virgen de la Soledad en la plaza de la Iglesia para acabar la noche con baile y orquesta en los jardines Josefa Arquero tras la actuación para los peques de Tapa\, Tapita y Tapón. El sábado concentra el grueso de actividades de las fiestas\, con pasacalles\, chocolatada y actividades infantiles por la mañana\, mientras la verbena vuelve por la noche. El domingo\, como manda la tradición\, se celebra al mediodía la misa y posterior procesión de la Virgen de la Soledad\, seguida de actividades gratuitas para el vecindario y una tercera noche de orquesta para culminar las fiestas. \nVIERNES 12 DE SEPTIEMBRE \n\n19:00 horas: Ofrenda floral a la patrona del pueblo de Hortaleza la Virgen de la Soledad en la plaza de la Iglesia.\n19:45 horas: Actuación infantil a cargo de Tapa\, Tapita y Tapón en el jardín Josefa Arquero.\n21:00 horas: Merienda para los/as mayores en la plaza de la Iglesia.\n22:00 horas: Baile con orquesta en directo en el jardín Josefa Arquero.\n\nSÁBADO 13 DE SEPTIEMBRE \n\n09:00 horas: Pasacalles con charanga por el casco histórico del pueblo de Hortaleza.\n10:00 horas: Chocolate con churros en el jardín Josefa Arquero.\n10:30 horas: Magnífico encierro especial para niños y niñas desde la asociación Pueblo de Hortaleza\, en la plaza del Doctor Calvo Pérez hasta en el jardín Josefa Arquero.\n12.00 horas: Actuación infantil de ‘Piratas a la mar’ con fiesta de la espuma en el jardín Josefa Arquero.\n19:00 horas: Actuaciones de baile ofrecido por las alumnas de la asociación Pueblo de Hortaleza en el jardín Josefa Arquero.\n20:00 horas: Discoteca móvil familiar con speaker animador en el jardín Josefa Arquero.\n22:00 horas: Baile con orquesta en directo en el jardín Josefa Arquero.\n24:00 horas: Lanzamiento de mini fuegos artificiales infantiles en el jardín Josefa Arquero.\n22:00 horas: Continuación del baile con orquesta en directo en el jardín Josefa Arquero.\n\nDOMINGO 14 DE SEPTIEMBRE \n\n11:00 horas: Pasacalles por el casco histórico del pueblo de Hortaleza.\n12:00 horas: Misa en honor a la patrona del pueblo de Hortaleza la Virgen de la Soledad. A continuación\, procesión por las calles del casco antiguo del pueblo de Hortaleza. Después\, canto de la salve en la parroquia de San Matías y limonada con patatas fritas en el jardín Josefa Arquero.\n18:30 horas: Concierto infantil de Raul Charlo en el jardín Josefa Arquero.\n20:00 horas: Baile con orquesta en directo en el jardín Josefa Arquero.\n\nProcesión de la Virgen de la Soledad a su paso por la calle Mar de Japón. PHOTOLEZA
URL:https://www.periodicohortaleza.org/evento/fiestas-patronales-del-pueblo-de-hortaleza-2025/
LOCATION:Jardines Josefa Arquero
CATEGORIES:Cultura,ocio infantil
ATTACH;FMTTYPE=image/jpeg:https://www.periodicohortaleza.org/wp-content/uploads/2022/10/DSCF6784.jpg
END:VEVENT
END:VCALENDAR